BEGIN:VCALENDAR
VERSION:2.0
PRODID:-//InvisionCommunity Events 4.7.14//EN
METHOD:PUBLISH
CALSCALE:GREGORIAN
REFRESH-INTERVAL:PT15M
X-PUBLISHED-TTL:PT15M
X-WR-CALNAME:The Elder Scrolls Online
NAME:The Elder Scrolls Online
BEGIN:VTIMEZONE
TZID:Europe/London
TZURL:http://tzurl.org/zoneinfo/Europe/London
X-LIC-LOCATION:Europe/London
BEGIN:DAYLIGHT
TZOFFSETFROM:+0000
TZOFFSETTO:+0100
TZNAME:BST
DTSTART:20230326T020000Z
RRULE:FREQ=YEARLY;BYMONTH=3;BYDAY=-1SU
END:DAYLIGHT
BEGIN:STANDARD
TZOFFSETFROM:+0100
TZOFFSETTO:+0000
TZNAME:GMT
DTSTART:20231029T020000Z
RRULE:FREQ=YEARLY;BYMONTH=10;BYDAY=-1SU
END:STANDARD
END:VTIMEZONE
BEGIN:VEVENT
SUMMARY:[TESO] Обучающее Ветера
	нское испытание Клаудрест +1 (vCR+1)
DTSTAMP:20230226T075816Z
SEQUENCE:0
UID:11051-1-afb15bc42254ad5fb0481ce5e9c8144d@forum.bandits-clan.ru
ORGANIZER;CN="elqwero":web@bandits-clan.ru
DESCRIPTION:\n	Приг
	лаша
	ю всех ж
	елающих обучат
	ься прохождению
	 Ветеранского испыта
	ния Клаудрест +1.\n\n\n\n
		Сбор начинается
	 за 15 минут до нач
	ала. Если Вы пр
	ишли после врем
	ени начала рейда\, то
	 ваше место может 
	занят другой игро
	к.\n\n\n\n	Обязате
	льные аддон
	ы необходимо нас
	троить до начала событ
	ия. Рейд будет длится 
	до 3 часов\n\n\n\n	В 
	рейд по зап
	иси берутс
	я от звани
	я мастер бандит
	. Остальные рассм
	атриваются в индивидуальн
	ом порядке.\n\n\n\n	Необходимый состав:\
	n\n\n\n	\n		3 Танка\n	\n	\n		2 Лекаря\n	\n	\n		7 Б
	ойцов\n	\n\n\n\n	Обязательные аддоны:\n\n\n\n	\n		R
	aidNotifier (https://www.esoui.com/downloads/info1355-RaidNotifierUpdated.
	html)\n	\n	\n		OdySupportIcons (https://www.esoui.com/downloads/info2834-O
	dySupportIcons-GroupRoleIconsMore.html)\n	\n	\n		Hodor Reflexes (
	Необходим для горна и колосса) (https://www.esoui
	.com/downloads/info2311-HodorReflexes-DPSUltimateShare.html)\n	\n	\n		Code
	's Combat Alerts (https://www.esoui.com/downloads/info1855-CodesCombatAler
	ts.html)\n	\n	\n		HowToCloudrest (https://www.esoui.com/downloads/info3497
	-HowToCloudrest.html)\n	\n	\n		CrutchAlerts (https://www.esoui.com/downloa
	ds/info3137-CrutchAlerts.html)\n	\n	\n		Improved Death Recap (https://www.
	esoui.com/downloads/info1319-ImprovedDeathRecap.html)(для танков)
	\n	\n\n\n\n	Рекомендуемые сборки:\n\n\n\n	\n	
		Для ДД:\n	\n\n\n\n	\n		Играть ук
	азанными ниже класс
	ами\n	\n	\n		Иметь 
	сборку с даль
	ними атаками и скилам
	и. Никаких двуручник
	ов\, кинжалов и прочег
	о\n	\n	\n		Для некромантов и
	меть сборку каталист\,
	 алкош/мартиал\n	\n	\n		Для 
	ДК иметь сборку алкош\, энкратис\, 
	дзен\n	\n\n\n\n	\n		Для хилов\n	\n\n
	\n\n	\n		Играть указанными ни
	же классами\n	\n	\n		Найт блей
	д - Мародер\, СПК и симфон
	ия\n	\n	\n		Варден - Йорвуль
	д\, авантюрист и наплечник разруше
	ния\n	\n\n\n\n	\n		Для танков\n	\n\n
	\n\n	\n		Играть указанными н
	иже классами\n	\n	\n		М
	ейн(некр) - При
	ливная верх\, ёлнакри
	н/саксхлил низ\, архидру
	ид/сотрясатель\n	\n	\n		
	Офф(дк) - Перламутр\, мощ
	ный натиск\, энкратис/сотр
	ясатель\n	\n\n\n\n	Требования для участи
	я:\n\n\n\n	\n		Звание Master Bandit/Мастер Банд
	ит\n	\n	\n		Discord и наличие микрофона\n	
	\n	\n		Табард гильдии Daggerfall Bandits / Bandits Clan / Ban
	dits Force\n	\n	\n		Приобретенное дополнение Sum
	merset или ESO Plus\n	\n	\n		Прочитать оп
	исание события\n	\
	n\n\n\n	Для подтвержд
	ения участия необход
	имо отметиться в календаре:\
	n\n\n\n	\n		Нажать кнопку Пойду
	\n	\n	\n		Указать свою роль и ID
	 в комментариях\n	\n	\n		Осозна
	ть\, что рейд длится 3 ч
	аса\n	\n	\n		Если по к
	аким-то причи
	нам не получи
	тся прийти\, отписаться в 
	комментариях\, изменив свое сообщение\n	\n
	\n
DTSTART:20230305T110000Z
DTEND:20230305T110500Z
ATTENDEE;CN="elqwero";CUTYPE=INDIVIDUAL;PARTSTAT=ACCEPTED:we
	b@bandits-clan.ru
ATTENDEE;CN="TimkaS";CUTYPE=INDIVIDUAL;PARTSTAT=ACCEPTED:web
	@bandits-clan.ru
ATTENDEE;CN="vegasmoon";CUTYPE=INDIVIDUAL;PARTSTAT=ACCEPTED:
	web@bandits-clan.ru
ATTENDEE;CN="Fillith1556";CUTYPE=INDIVIDUAL;PARTSTAT=ACCEPTE
	D:web@bandits-clan.ru
ATTENDEE;CN="Azunamadd";CUTYPE=INDIVIDUAL;PARTSTAT=ACCEPTED:
	web@bandits-clan.ru
ATTENDEE;CN="HolYBaaL";CUTYPE=INDIVIDUAL;PARTSTAT=ACCEPTED:w
	eb@bandits-clan.ru
ATTENDEE;CN="MacabR_e";CUTYPE=INDIVIDUAL;PARTSTAT=ACCEPTED:w
	eb@bandits-clan.ru
ATTENDEE;CN="YuraDeathEater";CUTYPE=INDIVIDUAL;PARTSTAT=ACCE
	PTED:web@bandits-clan.ru
ATTENDEE;CN="Deferdo";CUTYPE=INDIVIDUAL;PARTSTAT=ACCEPTED:we
	b@bandits-clan.ru
ATTENDEE;CN="Cuarsith";CUTYPE=INDIVIDUAL;PARTSTAT=ACCEPTED:w
	eb@bandits-clan.ru
ATTENDEE;CN="Heymexa";CUTYPE=INDIVIDUAL;PARTSTAT=ACCEPTED:we
	b@bandits-clan.ru
ATTENDEE;CN="SchweineKotelett";CUTYPE=INDIVIDUAL;PARTSTAT=AC
	CEPTED:web@bandits-clan.ru
END:VEVENT
END:VCALENDAR
