BEGIN:VCALENDAR
VERSION:2.0
PRODID:-//InvisionCommunity Events 4.7.14//EN
METHOD:PUBLISH
CALSCALE:GREGORIAN
REFRESH-INTERVAL:PT15M
X-PUBLISHED-TTL:PT15M
X-WR-CALNAME:The Elder Scrolls Online
NAME:The Elder Scrolls Online
BEGIN:VTIMEZONE
TZID:Europe/London
TZURL:http://tzurl.org/zoneinfo/Europe/London
X-LIC-LOCATION:Europe/London
BEGIN:DAYLIGHT
TZOFFSETFROM:+0000
TZOFFSETTO:+0100
TZNAME:BST
DTSTART:20230326T020000Z
RRULE:FREQ=YEARLY;BYMONTH=3;BYDAY=-1SU
END:DAYLIGHT
BEGIN:STANDARD
TZOFFSETFROM:+0100
TZOFFSETTO:+0000
TZNAME:GMT
DTSTART:20231029T020000Z
RRULE:FREQ=YEARLY;BYMONTH=10;BYDAY=-1SU
END:STANDARD
END:VTIMEZONE
BEGIN:VEVENT
SUMMARY:[TESO] (Фарм) Ветеранский Клаудрест 
	+1 (vCR+1)
DTSTAMP:20230219T191028Z
SEQUENCE:0
UID:11042-1-afb15bc42254ad5fb0481ce5e9c8144d@forum.bandits-clan.ru
ORGANIZER;CN="c@6aka":web@bandits-clan.ru
DESCRIPTION:\n	Пригла
	шаю всех желаю
	щих пофармить Ветер
	анское испытание Кл
	аудрест +1 (Галенве)
	\n\n\n\n	Обязательные 
	аддоны необходимо настроить 
	до начала события.\n\n\n\n	РТ 2 часа.\n\n\n
	\n	\n		3 Танка\n	\n	\n		2 Лекаря\n	\n	\n		7 Б
	ойцов\n	\n\n\n\n	Обязательные аддоны:\n\n\n\n	\n		R
	aidNotifier (https://www.esoui.com/downloads/info1355-RaidNotifierUpdated.
	html)\n	\n	\n		OdySupportIcons (https://www.esoui.com/downloads/info2834-O
	dySupportIcons-GroupRoleIconsMore.html). Или 
	аналогичны
	е аддоны (д
	обавляющи
	е иконки ро
	лей над головой п
	ерсонажей и увеличенную иконку 
	короны(рейд-лидера))\n	\n	\n		Hodo
	r Reflexes (Необходим для горна и колосса) (https
	://www.esoui.com/downloads/info2311-HodorReflexes-DPSUltimateShare.html)\n
		\n	\n		Code's Combat Alerts (https://www.esoui.com/downloads/info1855-Cod
	esCombatAlerts.html)\n	\n	\n		HowToCloudrest (https://www.esoui.com/downlo
	ads/info3497-HowToCloudrest.html)\n	\n	\n		Improved Death Recap (https://w
	ww.esoui.com/downloads/info1319-ImprovedDeathRecap.html)\n	\n	\n		CrutchAl
	erts (https://www.esoui.com/downloads/info3137-CrutchAlerts.html)\n	\n\n\n
	\n	Требования для участия:\n\n\n\n	\
	n		Звание Veteran Bandit/Ветеран Бандит и вы
	ше.\n	\n	\n		ДПС от 90к\n	\n	\n		Пройденн
	ый триал с гильдией\n	\n	\n		Disc
	ord и наличие микрофона\n	\n	\n		Та
	бард одной из гильдий Bandits \n	\
	n\n\n\n	Необходимые сеты\n\n\n\n	Дл
	я ДД\n\n\n\n	\n		Полностью ренж сб
	орка и парс на ней\n	\n\n\n\n	Для х
	илов\n\n\n\n	\n		Мародер\, СПК и
	 симфония\n	\n	\n		Йорвульд\
	, авантюрист и наплечник разруш
	ения\n	\n\n\n\n	Для танков\n\n\n\
	n	\n		Мейн - Приливна
	я волна верх\, коготь 
	йолнакрина низ\, сотр
	ясатель\n	\n	\n		Мейн 
	- Приливная волна верх\
	, коготь йолнакрина ни
	з\, сотрясатель\n	\n	\n
			Офф - Перламутровый 
	оберег верх\, мощный н
	атиск низ\, сотрясат
	ель\n	\n\n\n\n	Для
	 подтверждения участ
	ия необходимо отметиться
	 в календаре:\n\n\n\n	\n		Нажа
	ть кнопку Пойду\n	\n	\n		Указ
	ать свою роль и ID в ком
	ментариях\n	\n	\n		Е
	сли по каким-т
	о причинам не 
	получится прийти
	\, отписаться в комментариях
	\, изменив свое сообщение\n	
	\n\n\n\n	\n\n	Это не обу
	чающий забег
	\,  предполага
	ется что вы в 
	достаточной
	 мере изучили м
	еханики\, чтобы
	 падать не от
	 отсутствия 
	мастерства\
	, а только о
	т неудачно 
	сложившихся
	 обстоятельст
	в. На усмотрен
	ие РЛа кандида
	ты в рейд могут
	 быть не допу
	щены к собы
	тию или удал
	ены из него в случае несоответс
	твия требуемому уровню навыка.\n\n
DTSTART:20230225T140000Z
ATTENDEE;CN="c@6aka";CUTYPE=INDIVIDUAL;PARTSTAT=ACCEPTED:web
	@bandits-clan.ru
ATTENDEE;CN="elqwero";CUTYPE=INDIVIDUAL;PARTSTAT=ACCEPTED:we
	b@bandits-clan.ru
ATTENDEE;CN="vegasmoon";CUTYPE=INDIVIDUAL;PARTSTAT=ACCEPTED:
	web@bandits-clan.ru
ATTENDEE;CN="TimkaS";CUTYPE=INDIVIDUAL;PARTSTAT=ACCEPTED:web
	@bandits-clan.ru
ATTENDEE;CN="Fillith1556";CUTYPE=INDIVIDUAL;PARTSTAT=ACCEPTE
	D:web@bandits-clan.ru
ATTENDEE;CN="iRaa58";CUTYPE=INDIVIDUAL;PARTSTAT=ACCEPTED:web
	@bandits-clan.ru
ATTENDEE;CN="OctopusTeso";CUTYPE=INDIVIDUAL;PARTSTAT=ACCEPTE
	D:web@bandits-clan.ru
ATTENDEE;CN="Heymexa";CUTYPE=INDIVIDUAL;PARTSTAT=ACCEPTED:we
	b@bandits-clan.ru
ATTENDEE;CN="Shtille";CUTYPE=INDIVIDUAL;PARTSTAT=ACCEPTED:we
	b@bandits-clan.ru
ATTENDEE;CN="ned880";CUTYPE=INDIVIDUAL;PARTSTAT=ACCEPTED:web
	@bandits-clan.ru
ATTENDEE;CN="Shinegid";CUTYPE=INDIVIDUAL;PARTSTAT=ACCEPTED:w
	eb@bandits-clan.ru
END:VEVENT
END:VCALENDAR
