BEGIN:VCALENDAR
VERSION:2.0
PRODID:-//InvisionCommunity Events 4.7.14//EN
METHOD:PUBLISH
CALSCALE:GREGORIAN
REFRESH-INTERVAL:PT15M
X-PUBLISHED-TTL:PT15M
X-WR-CALNAME:The Elder Scrolls Online
NAME:The Elder Scrolls Online
BEGIN:VTIMEZONE
TZID:Europe/London
TZURL:http://tzurl.org/zoneinfo/Europe/London
X-LIC-LOCATION:Europe/London
BEGIN:DAYLIGHT
TZOFFSETFROM:+0000
TZOFFSETTO:+0100
TZNAME:BST
DTSTART:20230326T020000Z
RRULE:FREQ=YEARLY;BYMONTH=3;BYDAY=-1SU
END:DAYLIGHT
BEGIN:STANDARD
TZOFFSETFROM:+0100
TZOFFSETTO:+0000
TZNAME:GMT
DTSTART:20231029T020000Z
RRULE:FREQ=YEARLY;BYMONTH=10;BYDAY=-1SU
END:STANDARD
END:VTIMEZONE
BEGIN:VEVENT
SUMMARY:[TESO] (Фарм) Ветеранский Риф Злов
	ещих Парусов (vDSR)
DTSTAMP:20230218T212417Z
SEQUENCE:0
UID:11029-1-afb15bc42254ad5fb0481ce5e9c8144d@forum.bandits-clan.ru
ORGANIZER;CN="c@6aka":web@bandits-clan.ru
DESCRIPTION:\n	Пригла
	шаю всех жел
	ающих пофармить 
	Ветеранское испы
	тание Риф Зловещ
	их Парусов.\n\n\n
	\n	Обязательные аддо
	ны необходимо настроит
	ь до начала события.\n\n\
	n\n	РТ 2 часа. Стремимся к 
	2м забегам. Можем задержат
	ься минут на 15-20\n\n\n\n	Необходимый сос
	тав:\n\n\n\n	\n		2 Танка\n	\n	\n		2 Лекаря\n	\n	\n		
	8 Бойцов\n	\n\n\n\n	Обязательные аддоны:\n\n\n\n	\
	n		RaidNotifier (https://www.esoui.com/downloads/info1355-RaidNotifierUpda
	ted.html)\n	\n	\n		OdySupportIcons (https://www.esoui.com/downloads/info28
	34-OdySupportIcons-GroupRoleIconsMore.html). Или 
	аналогичны
	е аддоны (д
	обавляющи
	е иконки ро
	лей над головой п
	ерсонажей и увеличенную иконку 
	короны(рейд-лидера))\n	\n	\n		Hodo
	r Reflexes (Необходим для горна и колосса) (https
	://www.esoui.com/downloads/info2311-HodorReflexes-DPSUltimateShare.html)\n
		\n	\n		Code's Combat Alerts (https://www.esoui.com/downloads/info1855-Cod
	esCombatAlerts.html)\n	\n	\n		Qcells Dreadssail Reef Helper (https://www.e
	soui.com/downloads/info3354-QcellsDreadsailReefHelper.html)\n	\n	\n		Impro
	ved Death Recap (https://www.esoui.com/downloads/info1319-ImprovedDeathRec
	ap.html)\n	\n\n\n\n	Требования для участия:\n\n\
	n\n	\n		Звание Veteran Bandit/Ветеран 
	Бандит и выше.\n	\n	\n		Пройденный
	 триал с гильдией\n	\n	\n		Discor
	d и наличие микрофона\n	\n	\n		Таба
	рд одной из гильдий Bandits \n	\n
	\n\n\n	Необходимые сеты\n\n\n\n	Для 
	хилов\n\n\n\n	\n		Мародер\, СПК 
	и симфония\n	\n	\n		Йорвуль
	д\, авантюрист и наплечник разру
	шения\n	\n\n\n\n	Для танков\n\n\n
	\n	\n		Мейн - Приливн
	ая волна верх\, коготь 
	йолнакрина низ\, сотря
	сатель\n	\n	\n		Офф - П
	ерламутровый обере
	г верх\, мощный натиск 
	низ\, энкратис/сотр
	ясатель\n	\n\n\n\n
		Для подтверждения уч
	астия необходимо отме
	титься в календаре:\n\n\n\n	\
	n		Нажать кнопку Пойду\n	\n
		\n		Указать свою роль и ID
	 в комментариях\n	\n	\
	n		Если по каки
	м-то причинам 
	не получится п
	рийти\, отписаться в комме
	нтариях\, изменив свое сооб
	щение\n	\n\n\n\n	\n\n	Это н
	е обучающий 
	забег\,  пред
	полагается чт
	о вы в достато
	чной мере изучи
	ли механики\, ч
	тобы падать 
	не от отсут
	ствия мастер
	ства\, а толь
	ко от неуда
	чно сложивш
	ихся обстоят
	ельств. На ус
	мотрение РЛа
	 кандидаты в ре
	йд могут быть
	 не допущены
	 к событию и
	ли удалены из него
	 в случае несоответствия требуе
	мому уровню навыка.\n\n
DTSTART:20230219T173000Z
ATTENDEE;CN="Ulfhedhnar";CUTYPE=INDIVIDUAL;PARTSTAT=ACCEPTED
	:web@bandits-clan.ru
ATTENDEE;CN="Stonechump";CUTYPE=INDIVIDUAL;PARTSTAT=ACCEPTED
	:web@bandits-clan.ru
ATTENDEE;CN="c@6aka";CUTYPE=INDIVIDUAL;PARTSTAT=ACCEPTED:web
	@bandits-clan.ru
ATTENDEE;CN="vegasmoon";CUTYPE=INDIVIDUAL;PARTSTAT=ACCEPTED:
	web@bandits-clan.ru
ATTENDEE;CN="moonston";CUTYPE=INDIVIDUAL;PARTSTAT=ACCEPTED:w
	eb@bandits-clan.ru
ATTENDEE;CN="Surt";CUTYPE=INDIVIDUAL;PARTSTAT=ACCEPTED:web@b
	andits-clan.ru
ATTENDEE;CN="ned880";CUTYPE=INDIVIDUAL;PARTSTAT=ACCEPTED:web
	@bandits-clan.ru
ATTENDEE;CN="elqwero";CUTYPE=INDIVIDUAL;PARTSTAT=ACCEPTED:we
	b@bandits-clan.ru
ATTENDEE;CN="Simvol";CUTYPE=INDIVIDUAL;PARTSTAT=ACCEPTED:web
	@bandits-clan.ru
ATTENDEE;CN="Iglair";CUTYPE=INDIVIDUAL;PARTSTAT=ACCEPTED:web
	@bandits-clan.ru
ATTENDEE;CN="Heymexa";CUTYPE=INDIVIDUAL;PARTSTAT=ACCEPTED:we
	b@bandits-clan.ru
ATTENDEE;CN="LawOfJulia";CUTYPE=INDIVIDUAL;PARTSTAT=ACCEPTED
	:web@bandits-clan.ru
ATTENDEE;CN="АндрейАгур";CUTYPE=INDIVIDUAL;PARTSTA
	T=ACCEPTED:web@bandits-clan.ru
END:VEVENT
END:VCALENDAR
