BEGIN:VCALENDAR
VERSION:2.0
PRODID:-//InvisionCommunity Events 4.7.14//EN
METHOD:PUBLISH
CALSCALE:GREGORIAN
REFRESH-INTERVAL:PT15M
X-PUBLISHED-TTL:PT15M
X-WR-CALNAME:The Elder Scrolls Online
NAME:The Elder Scrolls Online
BEGIN:VTIMEZONE
TZID:Europe/London
TZURL:http://tzurl.org/zoneinfo/Europe/London
X-LIC-LOCATION:Europe/London
BEGIN:DAYLIGHT
TZOFFSETFROM:+0000
TZOFFSETTO:+0100
TZNAME:BST
DTSTART:20230326T020000Z
RRULE:FREQ=YEARLY;BYMONTH=3;BYDAY=-1SU
END:DAYLIGHT
BEGIN:STANDARD
TZOFFSETFROM:+0100
TZOFFSETTO:+0000
TZNAME:GMT
DTSTART:20231029T020000Z
RRULE:FREQ=YEARLY;BYMONTH=10;BYDAY=-1SU
END:STANDARD
END:VTIMEZONE
BEGIN:VEVENT
SUMMARY:[TESO] Обучающее вете
	ранское испытание Каменная Роща (vRG)
DTSTAMP:20230212T172014Z
SEQUENCE:0
UID:11000-1-afb15bc42254ad5fb0481ce5e9c8144d@forum.bandits-clan.ru
ORGANIZER;CN="Satius":web@bandits-clan.ru
DESCRIPTION:\n	При сборе п
	риоритет у запис
	авшихся. Сбор начинается
	 за 15 минут до начала события\
	, то есть в 19:15.\n\n\n\n	Если
	 вы записались\, но не п
	ришли в дискорд до н
	ачала сбора к 19:15
	\, то ваше место
	 может занять любой ж
	елающий по очереди запи
	си и из чата гильдии.\n\n\
	n\n	Если уже записано 
	12 игроков\, или же
	 места вашей рол
	и заняты\, всё ра
	вно записывайт
	есь\, так как лю
	ди могут не пр
	ийти и тогда м
	есто достанет
	ся вам в поряд
	ке очереди или же мо
	жет кто-то будет гот
	ов поменяться ролью.\
	n\n\n\n	Внимание! Собы
	тие не состоится\, есл
	и в записи будет меньш
	е 6 желающих.\n\n\n\n	По
	жалуйста\, если
	 вы записались\
	, в комментарии 
	к событию напи
	шите в какой роли 
	вы хотите пойти и
	 в какой можете (тан
	х/хил/дд) - но тольк
	о роли с аттестацией\, а
	 так же укажите свой ник
	 в игре.\n\n\n\n	Внимание! 
	Триал обучающий на
	 2 часа. Это значит\
	, что он нацелен н
	е на прохождение\,
	 а на обучение м
	еханикам. Это зн
	ачит\, что наша цель не
	 пройти полностью триал\, а научит
	ься.\n\n\n\n	Требования:\n\n\n\n	\n		160
	 Очков Героя\n	\n	\n
			Гильдейски
	й ранг Бандит 
	и выше (то есть сданн
	ая аттестация в соответствующей роли)
	\n	\n	\n		Аддон Qcell's Rockgrove Helper\n	\n	\n		Discord\n	\n	
	\n		Табард гильдии\n	\n	\n		Гла
	ва Черный Лес или подписка\n	\n\n\n\n	Сос
	тав:\n\n\n\n	\n		2 танка\n	\n	\n		2 целителя\n	\n	\n	
		8 дамагера\n	\n\n
DTSTART:20230218T163000Z
ATTENDEE;CN="Satius";CUTYPE=INDIVIDUAL;PARTSTAT=ACCEPTED:web
	@bandits-clan.ru
ATTENDEE;CN="Kubik";CUTYPE=INDIVIDUAL;PARTSTAT=ACCEPTED:web@
	bandits-clan.ru
ATTENDEE;CN="vadimborovec1980";CUTYPE=INDIVIDUAL;PARTSTAT=AC
	CEPTED:web@bandits-clan.ru
ATTENDEE;CN="vegasmoon";CUTYPE=INDIVIDUAL;PARTSTAT=ACCEPTED:
	web@bandits-clan.ru
ATTENDEE;CN="Кошара";CUTYPE=INDIVIDUAL;PARTSTAT=ACCEPT
	ED:web@bandits-clan.ru
ATTENDEE;CN="Илья1";CUTYPE=INDIVIDUAL;PARTSTAT=ACCEPTED:
	web@bandits-clan.ru
ATTENDEE;CN="dragot";CUTYPE=INDIVIDUAL;PARTSTAT=ACCEPTED:web
	@bandits-clan.ru
ATTENDEE;CN="Cmar4ok";CUTYPE=INDIVIDUAL;PARTSTAT=ACCEPTED:we
	b@bandits-clan.ru
ATTENDEE;CN="Iglair";CUTYPE=INDIVIDUAL;PARTSTAT=ACCEPTED:web
	@bandits-clan.ru
ATTENDEE;CN="Rusovek";CUTYPE=INDIVIDUAL;PARTSTAT=ACCEPTED:we
	b@bandits-clan.ru
ATTENDEE;CN="Stonechump";CUTYPE=INDIVIDUAL;PARTSTAT=ACCEPTED
	:web@bandits-clan.ru
END:VEVENT
END:VCALENDAR
