BEGIN:VCALENDAR
VERSION:2.0
PRODID:-//InvisionCommunity Events 4.7.14//EN
METHOD:PUBLISH
CALSCALE:GREGORIAN
REFRESH-INTERVAL:PT15M
X-PUBLISHED-TTL:PT15M
X-WR-CALNAME:The Elder Scrolls Online
NAME:The Elder Scrolls Online
BEGIN:VTIMEZONE
TZID:Europe/London
TZURL:http://tzurl.org/zoneinfo/Europe/London
X-LIC-LOCATION:Europe/London
BEGIN:DAYLIGHT
TZOFFSETFROM:+0000
TZOFFSETTO:+0100
TZNAME:BST
DTSTART:20230326T020000Z
RRULE:FREQ=YEARLY;BYMONTH=3;BYDAY=-1SU
END:DAYLIGHT
BEGIN:STANDARD
TZOFFSETFROM:+0100
TZOFFSETTO:+0000
TZNAME:GMT
DTSTART:20231029T020000Z
RRULE:FREQ=YEARLY;BYMONTH=10;BYDAY=-1SU
END:STANDARD
END:VTIMEZONE
BEGIN:VEVENT
SUMMARY:[TESO] Нормальное испытание Клау
	дрест +0 (nCR+0)
DTSTAMP:20230208T060208Z
SEQUENCE:0
UID:10983-1-afb15bc42254ad5fb0481ce5e9c8144d@forum.bandits-clan.ru
ORGANIZER;CN="Климентий":web@bandits-clan.ru
DESCRIPTION:\n	\n		\n			При сбо
	ре приоритет у
	 записавшихся. Е
	сли вы записалис
	ь\, но не пришли
	 до начала события\,
	 ваше место может занять любой жел
	ающий из чата.\n		\n	\n\n\n\n	\n		\n			Требования:\n	
		\n\n		\n			\n				160 Очков Героя\n			\n			\n	
				Гильдейская накидка\n			\n			\n				Discor
	d\n			\n			\n				Игровое дополнение 
	Саммерсет или подписка ESO+\n			\
	n			\n				Наличие опыта неважно \n			\n		\n\n		\
	n			Состав:\n		\n\n		\n			\n				2 танк\n			\n			\n				2 ле
	каря\n			\n			\n				8 бойцов\n			\n		\n	\n\n
DTSTART:20230209T180000Z
DTEND:20230209T180500Z
ATTENDEE;CN="sda1964";CUTYPE=INDIVIDUAL;PARTSTAT=ACCEPTED:we
	b@bandits-clan.ru
END:VEVENT
END:VCALENDAR
