BEGIN:VCALENDAR
VERSION:2.0
PRODID:-//InvisionCommunity Events 4.7.14//EN
METHOD:PUBLISH
CALSCALE:GREGORIAN
REFRESH-INTERVAL:PT15M
X-PUBLISHED-TTL:PT15M
X-WR-CALNAME:The Elder Scrolls Online
NAME:The Elder Scrolls Online
BEGIN:VTIMEZONE
TZID:Europe/London
TZURL:http://tzurl.org/zoneinfo/Europe/London
X-LIC-LOCATION:Europe/London
BEGIN:DAYLIGHT
TZOFFSETFROM:+0000
TZOFFSETTO:+0100
TZNAME:BST
DTSTART:20230326T020000Z
RRULE:FREQ=YEARLY;BYMONTH=3;BYDAY=-1SU
END:DAYLIGHT
BEGIN:STANDARD
TZOFFSETFROM:+0100
TZOFFSETTO:+0000
TZNAME:GMT
DTSTART:20231029T020000Z
RRULE:FREQ=YEARLY;BYMONTH=10;BYDAY=-1SU
END:STANDARD
END:VTIMEZONE
BEGIN:VEVENT
SUMMARY:[TESO] Ветеранское испытание Эги
	да Кин (vKA)(фарм)
DTSTAMP:20230207T231731Z
SEQUENCE:0
UID:10982-1-afb15bc42254ad5fb0481ce5e9c8144d@forum.bandits-clan.ru
ORGANIZER;CN="elqwero":web@bandits-clan.ru
DESCRIPTION:\n	Пригл
	ашаю всех
	 желающих по
	фармить Ветеранское
	 испытание Эгида Кин. Пл
	анируется 2-3 забега\n\n\
	n\n	Сбор начинается
	 за 15 минут до нач
	ала. Если Вы пр
	ишли после врем
	ени начала рейда\, то
	 ваше место может 
	занят другой игро
	к.\n\n\n\n	Обязательн
	ые аддоны необход
	имо настроить до начала событи
	я.\n\n\n\n	Необходимый состав:\n\n\n\n	\n		2 
	Танка\n	\n	\n		2 Лекаря\n	\n	\n		8 Бойц
	ов\n	\n\n\n\n	Обязательные аддоны:\n\n\n\n	\n		RaidNot
	ifier (https://www.esoui.com/downloads/info1355-RaidNotifierUpdated.html)\
	n	\n	\n		OdySupportIcons (https://www.esoui.com/downloads/info2834-OdySupp
	ortIcons-GroupRoleIconsMore.html). Или а
	налогичные
	 аддоны (до
	бавляющие 
	иконки рол
	ей над головой пер
	сонажей и увеличенную иконку коро
	ны(рейд-лидера))\n	\n	\n		Hodor Refle
	xes (Необходим для горна и колосса) (https://www.
	esoui.com/downloads/info2311-HodorReflexes-DPSUltimateShare.html)\n	\n	\n	
		Code's Combat Alerts (https://www.esoui.com/downloads/info1855-CodesComba
	tAlerts.html)\n	\n	\n		BSCs-HowToKynesAegis (https://www.esoui.com/downloa
	ds/info3442-BSCs-HowToKynesAegis.html)\n	\n\n\n\n	Треб
	ования для участия:\n\n\n\n	\n		Звание 
	Veteran Bandit/Ветеран Бандит\n	\n	\n
			Пройденный триал vKA с гильдией
	\n	\n	\n		Discord и наличие микрофона\n	\n	\
	n		Табард гильдии Daggerfall Bandits / Bandits Clan / Bandits
	 Force\n	\n	\n		Приобретенное дополнение Greymo
	or или ESO Plus\n	\n\n\n\n	
	Для подтверждения уч
	астия необходимо отме
	титься в календаре:\n\n\n\n	\
	n		Нажать кнопку Пойду\n	\n
		\n		Указать свою роль и ID
	 в комментариях\n	\n	\
	n		Если по каки
	м-то причинам 
	не получится п
	рийти\, отписаться в комментариях\,
	 изменив свое сообщение\n	\n\n
DTSTART:20230211T110000Z
DTEND:20230211T110500Z
ATTENDEE;CN="wraanger";CUTYPE=INDIVIDUAL;PARTSTAT=ACCEPTED:w
	eb@bandits-clan.ru
ATTENDEE;CN="moonston";CUTYPE=INDIVIDUAL;PARTSTAT=ACCEPTED:w
	eb@bandits-clan.ru
ATTENDEE;CN="c@6aka";CUTYPE=INDIVIDUAL;PARTSTAT=ACCEPTED:web
	@bandits-clan.ru
ATTENDEE;CN="Hvarna";CUTYPE=INDIVIDUAL;PARTSTAT=ACCEPTED:web
	@bandits-clan.ru
ATTENDEE;CN="Surt";CUTYPE=INDIVIDUAL;PARTSTAT=ACCEPTED:web@b
	andits-clan.ru
ATTENDEE;CN="HolYBaaL";CUTYPE=INDIVIDUAL;PARTSTAT=ACCEPTED:w
	eb@bandits-clan.ru
ATTENDEE;CN="MAPLE307";CUTYPE=INDIVIDUAL;PARTSTAT=ACCEPTED:w
	eb@bandits-clan.ru
ATTENDEE;CN="elqwero";CUTYPE=INDIVIDUAL;PARTSTAT=ACCEPTED:we
	b@bandits-clan.ru
ATTENDEE;CN="TimkaS";CUTYPE=INDIVIDUAL;PARTSTAT=ACCEPTED:web
	@bandits-clan.ru
ATTENDEE;CN="LuftHuronBlackHeart";CUTYPE=INDIVIDUAL;PARTSTAT
	=ACCEPTED:web@bandits-clan.ru
ATTENDEE;CN="Matros25rus";CUTYPE=INDIVIDUAL;PARTSTAT=ACCEPTE
	D:web@bandits-clan.ru
ATTENDEE;CN="Znagi";CUTYPE=INDIVIDUAL;PARTSTAT=ACCEPTED:web@
	bandits-clan.ru
END:VEVENT
END:VCALENDAR
