BEGIN:VCALENDAR
VERSION:2.0
PRODID:-//InvisionCommunity Events 4.7.14//EN
METHOD:PUBLISH
CALSCALE:GREGORIAN
REFRESH-INTERVAL:PT15M
X-PUBLISHED-TTL:PT15M
X-WR-CALNAME:The Elder Scrolls Online
NAME:The Elder Scrolls Online
BEGIN:VTIMEZONE
TZID:Europe/London
TZURL:http://tzurl.org/zoneinfo/Europe/London
X-LIC-LOCATION:Europe/London
BEGIN:DAYLIGHT
TZOFFSETFROM:+0000
TZOFFSETTO:+0100
TZNAME:BST
DTSTART:20230326T020000Z
RRULE:FREQ=YEARLY;BYMONTH=3;BYDAY=-1SU
END:DAYLIGHT
BEGIN:STANDARD
TZOFFSETFROM:+0100
TZOFFSETTO:+0000
TZNAME:GMT
DTSTART:20231029T020000Z
RRULE:FREQ=YEARLY;BYMONTH=10;BYDAY=-1SU
END:STANDARD
END:VTIMEZONE
BEGIN:VEVENT
SUMMARY:[TESO] Аттестация танков
DTSTAMP:20230205T122145Z
SEQUENCE:0
UID:10974-1-afb15bc42254ad5fb0481ce5e9c8144d@forum.bandits-clan.ru
ORGANIZER;CN="Satius":web@bandits-clan.ru
DESCRIPTION:\n	Приглаша
	ем танков 
	проверить 
	себя и сд
	ать аттестацию
	 на подтверждение
	 своего элитного ск
	илла танкования.  \
	n\n\n\n	Для каждого
	 игрока в зачё
	т идут только 
	первые 2 поп
	ытки. Приорите
	т в очереди на сдач
	у аттестации у зап
	исавшихся на собы
	тие.\n\n\n\n	Подробности об
	 аттестации можно п
	очитать здесь:\n\n\
	n\n\n	Помимо непо
	средственно 
	самой аттеста
	ции в Драгон С
	тар Арене\, любо
	й игрок может полу
	чить советы по танкова
	нию и всём\, что вокруг
	 этого.\n\n\n\n	Требов
	ание: Желание учиться\, слушать\, по
	нимать и подстраиваться.\n\n
DTSTART:20230208T153000Z
ATTENDEE;CN="Satius";CUTYPE=INDIVIDUAL;PARTSTAT=ACCEPTED:web
	@bandits-clan.ru
END:VEVENT
END:VCALENDAR
