BEGIN:VCALENDAR
VERSION:2.0
PRODID:-//InvisionCommunity Events 4.7.14//EN
METHOD:PUBLISH
CALSCALE:GREGORIAN
REFRESH-INTERVAL:PT15M
X-PUBLISHED-TTL:PT15M
X-WR-CALNAME:The Elder Scrolls Online
NAME:The Elder Scrolls Online
BEGIN:VTIMEZONE
TZID:Europe/London
TZURL:http://tzurl.org/zoneinfo/Europe/London
X-LIC-LOCATION:Europe/London
BEGIN:DAYLIGHT
TZOFFSETFROM:+0000
TZOFFSETTO:+0100
TZNAME:BST
DTSTART:20230326T020000Z
RRULE:FREQ=YEARLY;BYMONTH=3;BYDAY=-1SU
END:DAYLIGHT
BEGIN:STANDARD
TZOFFSETFROM:+0100
TZOFFSETTO:+0000
TZNAME:GMT
DTSTART:20231029T020000Z
RRULE:FREQ=YEARLY;BYMONTH=10;BYDAY=-1SU
END:STANDARD
END:VTIMEZONE
BEGIN:VEVENT
SUMMARY:[TESO] PvP-рейд в Имперский город
DTSTAMP:20230202T212706Z
SEQUENCE:0
UID:10957-1-afb15bc42254ad5fb0481ce5e9c8144d@forum.bandits-clan.ru
ORGANIZER;CN="Dzhev":web@bandits-clan.ru
DESCRIPTION:\n	Цель мероп
	риятия - фарм
	 камней Тель
	 Вар в имперском го
	роде на боссах за 
	Даггерфолльский
	 Ковенант.\n\n\n
	\n	Формат м
	ероприят
	ия не пред
	усматривае
	т выполнени
	я квестов 
	и дикого б
	езудержног
	о ПвП с разд
	ачей всег
	о нажитого
	 непосильны
	м трудом. Только ф
	арм боссов с перио
	дической сдачей к
	амней в банк. \n\n\
	n\n	Рекомендуем 
	приходить на 
	мероприятие в
	 ПвП-билде на 
	выживание - 
	это повысит 
	ваши шансы д
	онести сво
	и несметные
	 богатства до
	 банка и не пожертвовать их предста
	вителям других альянсов.\n\n
DTSTART:20230205T130000Z
DTEND:20230205T150000Z
RRULE:FREQ=WEEKLY;INTERVAL=1;UNTIL=20230305T000000
ATTENDEE;CN="whda";CUTYPE=INDIVIDUAL;PARTSTAT=ACCEPTED:web@b
	andits-clan.ru
ATTENDEE;CN="Dzhev";CUTYPE=INDIVIDUAL;PARTSTAT=ACCEPTED:web@
	bandits-clan.ru
ATTENDEE;CN="Prav";CUTYPE=INDIVIDUAL;PARTSTAT=ACCEPTED:web@b
	andits-clan.ru
ATTENDEE;CN="casino12";CUTYPE=INDIVIDUAL;PARTSTAT=ACCEPTED:w
	eb@bandits-clan.ru
ATTENDEE;CN="sda1964";CUTYPE=INDIVIDUAL;PARTSTAT=ACCEPTED:we
	b@bandits-clan.ru
END:VEVENT
END:VCALENDAR
