BEGIN:VCALENDAR
VERSION:2.0
PRODID:-//InvisionCommunity Events 4.7.14//EN
METHOD:PUBLISH
CALSCALE:GREGORIAN
REFRESH-INTERVAL:PT15M
X-PUBLISHED-TTL:PT15M
X-WR-CALNAME:The Elder Scrolls Online
NAME:The Elder Scrolls Online
BEGIN:VTIMEZONE
TZID:Europe/London
TZURL:http://tzurl.org/zoneinfo/Europe/London
X-LIC-LOCATION:Europe/London
BEGIN:DAYLIGHT
TZOFFSETFROM:+0000
TZOFFSETTO:+0100
TZNAME:BST
DTSTART:20230326T020000Z
RRULE:FREQ=YEARLY;BYMONTH=3;BYDAY=-1SU
END:DAYLIGHT
BEGIN:STANDARD
TZOFFSETFROM:+0100
TZOFFSETTO:+0000
TZNAME:GMT
DTSTART:20231029T020000Z
RRULE:FREQ=YEARLY;BYMONTH=10;BYDAY=-1SU
END:STANDARD
END:VTIMEZONE
BEGIN:VEVENT
SUMMARY:[TESO] Обучающий ветеранск
	ий Риф Зловещих Парусов (vDSR)
DTSTAMP:20230129T141945Z
SEQUENCE:0
UID:10951-1-afb15bc42254ad5fb0481ce5e9c8144d@forum.bandits-clan.ru
ORGANIZER;CN="c@6aka":web@bandits-clan.ru
DESCRIPTION:\n	Пригла
	шаю всех 
	желающих прой
	ти обучающее Вет
	еранское испытан
	ие Риф Зловещих П
	арусов.\n\n\n\n	
	Обязательные адд
	оны необходимо настр
	оить до начала события.\n\n\n\n	Н
	еобходимый состав:\n\n\n\n	\n		2 Танка\n	
	\n	\n		2 Лекаря\n	\n	\n		8 Бойцов\n	\n\n\n\n
		Обязательные аддоны:\n\n\n\n	\n		RaidNotifier (https://
	www.esoui.com/downloads/info1355-RaidNotifierUpdated.html)\n	\n	\n		OdySup
	portIcons (https://www.esoui.com/downloads/info2834-OdySupportIcons-GroupR
	oleIconsMore.html). Или анал
	огичные ад
	доны (доба
	вляющие ик
	онки ролей 
	над головой персонаж
	ей и увеличенную иконку короны(рей
	д-лидера))\n	\n	\n		Hodor Reflexes (Необхо
	дим для горна и колосса) (https://www.esoui.com/downloa
	ds/info2311-HodorReflexes-DPSUltimateShare.html)\n	\n	\n		Code's Combat Al
	erts (https://www.esoui.com/downloads/info1855-CodesCombatAlerts.html)\n	\
	n	\n		Qcells Dreadssail Reef Helper (https://www.esoui.com/downloads/info3
	354-QcellsDreadsailReefHelper.html)\n	\n\n\n\n	Требова
	ния для участия:\n\n\n\n	\n		Звание V
	eteran Bandit/Ветеран Бандит и выше.\n	
	\n	\n		Discord и наличие микрофона\n
		\n	\n		Табард одной из гильд
	ий Bandits \n	\n	\n		Приобретенное допол
	нение или ESO Plus\n	\n\n\n\n	Рекомендуем
	ые сеты\n\n\n\n	Для хилов\n\n\n\n	\n		М
	ародер\, СПК и симфон
	ия\n	\n	\n		Йорвульд\, авантю
	рист и наплечник разрушения\n	\
	n\n\n\n	Для танков\n\n\n\n	\n		М
	ейн - Приливная верх\, 
	ёлнакрин низ\, архидру
	ид/сотрясатель\n	\n	\n
			Офф - Перламутр\, мощный
	 натиск\, энкратис/с
	отрясатель\n	\n\n\
	n\n	Для подтверждения
	 участия необходимо 
	отметиться в календаре:\n\n\
	n\n	\n		Нажать кнопку Пойду
	\n	\n	\n		Указать свою роль и ID
	 в комментариях\n	\n	\
	n		Если по каки
	м-то причинам 
	не получится п
	рийти\, отписаться в комментариях\,
	 изменив свое сообщение\n	\n\n
DTSTART:20230204T140000Z
ATTENDEE;CN="c@6aka";CUTYPE=INDIVIDUAL;PARTSTAT=ACCEPTED:web
	@bandits-clan.ru
ATTENDEE;CN="moonston";CUTYPE=INDIVIDUAL;PARTSTAT=ACCEPTED:w
	eb@bandits-clan.ru
ATTENDEE;CN="ned880";CUTYPE=INDIVIDUAL;PARTSTAT=ACCEPTED:web
	@bandits-clan.ru
ATTENDEE;CN="elqwero";CUTYPE=INDIVIDUAL;PARTSTAT=ACCEPTED:we
	b@bandits-clan.ru
ATTENDEE;CN="Surt";CUTYPE=INDIVIDUAL;PARTSTAT=ACCEPTED:web@b
	andits-clan.ru
ATTENDEE;CN="Aryusik";CUTYPE=INDIVIDUAL;PARTSTAT=ACCEPTED:we
	b@bandits-clan.ru
ATTENDEE;CN="Iglair";CUTYPE=INDIVIDUAL;PARTSTAT=ACCEPTED:web
	@bandits-clan.ru
ATTENDEE;CN="MostiX";CUTYPE=INDIVIDUAL;PARTSTAT=ACCEPTED:web
	@bandits-clan.ru
ATTENDEE;CN="Fillith1556";CUTYPE=INDIVIDUAL;PARTSTAT=ACCEPTE
	D:web@bandits-clan.ru
ATTENDEE;CN="VenumCat";CUTYPE=INDIVIDUAL;PARTSTAT=ACCEPTED:w
	eb@bandits-clan.ru
ATTENDEE;CN="Simvol";CUTYPE=INDIVIDUAL;PARTSTAT=ACCEPTED:web
	@bandits-clan.ru
ATTENDEE;CN="Hvarna";CUTYPE=INDIVIDUAL;PARTSTAT=ACCEPTED:web
	@bandits-clan.ru
END:VEVENT
END:VCALENDAR
