BEGIN:VCALENDAR
VERSION:2.0
PRODID:-//InvisionCommunity Events 4.7.14//EN
METHOD:PUBLISH
CALSCALE:GREGORIAN
REFRESH-INTERVAL:PT15M
X-PUBLISHED-TTL:PT15M
X-WR-CALNAME:The Elder Scrolls Online
NAME:The Elder Scrolls Online
BEGIN:VTIMEZONE
TZID:Europe/London
TZURL:http://tzurl.org/zoneinfo/Europe/London
X-LIC-LOCATION:Europe/London
BEGIN:DAYLIGHT
TZOFFSETFROM:+0000
TZOFFSETTO:+0100
TZNAME:BST
DTSTART:20230326T020000Z
RRULE:FREQ=YEARLY;BYMONTH=3;BYDAY=-1SU
END:DAYLIGHT
BEGIN:STANDARD
TZOFFSETFROM:+0100
TZOFFSETTO:+0000
TZNAME:GMT
DTSTART:20231029T020000Z
RRULE:FREQ=YEARLY;BYMONTH=10;BYDAY=-1SU
END:STANDARD
END:VTIMEZONE
BEGIN:VEVENT
SUMMARY:[TESO] Ветеранское испытание Залы ф
	абрикации (vHoF)
DTSTAMP:20230129T101958Z
SEQUENCE:0
UID:10947-1-afb15bc42254ad5fb0481ce5e9c8144d@forum.bandits-clan.ru
ORGANIZER;CN="elqwero":web@bandits-clan.ru
DESCRIPTION:\n	Пригла
	шаю всех желающих
	 пройти Ветеранс
	кое испытание За
	лы фабрикации.\n\
	n\n\n	Обязательные адд
	оны необходимо настр
	оить до начала события.\n\n\n\n	Н
	еобходимый состав:\n\n\n\n	\n		2 Танка\n	
	\n	\n		2 Лекаря\n	\n	\n		8 Бойцов\n	\n\n\n\n
		Обязательные аддоны:\n\n\n\n	\n		RaidNotifier (https://
	www.esoui.com/downloads/info1355-RaidNotifierUpdated.html)\n	\n	\n		OdySup
	portIcons (https://www.esoui.com/downloads/info2834-OdySupportIcons-GroupR
	oleIconsMore.html). Или анал
	огичные ад
	доны (доба
	вляющие ик
	онки ролей 
	над головой персонаж
	ей и увеличенную иконку короны(рей
	д-лидера))\n	\n	\n		Hodor Reflexes (Необхо
	дим для горна и колосса) (https://www.esoui.com/downloa
	ds/info2311-HodorReflexes-DPSUltimateShare.html)\n	\n\n\n\n	Т
	ребования для участия:\n\n\n\n	\n		З
	вание Veteran Bandit/Ветеран Бандит\n	\
	n	\n		Discord и наличие микрофона\n	\n	\n		Т
	абард гильдии Daggerfall Bandits / Bandits Cla
	n\n	\n	\n		Приобретенное дополнение Morrowin
	d или ESO Plus\n	\n\n\n\n	Д
	ля подтверждения уча
	стия необходимо отмети
	ться в календаре:\n\n\n\n	\n	
		Нажать кнопку Пойду\n	\n	\
	n		Указать свою роль и ID
	 в комментариях\n	\n	\
	n		Если по каки
	м-то причинам 
	не получится п
	рийти\, отписаться в комментариях\,
	 изменив свое сообщение\n	\n\n
DTSTART:20230203T130000Z
DTEND:20230203T130500Z
ATTENDEE;CN="elqwero";CUTYPE=INDIVIDUAL;PARTSTAT=ACCEPTED:we
	b@bandits-clan.ru
ATTENDEE;CN="moonston";CUTYPE=INDIVIDUAL;PARTSTAT=ACCEPTED:w
	eb@bandits-clan.ru
ATTENDEE;CN="HolYBaaL";CUTYPE=INDIVIDUAL;PARTSTAT=ACCEPTED:w
	eb@bandits-clan.ru
ATTENDEE;CN="АндрейАгур";CUTYPE=INDIVIDUAL;PARTSTA
	T=ACCEPTED:web@bandits-clan.ru
ATTENDEE;CN="ned880";CUTYPE=INDIVIDUAL;PARTSTAT=ACCEPTED:web
	@bandits-clan.ru
ATTENDEE;CN="c@6aka";CUTYPE=INDIVIDUAL;PARTSTAT=ACCEPTED:web
	@bandits-clan.ru
ATTENDEE;CN="Yanunbloody";CUTYPE=INDIVIDUAL;PARTSTAT=ACCEPTE
	D:web@bandits-clan.ru
ATTENDEE;CN="vegasmoon";CUTYPE=INDIVIDUAL;PARTSTAT=ACCEPTED:
	web@bandits-clan.ru
ATTENDEE;CN="Fillith1556";CUTYPE=INDIVIDUAL;PARTSTAT=ACCEPTE
	D:web@bandits-clan.ru
END:VEVENT
END:VCALENDAR
