BEGIN:VCALENDAR
VERSION:2.0
PRODID:-//InvisionCommunity Events 4.7.14//EN
METHOD:PUBLISH
CALSCALE:GREGORIAN
REFRESH-INTERVAL:PT15M
X-PUBLISHED-TTL:PT15M
X-WR-CALNAME:The Elder Scrolls Online
NAME:The Elder Scrolls Online
BEGIN:VTIMEZONE
TZID:Europe/London
TZURL:http://tzurl.org/zoneinfo/Europe/London
X-LIC-LOCATION:Europe/London
BEGIN:DAYLIGHT
TZOFFSETFROM:+0000
TZOFFSETTO:+0100
TZNAME:BST
DTSTART:20230326T020000Z
RRULE:FREQ=YEARLY;BYMONTH=3;BYDAY=-1SU
END:DAYLIGHT
BEGIN:STANDARD
TZOFFSETFROM:+0100
TZOFFSETTO:+0000
TZNAME:GMT
DTSTART:20231029T020000Z
RRULE:FREQ=YEARLY;BYMONTH=10;BYDAY=-1SU
END:STANDARD
END:VTIMEZONE
BEGIN:VEVENT
SUMMARY:[TESO] Ветеранское испытание Солн
	ечный шпиль (vSS)
DTSTAMP:20230125T073645Z
SEQUENCE:0
UID:10927-1-afb15bc42254ad5fb0481ce5e9c8144d@forum.bandits-clan.ru
ORGANIZER;CN="Detactor":web@bandits-clan.ru
DESCRIPTION:\n	\n		\n			О событии\n		\n	\n\n	\n		\n			\n			
		\n					Подписаться0\n				\n			\n		\n	\n\n\n\n	
	\n		\n			Приглаш
	аю всех желающих про
	йти Ветеранское испыт
	ание Солнечный Шпиль.
	\n		\n\n		\n			Обязате
	льные аддоны необходим
	о настроить до начала события.\n
			\n\n		\n			Необходимый состав:\n		\n\n		\n			\n			
		2 Танка\n			\n			\n				2 Лекаря\n			\n			\n				8 Бойцов\
	n			\n		\n\n		\n			Обязательные аддоны:\n		\n\n		\n			\n
					RaidNotifier (https://www.esoui.com/downloads/info1355-RaidNotifierUpd
	ated.html)\n			\n			\n				OdySupportIcons (https://www.esoui.com/downloads
	/info2834-OdySupportIcons-GroupRoleIconsMore.html). Ил
	и аналогичн
	ые аддоны (
	добавляющ
	ие иконки р
	олей над головой
	 персонажей и увеличенную икон
	ку короны(рейд-лидера))\n			\n			\n				
	Hodor Reflexes (Необходим для горна и колосса) (h
	ttps://www.esoui.com/downloads/info2311-HodorReflexes-DPSUltimateShare.htm
	l)\n			\n			\n				Code's Combat Alerts (https://www.esoui.com/downloads/in
	fo1855-CodesCombatAlerts.html)\n			\n		\n\n		\n			Треб
	ования для участия:\n		\n\n		\n			\n				З
	вание Veteran Bandit/Ветеран Бандит\n			\n	
			\n				Discord и наличие микрофона\n			\n		
		\n				Табард гильдии Daggerfall Bandits / Bandits Clan\n	
			\n			\n				Приобретенное дополнение Elsweyr ил
	и ESO Plus\n			\n		\n\n		\n			Для
	 подтверждения участия н
	еобходимо отметиться в кале
	ндаре:\n		\n\n		\n			\n				Нажать кнопку
	 Пойду\n			\n			\n				Указать свою роль
	 и ID в комментариях\n			\n	
			\n				Если по каки
	м-то причинам 
	не получится п
	рийти\, отписаться в комме
	нтариях\, изменив свое сообщение\n			\n		\n	\n\
	n
DTSTART:20230130T110000Z
DTEND:20230130T110500Z
ATTENDEE;CN="Surt";CUTYPE=INDIVIDUAL;PARTSTAT=ACCEPTED:web@b
	andits-clan.ru
ATTENDEE;CN="Kameron";CUTYPE=INDIVIDUAL;PARTSTAT=ACCEPTED:we
	b@bandits-clan.ru
ATTENDEE;CN="moonston";CUTYPE=INDIVIDUAL;PARTSTAT=ACCEPTED:w
	eb@bandits-clan.ru
ATTENDEE;CN="Timiri";CUTYPE=INDIVIDUAL;PARTSTAT=ACCEPTED:web
	@bandits-clan.ru
ATTENDEE;CN="ned880";CUTYPE=INDIVIDUAL;PARTSTAT=ACCEPTED:web
	@bandits-clan.ru
ATTENDEE;CN="Detactor";CUTYPE=INDIVIDUAL;PARTSTAT=ACCEPTED:w
	eb@bandits-clan.ru
ATTENDEE;CN="vegasmoon";CUTYPE=INDIVIDUAL;PARTSTAT=ACCEPTED:
	web@bandits-clan.ru
ATTENDEE;CN="Matros25rus";CUTYPE=INDIVIDUAL;PARTSTAT=ACCEPTE
	D:web@bandits-clan.ru
ATTENDEE;CN="Fillith1556";CUTYPE=INDIVIDUAL;PARTSTAT=ACCEPTE
	D:web@bandits-clan.ru
ATTENDEE;CN="Iglair";CUTYPE=INDIVIDUAL;PARTSTAT=ACCEPTED:web
	@bandits-clan.ru
ATTENDEE;CN="Ulfhedhnar";CUTYPE=INDIVIDUAL;PARTSTAT=ACCEPTED
	:web@bandits-clan.ru
END:VEVENT
END:VCALENDAR
