BEGIN:VCALENDAR
VERSION:2.0
PRODID:-//InvisionCommunity Events 4.7.14//EN
METHOD:PUBLISH
CALSCALE:GREGORIAN
REFRESH-INTERVAL:PT15M
X-PUBLISHED-TTL:PT15M
X-WR-CALNAME:The Elder Scrolls Online
NAME:The Elder Scrolls Online
BEGIN:VTIMEZONE
TZID:Europe/London
TZURL:http://tzurl.org/zoneinfo/Europe/London
X-LIC-LOCATION:Europe/London
BEGIN:DAYLIGHT
TZOFFSETFROM:+0000
TZOFFSETTO:+0100
TZNAME:BST
DTSTART:20230326T020000Z
RRULE:FREQ=YEARLY;BYMONTH=3;BYDAY=-1SU
END:DAYLIGHT
BEGIN:STANDARD
TZOFFSETFROM:+0100
TZOFFSETTO:+0000
TZNAME:GMT
DTSTART:20231029T020000Z
RRULE:FREQ=YEARLY;BYMONTH=10;BYDAY=-1SU
END:STANDARD
END:VTIMEZONE
BEGIN:VEVENT
SUMMARY:[TESO] Ветеранское испытание Цита
	дель Хел Ра (vHRC)
DTSTAMP:20230122T143555Z
SEQUENCE:0
UID:10905-1-afb15bc42254ad5fb0481ce5e9c8144d@forum.bandits-clan.ru
ORGANIZER;CN="Kubik":web@bandits-clan.ru
DESCRIPTION:\n	Приглаш
	аю всех желающих 
	пройти испытание Цитадель
	 Хел Ра вет.\n\n\n\n	Необходимый состав:\
	n\n\n\n	\n		1 Танка\n	\n	\n		2 Хилера\n	\n	\n		9 Д
	Д\n	\n\n\n\n	Обязательные аддоны:\n\n\n\n	\n		Bandits U
	ser Interface\n	\n\n\n\n	Требования для участия:
	\n\n\n\n	\n		Звание Raider/Рейдер\n	\n	\n		Di
	scord и наличие микрофона\n	\n	\n		Табард ги
	льдии Daggerfall Bandits / Bandits Clan / Bandits Force\n	\n\n\
	n\n	Для подтверждения
	 участия необходимо 
	отметиться в календаре:\n\n\
	n\n	\n		Нажать кнопку Пойду
	\n	\n	\n		Указать свою роль и ID
	 в комментариях\n	\n	\
	n		Если по каки
	м-то причинам 
	не получится п
	рийти\, отписаться в комментариях\,
	 изменив свое сообщение\n	\n\n
DTSTART:20230124T140000Z
DTEND:20230124T140500Z
ATTENDEE;CN="Kubik";CUTYPE=INDIVIDUAL;PARTSTAT=ACCEPTED:web@
	bandits-clan.ru
ATTENDEE;CN="Yanunbloody";CUTYPE=INDIVIDUAL;PARTSTAT=ACCEPTE
	D:web@bandits-clan.ru
ATTENDEE;CN="Кошара";CUTYPE=INDIVIDUAL;PARTSTAT=ACCEPT
	ED:web@bandits-clan.ru
ATTENDEE;CN="Серелус";CUTYPE=INDIVIDUAL;PARTSTAT=ACCE
	PTED:web@bandits-clan.ru
ATTENDEE;CN="sda1964";CUTYPE=INDIVIDUAL;PARTSTAT=ACCEPTED:we
	b@bandits-clan.ru
ATTENDEE;CN="casino12";CUTYPE=INDIVIDUAL;PARTSTAT=ACCEPTED:w
	eb@bandits-clan.ru
END:VEVENT
END:VCALENDAR
