BEGIN:VCALENDAR
VERSION:2.0
PRODID:-//InvisionCommunity Events 4.7.14//EN
METHOD:PUBLISH
CALSCALE:GREGORIAN
REFRESH-INTERVAL:PT15M
X-PUBLISHED-TTL:PT15M
X-WR-CALNAME:The Elder Scrolls Online
NAME:The Elder Scrolls Online
BEGIN:VTIMEZONE
TZID:Europe/London
TZURL:http://tzurl.org/zoneinfo/Europe/London
X-LIC-LOCATION:Europe/London
BEGIN:DAYLIGHT
TZOFFSETFROM:+0000
TZOFFSETTO:+0100
TZNAME:BST
DTSTART:20230326T020000Z
RRULE:FREQ=YEARLY;BYMONTH=3;BYDAY=-1SU
END:DAYLIGHT
BEGIN:STANDARD
TZOFFSETFROM:+0100
TZOFFSETTO:+0000
TZNAME:GMT
DTSTART:20231029T020000Z
RRULE:FREQ=YEARLY;BYMONTH=10;BYDAY=-1SU
END:STANDARD
END:VTIMEZONE
BEGIN:VEVENT
SUMMARY:[TESO] услож
	ненный режим Ветеранск
	ого испытания Солнечный Шпиль (vSS Hm)(Обуч
	ающий)
DTSTAMP:20230122T143504Z
SEQUENCE:0
UID:10904-1-afb15bc42254ad5fb0481ce5e9c8144d@forum.bandits-clan.ru
ORGANIZER;CN="elqwero":web@bandits-clan.ru
DESCRIPTION:\n	Пригл
	ашаю 
	всех 
	жела
	ющих 
	обуча
	ться прохо
	ждению усложне
	нного Ветеранско
	го испытания Солнечн
	ый Шпиль.\n\n\n\n	Сбор н
	ачинается за 15
	 минут до начала
	. Если Вы пришли
	 после времени нача
	ла рейда\, то ваше ме
	сто может занят д
	ругой игрок.\n\n\
	n\n	Обязател
	ьные аддоны
	 необходимо наст
	роить до начала событ
	ия. Рейд будет длится
	 до 3 часов\n\n\n\n	В 
	рейд по зап
	иси берутс
	я от звани
	я мастер бандит
	. Остальные рассм
	атриваются в индивидуальн
	ом порядке.\n\n\n\n	Необходимый состав:\
	n\n\n\n	\n		2 Танка\n	\n	\n		2 Лекаря\n	\n	\n		8 Б
	ойцов\n	\n\n\n\n	Обязательные аддоны:\n\n\n\n	\n		R
	aidNotifier (https://www.esoui.com/downloads/info1355-RaidNotifierUpdated.
	html)\n	\n	\n		OdySupportIcons (https://www.esoui.com/downloads/info2834-O
	dySupportIcons-GroupRoleIconsMore.html). Или 
	аналогичны
	е аддоны (д
	обавляющи
	е иконки ро
	лей над головой п
	ерсонажей и увеличенную иконку 
	короны(рейд-лидера))\n	\n	\n		Hodo
	r Reflexes (Необходим для горна и колосса) (https
	://www.esoui.com/downloads/info2311-HodorReflexes-DPSUltimateShare.html)\n
		\n	\n		Code's Combat Alerts (https://www.esoui.com/downloads/info1855-Cod
	esCombatAlerts.html)\n	\n	\n		CrutchAlerts (https://www.esoui.com/download
	s/info3137-CrutchAlerts.html)\n	\n\n\n\n	Рекомендуемые 
	сборки:\n\n\n\n	\n		Для ДД:\n	\n\n\
	n\n	\n		Играть указанными ни
	же классами\n	\n	\n		Иметь 
	ЩИТЫ на панелях\n	\n
		\n		Для некромантов име
	ть сборку каталист\, а
	лкош/мартиал\n	\n	\n		Для дк 
	иметь сборку алкош\, энкратис\, дзен\n
		\n\n\n\n	\n		Для хилов\n	\n\n\n\n	\n	
		Играть указанными ниже
	 классами\n	\n	\n		Найт блейд - 
	Мародер\, СПК и симфони
	я\n	\n	\n		Варден - Йорвульд\
	, авантюрист и на
	плечник разрушени
	я\n	\n	\n		Иметь Вос
	станавливающий п
	осох черной розы и
	 скилл \"устойчивый оберег\" в 
	морфе \"целебный оберег\"\n	\n\n\n\n	\n	
		Для танков\n	\n\n\n\n	\n		Играт
	ь указанными ниже клас
	сами\n	\n	\n		Мейн(некр)
	 - Приливная верх\, ёл
	накрин/саксхлил низ\, 
	архидруид/сотрясатель\
	n	\n	\n		Офф(дк/варден)
	 - Перламутр\, мощный на
	тиск\, энкратис/сотрясатель\n	\
	n\n\n\n	Требования для участия:\n\n\n\
	n	\n		Звание Master Bandit/Мастер Бандит
	\n	\n	\n		Discord и наличие микрофона\n	\n	\
	n		Табард гильдии Daggerfall Bandits / Bandits Clan / Bandits
	 Force\n	\n	\n		Приобретенное дополнение Elsw
	eyr или ESO Plus\n	\n	\n		Прочитать оп
	исание события\n	\
	n\n\n\n	Для подтвержд
	ения участия необход
	имо отметиться в календаре:\
	n\n\n\n	\n		Нажать кнопку Пойду
	\n	\n	\n		Указать свою роль и ID
	 в комментариях\n	\n	\n		Осозна
	ть\, что рейд длится 3 ч
	аса\n	\n	\n		Если по к
	аким-то причи
	нам не получи
	тся прийти\, отписаться в 
	комментариях\, изменив свое сообщение\n	\n
	\n
DTSTART:20230127T130000Z
DTEND:20230127T130500Z
ATTENDEE;CN="c@6aka";CUTYPE=INDIVIDUAL;PARTSTAT=ACCEPTED:web
	@bandits-clan.ru
ATTENDEE;CN="elqwero";CUTYPE=INDIVIDUAL;PARTSTAT=ACCEPTED:we
	b@bandits-clan.ru
ATTENDEE;CN="moonston";CUTYPE=INDIVIDUAL;PARTSTAT=ACCEPTED:w
	eb@bandits-clan.ru
ATTENDEE;CN="LuftHuronBlackHeart";CUTYPE=INDIVIDUAL;PARTSTAT
	=ACCEPTED:web@bandits-clan.ru
ATTENDEE;CN="Be1Fgor";CUTYPE=INDIVIDUAL;PARTSTAT=ACCEPTED:we
	b@bandits-clan.ru
ATTENDEE;CN="DadaJah";CUTYPE=INDIVIDUAL;PARTSTAT=ACCEPTED:we
	b@bandits-clan.ru
ATTENDEE;CN="Aryusik";CUTYPE=INDIVIDUAL;PARTSTAT=ACCEPTED:we
	b@bandits-clan.ru
ATTENDEE;CN="MostiX";CUTYPE=INDIVIDUAL;PARTSTAT=ACCEPTED:web
	@bandits-clan.ru
ATTENDEE;CN="Егор Юрьевич";CUTYPE=INDIVIDUAL;PART
	STAT=ACCEPTED:web@bandits-clan.ru
ATTENDEE;CN="casino12";CUTYPE=INDIVIDUAL;PARTSTAT=ACCEPTED:w
	eb@bandits-clan.ru
ATTENDEE;CN="Yanunbloody";CUTYPE=INDIVIDUAL;PARTSTAT=ACCEPTE
	D:web@bandits-clan.ru
END:VEVENT
END:VCALENDAR
