BEGIN:VCALENDAR
VERSION:2.0
PRODID:-//InvisionCommunity Events 4.7.14//EN
METHOD:PUBLISH
CALSCALE:GREGORIAN
REFRESH-INTERVAL:PT15M
X-PUBLISHED-TTL:PT15M
X-WR-CALNAME:The Elder Scrolls Online
NAME:The Elder Scrolls Online
BEGIN:VTIMEZONE
TZID:Europe/London
TZURL:http://tzurl.org/zoneinfo/Europe/London
X-LIC-LOCATION:Europe/London
BEGIN:DAYLIGHT
TZOFFSETFROM:+0000
TZOFFSETTO:+0100
TZNAME:BST
DTSTART:20230326T020000Z
RRULE:FREQ=YEARLY;BYMONTH=3;BYDAY=-1SU
END:DAYLIGHT
BEGIN:STANDARD
TZOFFSETFROM:+0100
TZOFFSETTO:+0000
TZNAME:GMT
DTSTART:20231029T020000Z
RRULE:FREQ=YEARLY;BYMONTH=10;BYDAY=-1SU
END:STANDARD
END:VTIMEZONE
BEGIN:VEVENT
SUMMARY:[TESO] Исследование Тамриэля: Краг
	лорн
DTSTAMP:20230116T101319Z
SEQUENCE:0
UID:10885-1-afb15bc42254ad5fb0481ce5e9c8144d@forum.bandits-clan.ru
ORGANIZER;CN="Vardan1991":web@bandits-clan.ru
DESCRIPTION:\n	Приглаш
	аю всех желаю
	щих на зачистк
	у локации Крагло
	рна\, а именно: Вылазки
	\, логово для группы\, в
	ажные объекты\, боссы. \n\n\n\n
		Требования для участия:  \n\n\n\n	\
	n		Хорошее настроение\n	\n\n\n\n	\n		Dis
	cord и наличие микрофон
	а\n	\n\n\n\n	Для под
	тверждения участия н
	еобходимо отметиться в кале
	ндаре:\n\n\n\n	\n		Нажать кнопку 
	Пойду\n	\n	\n		Указать свою ро
	ль и ID в комментариях\
	n	\n	\n		Если по каки
	м-то причинам 
	не получится п
	рийти\, отписаться в ком
	ментариях\, изменив свое сообще
	ние\n	\n\n\n\n	                          
	                                     
	                                     
	                                     
	                                              
	                   \n\n
DTSTART:20230117T120000Z
DTEND:20230117T120500Z
ATTENDEE;CN="Vardan1991";CUTYPE=INDIVIDUAL;PARTSTAT=ACCEPTED
	:web@bandits-clan.ru
ATTENDEE;CN="L1festyle";CUTYPE=INDIVIDUAL;PARTSTAT=ACCEPTED:
	web@bandits-clan.ru
ATTENDEE;CN="SchweineKotelett";CUTYPE=INDIVIDUAL;PARTSTAT=AC
	CEPTED:web@bandits-clan.ru
END:VEVENT
END:VCALENDAR
