BEGIN:VCALENDAR
VERSION:2.0
PRODID:-//InvisionCommunity Events 4.7.14//EN
METHOD:PUBLISH
CALSCALE:GREGORIAN
REFRESH-INTERVAL:PT15M
X-PUBLISHED-TTL:PT15M
X-WR-CALNAME:The Elder Scrolls Online
NAME:The Elder Scrolls Online
BEGIN:VTIMEZONE
TZID:Europe/London
TZURL:http://tzurl.org/zoneinfo/Europe/London
X-LIC-LOCATION:Europe/London
BEGIN:DAYLIGHT
TZOFFSETFROM:+0000
TZOFFSETTO:+0100
TZNAME:BST
DTSTART:20230326T020000Z
RRULE:FREQ=YEARLY;BYMONTH=3;BYDAY=-1SU
END:DAYLIGHT
BEGIN:STANDARD
TZOFFSETFROM:+0100
TZOFFSETTO:+0000
TZNAME:GMT
DTSTART:20231029T020000Z
RRULE:FREQ=YEARLY;BYMONTH=10;BYDAY=-1SU
END:STANDARD
END:VTIMEZONE
BEGIN:VEVENT
SUMMARY:[TESO] Ветеранское испытание Паст
	ь Лорхаджа (vMOL)
DTSTAMP:20230115T204415Z
SEQUENCE:0
UID:10875-1-afb15bc42254ad5fb0481ce5e9c8144d@forum.bandits-clan.ru
ORGANIZER;CN="Kubik":web@bandits-clan.ru
DESCRIPTION:\n	Пригла
	шаю всех желающих пр
	ойти ветеранское испыта
	ние Пасть Лорхаджа (vMOL)
	.\n\n\n\n	Приоритет на люд
	ей\, которые записались в
	 канале #vmol в дискорде.\n\n\n\n	Нео
	бходимый состав:\n\n\n\n	\n		2 Танка\n	\n	\
	n		2 Лекаря\n	\n	\n		8 Бойцов\n	\n\n\n\n	Обя
	зательные аддоны:\n\n\n\n	\n		Bandits User Interf
	ace\n	\n\n\n\n	Требования для участия:\
	n\n\n\n	\n		DLC - Гильдия Воров или подписка.
	\n	\n	\n		Звание Veteran Bandit/Ветеран Бандит\
	n	\n	\n		Discord и наличие микрофона\n	\n	\n
			Табард гильдии Daggerfall Bandits / Bandits Clan / Bandits 
	Force\n	\n\n\n\n	Для по
	дтверждения участия 
	необходимо отметиться в ка
	лендаре:\n\n\n\n	\n		Нажать кноп
	ку Пойду\n	\n	\n		Указать свою
	 роль и ID в комментария
	х\n	\n	\n		Если по как
	им-то причинам
	 не получится 
	прийти\, отписаться в 
	комментариях\, изменив св
	ое сообщение\n	\n\n\n\n	Описание испытания:\n\
	n\n\n\n	 \n\n
DTSTART:20230117T170000Z
DTEND:20230117T170500Z
ATTENDEE;CN="Kubik";CUTYPE=INDIVIDUAL;PARTSTAT=ACCEPTED:web@
	bandits-clan.ru
ATTENDEE;CN="MostiX";CUTYPE=INDIVIDUAL;PARTSTAT=ACCEPTED:web
	@bandits-clan.ru
ATTENDEE;CN="Iglair";CUTYPE=INDIVIDUAL;PARTSTAT=ACCEPTED:web
	@bandits-clan.ru
ATTENDEE;CN="Stonechump";CUTYPE=INDIVIDUAL;PARTSTAT=ACCEPTED
	:web@bandits-clan.ru
END:VEVENT
END:VCALENDAR
