BEGIN:VCALENDAR
VERSION:2.0
PRODID:-//InvisionCommunity Events 4.7.14//EN
METHOD:PUBLISH
CALSCALE:GREGORIAN
REFRESH-INTERVAL:PT15M
X-PUBLISHED-TTL:PT15M
X-WR-CALNAME:The Elder Scrolls Online
NAME:The Elder Scrolls Online
BEGIN:VTIMEZONE
TZID:Europe/London
TZURL:http://tzurl.org/zoneinfo/Europe/London
X-LIC-LOCATION:Europe/London
BEGIN:DAYLIGHT
TZOFFSETFROM:+0000
TZOFFSETTO:+0100
TZNAME:BST
DTSTART:20230326T020000Z
RRULE:FREQ=YEARLY;BYMONTH=3;BYDAY=-1SU
END:DAYLIGHT
BEGIN:STANDARD
TZOFFSETFROM:+0100
TZOFFSETTO:+0000
TZNAME:GMT
DTSTART:20231029T020000Z
RRULE:FREQ=YEARLY;BYMONTH=10;BYDAY=-1SU
END:STANDARD
END:VTIMEZONE
BEGIN:VEVENT
SUMMARY:[TESO] (Фарм) Ветеранское
	 испытание Солнечный Шпиль (vSS)
DTSTAMP:20230115T123908Z
SEQUENCE:0
UID:10871-1-afb15bc42254ad5fb0481ce5e9c8144d@forum.bandits-clan.ru
ORGANIZER;CN="c@6aka":web@bandits-clan.ru
DESCRIPTION:\n	\n		\n			Приг
	лашаю всех же
	лающих пофармить Ветеран
	ское испытание Солнечный Шпиль.\
	n		\n	\n\n\n\n	\n		\n			Планиру
	ется 2 захода. Внимател
	ьно читаем требовани
	я\n		\n\n		\n			Обяза
	тельные аддоны необход
	имо настроить до начала событи
	я.\n		\n\n		\n			Необходимый состав:\n		\n\n		\n			
	\n				2 Танка\n			\n			\n				2 Лекаря\n			\n			\n				8 Бо
	йцов\n			\n		\n\n		\n			Обязательные аддоны:\n		\n\n
			\n			\n				RaidNotifier (https://www.esoui.com/downloads/info1355-RaidNo
	tifierUpdated.html)\n			\n			\n				OdySupportIcons (https://www.esoui.com/
	downloads/info2834-OdySupportIcons-GroupRoleIconsMore.html). И
	ли аналогич
	ные аддоны 
	(добавляющ
	ие иконки р
	олей над головой
	 персонажей и увеличенную икон
	ку короны(рейд-лидера))\n			\n			\n				
	Hodor Reflexes (Необходим для горна и колосса) (h
	ttps://www.esoui.com/downloads/info2311-HodorReflexes-DPSUltimateShare.htm
	l)\n			\n			\n				Code's Combat Alerts (https://www.esoui.com/downloads/in
	fo1855-CodesCombatAlerts.html)\n			\n		\n\n		\n			Треб
	ования для участия:\n		\n\n		\n			\n				Зван
	ие Veteran Bandit \\  Ветеран Бандит\n			\
	n			\n				аттестация на 80к дпс\n	
			\n			\n				Пройденный триал с гильдией\n
				\n			\n				Discord и наличие микрофона\n
				\n			\n				Табард гильдии \n			\n	
			\n				Приобретенное дополнение Elsweyr или ES
	O Plus\n			\n		\n\n		\n			Для п
	одтверждения участия необ
	ходимо отметиться в календаре:
	\n		\n\n		\n			\n				Нажать кнопку Пойду\
	n			\n			\n				Указать свою роль и ID в 
	комментариях\n			\n			\n
					Если по каки
	м-то причинам 
	не получится п
	рийти\, отписаться в комме
	нтариях\, изменив свое сообщение\n			\n		\n	\n\
	n
DTSTART:20230121T140000Z
ATTENDEE;CN="Илья1";CUTYPE=INDIVIDUAL;PARTSTAT=ACCEPTED:
	web@bandits-clan.ru
ATTENDEE;CN="c@6aka";CUTYPE=INDIVIDUAL;PARTSTAT=ACCEPTED:web
	@bandits-clan.ru
ATTENDEE;CN="LuftHuronBlackHeart";CUTYPE=INDIVIDUAL;PARTSTAT
	=ACCEPTED:web@bandits-clan.ru
ATTENDEE;CN="Be1Fgor";CUTYPE=INDIVIDUAL;PARTSTAT=ACCEPTED:we
	b@bandits-clan.ru
ATTENDEE;CN="Iglair";CUTYPE=INDIVIDUAL;PARTSTAT=ACCEPTED:web
	@bandits-clan.ru
ATTENDEE;CN="Bulochka007";CUTYPE=INDIVIDUAL;PARTSTAT=ACCEPTE
	D:web@bandits-clan.ru
ATTENDEE;CN="Detactor";CUTYPE=INDIVIDUAL;PARTSTAT=ACCEPTED:w
	eb@bandits-clan.ru
ATTENDEE;CN="SchweineKotelett";CUTYPE=INDIVIDUAL;PARTSTAT=AC
	CEPTED:web@bandits-clan.ru
ATTENDEE;CN="ned880";CUTYPE=INDIVIDUAL;PARTSTAT=ACCEPTED:web
	@bandits-clan.ru
ATTENDEE;CN="Серелус";CUTYPE=INDIVIDUAL;PARTSTAT=ACCE
	PTED:web@bandits-clan.ru
END:VEVENT
END:VCALENDAR
