BEGIN:VCALENDAR
VERSION:2.0
PRODID:-//InvisionCommunity Events 4.7.14//EN
METHOD:PUBLISH
CALSCALE:GREGORIAN
REFRESH-INTERVAL:PT15M
X-PUBLISHED-TTL:PT15M
X-WR-CALNAME:The Elder Scrolls Online
NAME:The Elder Scrolls Online
BEGIN:VTIMEZONE
TZID:Europe/London
TZURL:http://tzurl.org/zoneinfo/Europe/London
X-LIC-LOCATION:Europe/London
BEGIN:DAYLIGHT
TZOFFSETFROM:+0000
TZOFFSETTO:+0100
TZNAME:BST
DTSTART:20230326T020000Z
RRULE:FREQ=YEARLY;BYMONTH=3;BYDAY=-1SU
END:DAYLIGHT
BEGIN:STANDARD
TZOFFSETFROM:+0100
TZOFFSETTO:+0000
TZNAME:GMT
DTSTART:20231029T020000Z
RRULE:FREQ=YEARLY;BYMONTH=10;BYDAY=-1SU
END:STANDARD
END:VTIMEZONE
BEGIN:VEVENT
SUMMARY:[TESO] Ветеранское испытание Кл
	аудрест +0 (vCR+0)
DTSTAMP:20221231T073935Z
SEQUENCE:0
UID:10821-1-afb15bc42254ad5fb0481ce5e9c8144d@forum.bandits-clan.ru
ORGANIZER;CN="c@6aka":web@bandits-clan.ru
DESCRIPTION:\n	\n		\n			О событии\n		\n	\n\n\n\n	\n
			\n			Приглаш
	аю всех желающих
	 пройти обучающее Вет
	еранское испытание К
	лаудрест.\n		\n\n		\n
				Обязательные аддоны
	 необходимо настроить д
	о начала события.\n		\n\n		\n			Необходимый
	 состав:\n		\n\n		\n			\n				2 Танка\n			\n			\n				2 Лек
	аря\n			\n			\n				8 Бойцов\n			\n		\n\n		\n			
	Обязательные аддоны:\n		\n\n		\n			\n				RaidNotifier (h
	ttps://www.esoui.com/downloads/info1355-RaidNotifierUpdated.html)\n			\n		
		\n				OdySupportIcons (https://www.esoui.com/downloads/info2834-OdySuppor
	tIcons-GroupRoleIconsMore.html). Или а
	налогичные
	 аддоны (до
	бавляющие 
	иконки рол
	ей над головой пер
	сонажей и увеличенную иконку коро
	ны(рейд-лидера))\n			\n			\n				Hodor Re
	flexes (Необходим для горна и колосса) (https://w
	ww.esoui.com/downloads/info2311-HodorReflexes-DPSUltimateShare.html)\n			\
	n			\n				Code's Combat Alerts (https://www.esoui.com/downloads/info1855-C
	odesCombatAlerts.html)\n			\n			\n				HowToCloudrest (https://www.esoui.co
	m/downloads/info3497-HowToCloudrest.html)\n			\n		\n\n		\n			Т
	ребования для участия:\n		\n\n		\n			\n		
			Звание Veteran Bandit/Ветеран Бандит\n			\n
				\n				Discord и наличие микрофона\n			\n	
			\n				Табард гильдии Daggerfall Bandits / Bandits Clan\n	
			\n			\n				Приобретенное дополнение или ESO
	 Plus\n			\n		\n\n		\n			Для п
	одтверждения участия необ
	ходимо отметиться в календаре:
	\n		\n\n		\n			\n				Нажать кнопку Пойду\
	n			\n			\n				Указать свою роль и ID в 
	комментариях\n			\n			\n
					Если по каки
	м-то причинам 
	не получится п
	рийти\, отписаться в комме
	нтариях\, изменив свое сообщение\n			\n		\n	\n\
	n
DTSTART:20230104T170000Z
ATTENDEE;CN="c@6aka";CUTYPE=INDIVIDUAL;PARTSTAT=ACCEPTED:web
	@bandits-clan.ru
ATTENDEE;CN="elqwero";CUTYPE=INDIVIDUAL;PARTSTAT=ACCEPTED:we
	b@bandits-clan.ru
ATTENDEE;CN="xDiezel";CUTYPE=INDIVIDUAL;PARTSTAT=ACCEPTED:we
	b@bandits-clan.ru
ATTENDEE;CN="Obormotic";CUTYPE=INDIVIDUAL;PARTSTAT=ACCEPTED:
	web@bandits-clan.ru
ATTENDEE;CN="zkeeper19";CUTYPE=INDIVIDUAL;PARTSTAT=ACCEPTED:
	web@bandits-clan.ru
ATTENDEE;CN="Iglair";CUTYPE=INDIVIDUAL;PARTSTAT=ACCEPTED:web
	@bandits-clan.ru
ATTENDEE;CN="Stonechump";CUTYPE=INDIVIDUAL;PARTSTAT=ACCEPTED
	:web@bandits-clan.ru
ATTENDEE;CN="Yanunbloody";CUTYPE=INDIVIDUAL;PARTSTAT=ACCEPTE
	D:web@bandits-clan.ru
ATTENDEE;CN="LuftHuronBlackHeart";CUTYPE=INDIVIDUAL;PARTSTAT
	=ACCEPTED:web@bandits-clan.ru
ATTENDEE;CN="Hvarna";CUTYPE=INDIVIDUAL;PARTSTAT=ACCEPTED:web
	@bandits-clan.ru
ATTENDEE;CN="sherrydan";CUTYPE=INDIVIDUAL;PARTSTAT=ACCEPTED:
	web@bandits-clan.ru
ATTENDEE;CN="Narevar";CUTYPE=INDIVIDUAL;PARTSTAT=ACCEPTED:we
	b@bandits-clan.ru
ATTENDEE;CN="JensNarendil";CUTYPE=INDIVIDUAL;PARTSTAT=ACCEPT
	ED:web@bandits-clan.ru
ATTENDEE;CN="АндрейАгур";CUTYPE=INDIVIDUAL;PARTSTA
	T=ACCEPTED:web@bandits-clan.ru
END:VEVENT
END:VCALENDAR
