BEGIN:VCALENDAR
VERSION:2.0
PRODID:-//InvisionCommunity Events 4.7.14//EN
METHOD:PUBLISH
CALSCALE:GREGORIAN
REFRESH-INTERVAL:PT15M
X-PUBLISHED-TTL:PT15M
X-WR-CALNAME:The Elder Scrolls Online
NAME:The Elder Scrolls Online
BEGIN:VTIMEZONE
TZID:Europe/London
TZURL:http://tzurl.org/zoneinfo/Europe/London
X-LIC-LOCATION:Europe/London
BEGIN:DAYLIGHT
TZOFFSETFROM:+0000
TZOFFSETTO:+0100
TZNAME:BST
DTSTART:20220327T020000Z
RRULE:FREQ=YEARLY;BYMONTH=3;BYDAY=-1SU
END:DAYLIGHT
BEGIN:STANDARD
TZOFFSETFROM:+0100
TZOFFSETTO:+0000
TZNAME:GMT
DTSTART:20221030T020000Z
RRULE:FREQ=YEARLY;BYMONTH=10;BYDAY=-1SU
END:STANDARD
END:VTIMEZONE
BEGIN:VEVENT
SUMMARY:[TESO] Ветеранское испытание Солн
	ечный Шпиль (vSS)
DTSTAMP:20221218T084612Z
SEQUENCE:0
UID:10768-1-afb15bc42254ad5fb0481ce5e9c8144d@forum.bandits-clan.ru
ORGANIZER;CN="elqwero":web@bandits-clan.ru
DESCRIPTION:\n	Пригла
	шаю всех желающих
	 пройти Ветеранс
	кое испытание Со
	лнечный Шпиль.\n\
	n\n\n	Обязательные адд
	оны необходимо настр
	оить до начала события.\n\n\n\n	Н
	еобходимый состав:\n\n\n\n	\n		2 Танка\n	
	\n	\n		2 Лекаря\n	\n	\n		8 Бойцов\n	\n\n\n\n
		Обязательные аддоны:\n\n\n\n	\n		RaidNotifier (https://
	www.esoui.com/downloads/info1355-RaidNotifierUpdated.html)\n	\n	\n		OdySup
	portIcons (https://www.esoui.com/downloads/info2834-OdySupportIcons-GroupR
	oleIconsMore.html). Или анал
	огичные ад
	доны (доба
	вляющие ик
	онки ролей 
	над головой персонаж
	ей и увеличенную иконку короны(рей
	д-лидера))\n	\n	\n		Hodor Reflexes (Необхо
	дим для горна и колосса) (https://www.esoui.com/downloa
	ds/info2311-HodorReflexes-DPSUltimateShare.html)\n	\n\n\n\n	Т
	ребования для участия:\n\n\n\n	\n		З
	вание Veteran Bandit/Ветеран Бандит\n	\
	n	\n		Discord и наличие микрофона\n	\n	\n		Т
	абард гильдии Daggerfall Bandits / Bandits Cla
	n\n	\n	\n		Приобретенное дополнение Elsweyr
	 или ESO Plus\n	\n\n\n\n	Дл
	я подтверждения учас
	тия необходимо отметить
	ся в календаре:\n\n\n\n	\n		Н
	ажать кнопку Пойду\n	\n	\n		
	Указать свою роль и ID 
	в комментариях\n	\n	\
	n		Если по каки
	м-то причинам 
	не получится п
	рийти\, отписаться в комментариях\,
	 изменив свое сообщение\n	\n\n
DTSTART:20221228T170000Z
DTEND:20221228T170500Z
ATTENDEE;CN="elqwero";CUTYPE=INDIVIDUAL;PARTSTAT=ACCEPTED:we
	b@bandits-clan.ru
ATTENDEE;CN="Hvarna";CUTYPE=INDIVIDUAL;PARTSTAT=ACCEPTED:web
	@bandits-clan.ru
ATTENDEE;CN="xDiezel";CUTYPE=INDIVIDUAL;PARTSTAT=ACCEPTED:we
	b@bandits-clan.ru
ATTENDEE;CN="LuftHuronBlackHeart";CUTYPE=INDIVIDUAL;PARTSTAT
	=ACCEPTED:web@bandits-clan.ru
ATTENDEE;CN="Kroniak";CUTYPE=INDIVIDUAL;PARTSTAT=ACCEPTED:we
	b@bandits-clan.ru
ATTENDEE;CN="Be1Fgor";CUTYPE=INDIVIDUAL;PARTSTAT=ACCEPTED:we
	b@bandits-clan.ru
ATTENDEE;CN="Денмарк";CUTYPE=INDIVIDUAL;PARTSTAT=ACCE
	PTED:web@bandits-clan.ru
ATTENDEE;CN="c@6aka";CUTYPE=INDIVIDUAL;PARTSTAT=ACCEPTED:web
	@bandits-clan.ru
ATTENDEE;CN="Plastiko89";CUTYPE=INDIVIDUAL;PARTSTAT=ACCEPTED
	:web@bandits-clan.ru
ATTENDEE;CN="Znagi";CUTYPE=INDIVIDUAL;PARTSTAT=ACCEPTED:web@
	bandits-clan.ru
END:VEVENT
END:VCALENDAR
