BEGIN:VCALENDAR
VERSION:2.0
PRODID:-//InvisionCommunity Events 4.7.14//EN
METHOD:PUBLISH
CALSCALE:GREGORIAN
REFRESH-INTERVAL:PT15M
X-PUBLISHED-TTL:PT15M
X-WR-CALNAME:The Elder Scrolls Online
NAME:The Elder Scrolls Online
BEGIN:VTIMEZONE
TZID:Europe/London
TZURL:http://tzurl.org/zoneinfo/Europe/London
X-LIC-LOCATION:Europe/London
BEGIN:DAYLIGHT
TZOFFSETFROM:+0000
TZOFFSETTO:+0100
TZNAME:BST
DTSTART:20220327T020000Z
RRULE:FREQ=YEARLY;BYMONTH=3;BYDAY=-1SU
END:DAYLIGHT
BEGIN:STANDARD
TZOFFSETFROM:+0100
TZOFFSETTO:+0000
TZNAME:GMT
DTSTART:20221030T020000Z
RRULE:FREQ=YEARLY;BYMONTH=10;BYDAY=-1SU
END:STANDARD
END:VTIMEZONE
BEGIN:VEVENT
SUMMARY:[TESO] Ветеранское и
	спытание Цитадель Хел Ра + Хард Мод (vHRC +HM)
DTSTAMP:20221217T120441Z
SEQUENCE:0
UID:10762-1-afb15bc42254ad5fb0481ce5e9c8144d@forum.bandits-clan.ru
ORGANIZER;CN="elqwero":web@bandits-clan.ru
DESCRIPTION:\n	\n		\n			 \n		\n	\n\n	\n		\n			\n				П
	риглашаю всех 
	желающих пройти испытание 
	Цитадель Хел Ра вет. + Хард Мод (vHR
	C +HM)\n			\n\n			\n				Необходимый состав:\n			\n\n	
			\n				\n					2 Танка\n				\n				\n					2 Лекаря\n				\n		
			\n					8 Бойцов\n				\n			\n\n			\n				Обязатель
	ные аддоны:\n			\n\n			\n				\n					Bandits User Interface\n				\
	n			\n\n			\n				Требования для участия:\n			\n\
	n			\n				\n					Звание Bandit/Бандит\n				\n				\n			
			Discord и наличие микрофона\n				\n				\n	
					Табард гильдии Daggerfall Bandits / Bandits Clan / Bandit
	s Force\n				\n			\n\n			\n				Для 
	подтверждения участия не
	обходимо отметиться в календар
	е:\n			\n\n			\n				\n					Нажать кнопку Пойду\
	n				\n				\n					Указать свою роль и ID в ко
	мментариях\n				\n				\n		
				Если по каки
	м-то причинам 
	не получится п
	рийти\, отписаться в комме
	нтариях\, изменив свое сообщение.\n				\n			\n	
		\n	\n\n
DTSTART:20221221T130000Z
DTEND:20221221T130500Z
ATTENDEE;CN="elqwero";CUTYPE=INDIVIDUAL;PARTSTAT=ACCEPTED:we
	b@bandits-clan.ru
ATTENDEE;CN="Plastiko89";CUTYPE=INDIVIDUAL;PARTSTAT=ACCEPTED
	:web@bandits-clan.ru
ATTENDEE;CN="zkeeper19";CUTYPE=INDIVIDUAL;PARTSTAT=ACCEPTED:
	web@bandits-clan.ru
ATTENDEE;CN="LuftHuronBlackHeart";CUTYPE=INDIVIDUAL;PARTSTAT
	=ACCEPTED:web@bandits-clan.ru
ATTENDEE;CN="c@6aka";CUTYPE=INDIVIDUAL;PARTSTAT=ACCEPTED:web
	@bandits-clan.ru
ATTENDEE;CN="BaraBascha";CUTYPE=INDIVIDUAL;PARTSTAT=ACCEPTED
	:web@bandits-clan.ru
END:VEVENT
END:VCALENDAR
