BEGIN:VCALENDAR
VERSION:2.0
PRODID:-//InvisionCommunity Events 4.7.14//EN
METHOD:PUBLISH
CALSCALE:GREGORIAN
REFRESH-INTERVAL:PT15M
X-PUBLISHED-TTL:PT15M
X-WR-CALNAME:The Elder Scrolls Online
NAME:The Elder Scrolls Online
BEGIN:VTIMEZONE
TZID:Europe/London
TZURL:http://tzurl.org/zoneinfo/Europe/London
X-LIC-LOCATION:Europe/London
BEGIN:DAYLIGHT
TZOFFSETFROM:+0000
TZOFFSETTO:+0100
TZNAME:BST
DTSTART:20220327T020000Z
RRULE:FREQ=YEARLY;BYMONTH=3;BYDAY=-1SU
END:DAYLIGHT
BEGIN:STANDARD
TZOFFSETFROM:+0100
TZOFFSETTO:+0000
TZNAME:GMT
DTSTART:20221030T020000Z
RRULE:FREQ=YEARLY;BYMONTH=10;BYDAY=-1SU
END:STANDARD
END:VTIMEZONE
BEGIN:VEVENT
SUMMARY:[TESO] Ветеранс
	кое испытание Изоляционный Санктуарий
	 +1 или +2
DTSTAMP:20221206T171831Z
SEQUENCE:0
UID:10735-1-afb15bc42254ad5fb0481ce5e9c8144d@forum.bandits-clan.ru
ORGANIZER;CN="Raydont":web@bandits-clan.ru
DESCRIPTION:\n	Если вы идете
	 в первый раз\, т
	о хотя бы посм
	отрите гайд по
	 прохождению\,
	 это не обучайк
	а и обучать мех
	аникам никто не бу
	дет. Напомним и осв
	ежим в памяти дл
	я тех\, кто забыл\
	, но не будем все
	 разжевывать д
	осконально. РТ приме
	рно 2 часа\, надеюсь управи
	мся гораздо быстрее.\n\n\n\n	Требован
	ия:\n\n\n\n	\n		300 Очков Героя\n	\n	\n		ДПС 
	в амальгаму от 75к\n	\n	\n		Аддон Hodor Reflexes\n	\n	\n
			Discord\n	\n	\n		Табард гильдии\n	\n
		\n		Дополнение Заводной город\n	\n\n\n\n
		Состав:\n\n\n\n	\n		1 танк\n	\n	\n		2 целителя\n	\n
		\n		9 бойцов\n	\n\n
DTSTART:20221208T180000Z
ATTENDEE;CN="Raydont";CUTYPE=INDIVIDUAL;PARTSTAT=ACCEPTED:we
	b@bandits-clan.ru
ATTENDEE;CN="sda1964";CUTYPE=INDIVIDUAL;PARTSTAT=ACCEPTED:we
	b@bandits-clan.ru
ATTENDEE;CN="Azidalmeloran";CUTYPE=INDIVIDUAL;PARTSTAT=ACCEP
	TED:web@bandits-clan.ru
END:VEVENT
END:VCALENDAR
