BEGIN:VCALENDAR
VERSION:2.0
PRODID:-//InvisionCommunity Events 4.7.14//EN
METHOD:PUBLISH
CALSCALE:GREGORIAN
REFRESH-INTERVAL:PT15M
X-PUBLISHED-TTL:PT15M
X-WR-CALNAME:The Elder Scrolls Online
NAME:The Elder Scrolls Online
BEGIN:VTIMEZONE
TZID:Europe/London
TZURL:http://tzurl.org/zoneinfo/Europe/London
X-LIC-LOCATION:Europe/London
BEGIN:DAYLIGHT
TZOFFSETFROM:+0000
TZOFFSETTO:+0100
TZNAME:BST
DTSTART:20220327T020000Z
RRULE:FREQ=YEARLY;BYMONTH=3;BYDAY=-1SU
END:DAYLIGHT
BEGIN:STANDARD
TZOFFSETFROM:+0100
TZOFFSETTO:+0000
TZNAME:GMT
DTSTART:20221030T020000Z
RRULE:FREQ=YEARLY;BYMONTH=10;BYDAY=-1SU
END:STANDARD
END:VTIMEZONE
BEGIN:VEVENT
SUMMARY:[TESO] Ветеранское ис
	пытание Каменная Роща (vRG) (обучайка)
DTSTAMP:20221206T131443Z
SEQUENCE:0
UID:10734-1-afb15bc42254ad5fb0481ce5e9c8144d@forum.bandits-clan.ru
ORGANIZER;CN="Stonechump":web@bandits-clan.ru
DESCRIPTION:\n	При сборе 
	приоритет у за
	писавшихся. Ес
	ли вы записались\, но не
	 пришли в дискорд до н
	ачала события (20:00)
	\, то ваше место может 
	занять любой желающий из
	 чата.\n\n\n\n	Если уже з
	аписано 12 игроко
	в\, или же места в
	ашей роли заняты
	\, всё равно запи
	сывайтесь\, так
	 как люди могут
	 не прийти и тогда м
	есто достанется вам
	 в порядке очереди.\n\
	n\n\n	Внимание! Собы
	тие не состоится\, есл
	и в записи будет меньш
	е 6 желающих.\n\n\n\n	По
	жалуйста\, если
	 вы записались\
	, в комментарии 
	к событию напи
	шите в какой роли 
	вы хотите пойти и
	 в какой можете (тан
	х/хил/дд) - но тольк
	о роли с аттестацией\, а
	 так же укажите свой ник
	 в игре.\n\n\n\n	Внимание! 
	Триал обучающий н
	а 2 часа. Это зна
	чит\, что он не на про
	хождение. Прочитайте вн
	имательно план ниже.\n\n\n\
	n	План следующий:\n\n\n\n	1) Уб
	ьём скрытого боса об
	язательно.\n\n\n\n	2)
	 На убийство п
	ервого боса Оа
	зилцо выделяется
	 час. Если за час и
	ли меньше мы его 
	убиваем\, то рейд
	 тайм 2 часа проходим дал
	ьше сколько и до куда ус
	пеем и сможем.\n\n\n\n	3)
	 Если за час О
	азилцо убит
	ь не получит
	ся\, то на оставший
	ся час идём проходить но
	рмальную Каменную Рощу.\n\n\n\n	Тр
	ебования:\n\n\n\n	\n		160 Очков 
	Героя\n	\n	\n		Гиль
	дейский ран
	г Бандит и выше (т
	о есть сданная аттестация в
	 соответствующей роли)\n	\n	\n		Аддон Qcell's Rock
	grove Helper\n	\n	\n		Discord\n	\n	\n		Табард гильд
	ии\n	\n	\n		Глава Черный Лес\n	\n\n\n\n	Состав:
	\n\n\n\n	\n		2 танка\n	\n	\n		2 целителя\n	\n	\n		8 бой
	цов\n	\n\n
DTSTART:20221209T150000Z
DTEND:20221209T150500Z
ATTENDEE;CN="Stonechump";CUTYPE=INDIVIDUAL;PARTSTAT=ACCEPTED
	:web@bandits-clan.ru
ATTENDEE;CN="elqwero";CUTYPE=INDIVIDUAL;PARTSTAT=ACCEPTED:we
	b@bandits-clan.ru
ATTENDEE;CN="Hvarna";CUTYPE=INDIVIDUAL;PARTSTAT=ACCEPTED:web
	@bandits-clan.ru
ATTENDEE;CN="Obormotic";CUTYPE=INDIVIDUAL;PARTSTAT=ACCEPTED:
	web@bandits-clan.ru
ATTENDEE;CN="Be1Fgor";CUTYPE=INDIVIDUAL;PARTSTAT=ACCEPTED:we
	b@bandits-clan.ru
ATTENDEE;CN="c@6aka";CUTYPE=INDIVIDUAL;PARTSTAT=ACCEPTED:web
	@bandits-clan.ru
ATTENDEE;CN="sda1964";CUTYPE=INDIVIDUAL;PARTSTAT=ACCEPTED:we
	b@bandits-clan.ru
ATTENDEE;CN="LuftHuronBlackHeart";CUTYPE=INDIVIDUAL;PARTSTAT
	=ACCEPTED:web@bandits-clan.ru
ATTENDEE;CN="Plastiko89";CUTYPE=INDIVIDUAL;PARTSTAT=ACCEPTED
	:web@bandits-clan.ru
ATTENDEE;CN="Narevar";CUTYPE=INDIVIDUAL;PARTSTAT=ACCEPTED:we
	b@bandits-clan.ru
ATTENDEE;CN="AlexIsBoow";CUTYPE=INDIVIDUAL;PARTSTAT=ACCEPTED
	:web@bandits-clan.ru
END:VEVENT
END:VCALENDAR
