BEGIN:VCALENDAR
VERSION:2.0
PRODID:-//InvisionCommunity Events 4.7.14//EN
METHOD:PUBLISH
CALSCALE:GREGORIAN
REFRESH-INTERVAL:PT15M
X-PUBLISHED-TTL:PT15M
X-WR-CALNAME:The Elder Scrolls Online
NAME:The Elder Scrolls Online
BEGIN:VTIMEZONE
TZID:Europe/London
TZURL:http://tzurl.org/zoneinfo/Europe/London
X-LIC-LOCATION:Europe/London
BEGIN:DAYLIGHT
TZOFFSETFROM:+0000
TZOFFSETTO:+0100
TZNAME:BST
DTSTART:20220327T020000Z
RRULE:FREQ=YEARLY;BYMONTH=3;BYDAY=-1SU
END:DAYLIGHT
BEGIN:STANDARD
TZOFFSETFROM:+0100
TZOFFSETTO:+0000
TZNAME:GMT
DTSTART:20221030T020000Z
RRULE:FREQ=YEARLY;BYMONTH=10;BYDAY=-1SU
END:STANDARD
END:VTIMEZONE
BEGIN:VEVENT
SUMMARY:[TESO] Нормальное испытание Солн
	ечный шпиль (nSS)
DTSTAMP:20221201T171537Z
SEQUENCE:0
UID:10707-1-afb15bc42254ad5fb0481ce5e9c8144d@forum.bandits-clan.ru
ORGANIZER;CN="Vardan1991":web@bandits-clan.ru
DESCRIPTION:\n	\n		 \n	\n\n\n\n	\n		\n			Игро
	ки\, записавшиес
	я на событие\, пр
	иглашаются в ре
	йд в приоритете. 
	Если вы записали
	сь\, но не пришл
	и к указанному времени
	\, ваше место может занять любо
	й желающий.\n		\n\n		\n			Требования:\n		\n\n
			\n			\n				160 Очков Героя\n			\n			\n				Discord\n			\n
				\n				Табард гильдии\n			\n
				\n				Игровое дополнение Эльсв
	ейр или подписка\n			\n		\n\n		\n			Состав:\n		\n\
	n		\n			\n				1 танк\n			\n			\n				2 лекаря\n			\n			\n		
			9 бойцов\n			\n		\n	\n\n
DTSTART:20221202T152000Z
DTEND:20221202T152500Z
ATTENDEE;CN="Vardan1991";CUTYPE=INDIVIDUAL;PARTSTAT=ACCEPTED
	:web@bandits-clan.ru
ATTENDEE;CN="Surt";CUTYPE=INDIVIDUAL;PARTSTAT=ACCEPTED:web@b
	andits-clan.ru
ATTENDEE;CN="LuftHuronBlackHeart";CUTYPE=INDIVIDUAL;PARTSTAT
	=ACCEPTED:web@bandits-clan.ru
ATTENDEE;CN="Ulfhedhnar";CUTYPE=INDIVIDUAL;PARTSTAT=ACCEPTED
	:web@bandits-clan.ru
END:VEVENT
END:VCALENDAR
