BEGIN:VCALENDAR
VERSION:2.0
PRODID:-//InvisionCommunity Events 4.7.14//EN
METHOD:PUBLISH
CALSCALE:GREGORIAN
REFRESH-INTERVAL:PT15M
X-PUBLISHED-TTL:PT15M
X-WR-CALNAME:The Elder Scrolls Online
NAME:The Elder Scrolls Online
BEGIN:VTIMEZONE
TZID:Europe/London
TZURL:http://tzurl.org/zoneinfo/Europe/London
X-LIC-LOCATION:Europe/London
BEGIN:DAYLIGHT
TZOFFSETFROM:+0000
TZOFFSETTO:+0100
TZNAME:BST
DTSTART:20220327T020000Z
RRULE:FREQ=YEARLY;BYMONTH=3;BYDAY=-1SU
END:DAYLIGHT
BEGIN:STANDARD
TZOFFSETFROM:+0100
TZOFFSETTO:+0000
TZNAME:GMT
DTSTART:20221030T020000Z
RRULE:FREQ=YEARLY;BYMONTH=10;BYDAY=-1SU
END:STANDARD
END:VTIMEZONE
BEGIN:VEVENT
SUMMARY:[TESO] Ветеранское испытание Эте
	рианский Архив (vAA)
DTSTAMP:20221201T082052Z
SEQUENCE:0
UID:10704-1-afb15bc42254ad5fb0481ce5e9c8144d@forum.bandits-clan.ru
ORGANIZER;CN="elqwero":web@bandits-clan.ru
DESCRIPTION:\n	Пригла
	шаю всех желающих
	 пройти испытание Этери
	анский Архив вет.\n\n\n\n	Необходимый с
	остав:\n\n\n\n	\n		1 Танк\n	\n	\n		1 Лекарь\n	\n	\n	
		9 Бойцов\n	\n\n\n\n	Требования для уча
	стия:\n\n\n\n	\n		Звание Raider/Рейдер\n	\
	n	\n		Discord и наличие микрофона\n	\n	\n		Т
	абард гильдии Daggerfall Bandits / Bandits Clan / Bandits Forc
	e\n	\n\n\n\n	Для подт
	верждения участия не
	обходимо отметиться в календ
	аре:\n\n\n\n	\n		Нажать кнопку По
	йду\n	\n	\n		Указать свою роль 
	и ID в комментариях\n	
	\n	\n		Если по каки
	м-то причинам 
	не получится п
	рийти\, отписаться в комментариях\,
	 изменив свое сообщение\n	\n\n
DTSTART:20221205T130000Z
DTEND:20221205T130500Z
ATTENDEE;CN="elqwero";CUTYPE=INDIVIDUAL;PARTSTAT=ACCEPTED:we
	b@bandits-clan.ru
ATTENDEE;CN="Oven";CUTYPE=INDIVIDUAL;PARTSTAT=ACCEPTED:web@b
	andits-clan.ru
ATTENDEE;CN="c@6aka";CUTYPE=INDIVIDUAL;PARTSTAT=ACCEPTED:web
	@bandits-clan.ru
ATTENDEE;CN="Be1Fgor";CUTYPE=INDIVIDUAL;PARTSTAT=ACCEPTED:we
	b@bandits-clan.ru
END:VEVENT
END:VCALENDAR
