BEGIN:VCALENDAR
VERSION:2.0
PRODID:-//InvisionCommunity Events 4.7.14//EN
METHOD:PUBLISH
CALSCALE:GREGORIAN
REFRESH-INTERVAL:PT15M
X-PUBLISHED-TTL:PT15M
X-WR-CALNAME:The Elder Scrolls Online
NAME:The Elder Scrolls Online
BEGIN:VTIMEZONE
TZID:Europe/London
TZURL:http://tzurl.org/zoneinfo/Europe/London
X-LIC-LOCATION:Europe/London
BEGIN:DAYLIGHT
TZOFFSETFROM:+0000
TZOFFSETTO:+0100
TZNAME:BST
DTSTART:20220327T020000Z
RRULE:FREQ=YEARLY;BYMONTH=3;BYDAY=-1SU
END:DAYLIGHT
BEGIN:STANDARD
TZOFFSETFROM:+0100
TZOFFSETTO:+0000
TZNAME:GMT
DTSTART:20221030T020000Z
RRULE:FREQ=YEARLY;BYMONTH=10;BYDAY=-1SU
END:STANDARD
END:VTIMEZONE
BEGIN:VEVENT
SUMMARY:[TESO] Нормальное ис
	пытание Риф Зловещих Парусов (nDSR) (ФАРМ 
	ТРИАЛ)
DTSTAMP:20221130T044439Z
SEQUENCE:0
UID:10701-1-afb15bc42254ad5fb0481ce5e9c8144d@forum.bandits-clan.ru
ORGANIZER;CN="Stonechump":web@bandits-clan.ru
DESCRIPTION:\n	 2-3 захода попр
	обуем сделать\, а т
	ам как пойдет\, есл
	и вы записались\,
	 но не пришли д
	о начала события\, 
	то ваше место может зан
	ять любой желающий из чата.\n\n\n
	\n	Требования:\n\n\n\n	\n		160 Очков
	 Героя\n	\n	\n		Глава Высокий Остров\n	\n
		\n		Discord\n	\n	\n		Табард гильдии\n	\n\n\n\n	Сос
	тав:\n\n\n\n	\n		1 танк\n	\n	\n		2 лекаря\n	\n	\n		9 бо
	йцов\n	\n\n
DTSTART:20221130T160000Z
ATTENDEE;CN="Vardan1991";CUTYPE=INDIVIDUAL;PARTSTAT=ACCEPTED
	:web@bandits-clan.ru
ATTENDEE;CN="Fedorrhad";CUTYPE=INDIVIDUAL;PARTSTAT=ACCEPTED:
	web@bandits-clan.ru
ATTENDEE;CN="Ulfhedhnar";CUTYPE=INDIVIDUAL;PARTSTAT=ACCEPTED
	:web@bandits-clan.ru
ATTENDEE;CN="Surt";CUTYPE=INDIVIDUAL;PARTSTAT=ACCEPTED:web@b
	andits-clan.ru
ATTENDEE;CN="LuftHuronBlackHeart";CUTYPE=INDIVIDUAL;PARTSTAT
	=ACCEPTED:web@bandits-clan.ru
END:VEVENT
END:VCALENDAR
