BEGIN:VCALENDAR
VERSION:2.0
PRODID:-//InvisionCommunity Events 4.7.14//EN
METHOD:PUBLISH
CALSCALE:GREGORIAN
REFRESH-INTERVAL:PT15M
X-PUBLISHED-TTL:PT15M
X-WR-CALNAME:The Elder Scrolls Online
NAME:The Elder Scrolls Online
BEGIN:VTIMEZONE
TZID:Europe/London
TZURL:http://tzurl.org/zoneinfo/Europe/London
X-LIC-LOCATION:Europe/London
BEGIN:DAYLIGHT
TZOFFSETFROM:+0000
TZOFFSETTO:+0100
TZNAME:BST
DTSTART:20220327T020000Z
RRULE:FREQ=YEARLY;BYMONTH=3;BYDAY=-1SU
END:DAYLIGHT
BEGIN:STANDARD
TZOFFSETFROM:+0100
TZOFFSETTO:+0000
TZNAME:GMT
DTSTART:20221030T020000Z
RRULE:FREQ=YEARLY;BYMONTH=10;BYDAY=-1SU
END:STANDARD
END:VTIMEZONE
BEGIN:VEVENT
SUMMARY:[TESO] Аттестация танков
DTSTAMP:20221106T230720Z
SEQUENCE:0
UID:10645-1-afb15bc42254ad5fb0481ce5e9c8144d@forum.bandits-clan.ru
ORGANIZER;CN="Satius":web@bandits-clan.ru
DESCRIPTION:\n	На этой неделе - в среду
	.\n\n\n\n	 \n\n\n\n	Пригла
	шаем танко
	в проверит
	ь себя и с
	дать аттестац
	ию на подтвержден
	ие своего элитного
	 скилла танкования.
	  \n\n\n\n	Для каждо
	го игрока в за
	чёт идут толь
	ко первые 2 
	попытки. Пр
	иоритет в очереди н
	а сдачу аттестации
	 у записавшихся на
	 событие.\n\n\n\n	Подробно
	сти об аттестации м
	ожно почитать здесь
	:\n\n\n\n\n	Помимо неп
	осредственно
	 самой аттеста
	ции в Драгон С
	тар Арене\, любо
	й игрок может полу
	чить советы по танкова
	нию и всём\, что вокруг
	 этого.\n\n\n\n	Требов
	ание: Желание учиться\, слушать\, по
	нимать и подстраиваться.\n\n
DTSTART:20221109T150000Z
ATTENDEE;CN="Satius";CUTYPE=INDIVIDUAL;PARTSTAT=ACCEPTED:web
	@bandits-clan.ru
ATTENDEE;CN="Ulfhedhnar";CUTYPE=INDIVIDUAL;PARTSTAT=ACCEPTED
	:web@bandits-clan.ru
ATTENDEE;CN="DrMisanthrope";CUTYPE=INDIVIDUAL;PARTSTAT=ACCEP
	TED:web@bandits-clan.ru
END:VEVENT
END:VCALENDAR
