BEGIN:VCALENDAR
VERSION:2.0
PRODID:-//InvisionCommunity Events 4.7.14//EN
METHOD:PUBLISH
CALSCALE:GREGORIAN
REFRESH-INTERVAL:PT15M
X-PUBLISHED-TTL:PT15M
X-WR-CALNAME:The Elder Scrolls Online
NAME:The Elder Scrolls Online
BEGIN:VTIMEZONE
TZID:Europe/London
TZURL:http://tzurl.org/zoneinfo/Europe/London
X-LIC-LOCATION:Europe/London
BEGIN:DAYLIGHT
TZOFFSETFROM:+0000
TZOFFSETTO:+0100
TZNAME:BST
DTSTART:20220327T020000Z
RRULE:FREQ=YEARLY;BYMONTH=3;BYDAY=-1SU
END:DAYLIGHT
BEGIN:STANDARD
TZOFFSETFROM:+0100
TZOFFSETTO:+0000
TZNAME:GMT
DTSTART:20221030T020000Z
RRULE:FREQ=YEARLY;BYMONTH=10;BYDAY=-1SU
END:STANDARD
END:VTIMEZONE
BEGIN:VEVENT
SUMMARY:[TESO] вет Клаудрест (Cloudrest)
DTSTAMP:20221026T204418Z
SEQUENCE:0
UID:10615-1-afb15bc42254ad5fb0481ce5e9c8144d@forum.bandits-clan.ru
ORGANIZER;CN="Semeckiy ":web@bandits-clan.ru
DESCRIPTION:\n	\n		\n			Пригл
	ашаю всех желающих пройти ветера
	нское испытание Cloudrest.\n		\n	\n\n\n\n	\
	n		\n			Необходимый состав:\n		\n\n		\n			\n				2 
	танка\n			\n			\n				2 хила\n			\n			\n				8 дд\n			\n		
	\n\n		\n			Обязательные аддоны:\n		\n\n		\
	n			\n				рейдовые аддоны\n			\n			\n				https://www.esoui.c
	om/downloads/info3497-HowToCloudrest.html\n			\n			\n				https://www.esoui
	.com/downloads/info1855-CodesCombatAlerts.html\n			\n		\n\n		\n			
	Требования для участия:\n		\n\n		\n			\n		
			Звание Bandit/Бандит\n			\n			\n				Disco
	rd хотя бы только на приём\
	n			\n			\n				Табард любой гильдии сообщества
	 Bandits\n			\n		\n\n		\n			Для 
	подтверждения участия не
	обходимо отметиться в календ
	аре:\n		\n\n		\n			\n				Нажать кнопку По
	йду\n			\n			\n				Указать свою роль\, ID 
	\n			\n			\n				Если по ка
	ким-то причина
	м не получитс
	я прийти\, отписаться в 
	комментариях\, изменив свое сообщение\n			
	\n		\n	\n\n
DTSTART:20221102T170000Z
ATTENDEE;CN="Semeckiy ";CUTYPE=INDIVIDUAL;PARTSTAT=ACCEPTED:
	web@bandits-clan.ru
ATTENDEE;CN="DrMisanthrope";CUTYPE=INDIVIDUAL;PARTSTAT=ACCEP
	TED:web@bandits-clan.ru
ATTENDEE;CN="BaraBascha";CUTYPE=INDIVIDUAL;PARTSTAT=ACCEPTED
	:web@bandits-clan.ru
ATTENDEE;CN="Kroniak";CUTYPE=INDIVIDUAL;PARTSTAT=ACCEPTED:we
	b@bandits-clan.ru
ATTENDEE;CN="Azidalmeloran";CUTYPE=INDIVIDUAL;PARTSTAT=ACCEP
	TED:web@bandits-clan.ru
ATTENDEE;CN="Shinegid";CUTYPE=INDIVIDUAL;PARTSTAT=ACCEPTED:w
	eb@bandits-clan.ru
ATTENDEE;CN="Detactor";CUTYPE=INDIVIDUAL;PARTSTAT=ACCEPTED:w
	eb@bandits-clan.ru
ATTENDEE;CN="elqwero";CUTYPE=INDIVIDUAL;PARTSTAT=ACCEPTED:we
	b@bandits-clan.ru
ATTENDEE;CN="ArktikA";CUTYPE=INDIVIDUAL;PARTSTAT=ACCEPTED:we
	b@bandits-clan.ru
ATTENDEE;CN="Денмарк";CUTYPE=INDIVIDUAL;PARTSTAT=ACCE
	PTED:web@bandits-clan.ru
ATTENDEE;CN="xDiezel";CUTYPE=INDIVIDUAL;PARTSTAT=ACCEPTED:we
	b@bandits-clan.ru
ATTENDEE;CN="Hvarna";CUTYPE=INDIVIDUAL;PARTSTAT=ACCEPTED:web
	@bandits-clan.ru
ATTENDEE;CN="bonart";CUTYPE=INDIVIDUAL;PARTSTAT=ACCEPTED:web
	@bandits-clan.ru
ATTENDEE;CN="IMoroz";CUTYPE=INDIVIDUAL;PARTSTAT=ACCEPTED:web
	@bandits-clan.ru
ATTENDEE;CN="Plastiko89";CUTYPE=INDIVIDUAL;PARTSTAT=ACCEPTED
	:web@bandits-clan.ru
END:VEVENT
END:VCALENDAR
