BEGIN:VCALENDAR
VERSION:2.0
PRODID:-//InvisionCommunity Events 4.7.14//EN
METHOD:PUBLISH
CALSCALE:GREGORIAN
REFRESH-INTERVAL:PT15M
X-PUBLISHED-TTL:PT15M
X-WR-CALNAME:The Elder Scrolls Online
NAME:The Elder Scrolls Online
BEGIN:VTIMEZONE
TZID:Europe/London
TZURL:http://tzurl.org/zoneinfo/Europe/London
X-LIC-LOCATION:Europe/London
BEGIN:DAYLIGHT
TZOFFSETFROM:+0000
TZOFFSETTO:+0100
TZNAME:BST
DTSTART:20220327T020000Z
RRULE:FREQ=YEARLY;BYMONTH=3;BYDAY=-1SU
END:DAYLIGHT
BEGIN:STANDARD
TZOFFSETFROM:+0100
TZOFFSETTO:+0000
TZNAME:GMT
DTSTART:20221030T020000Z
RRULE:FREQ=YEARLY;BYMONTH=10;BYDAY=-1SU
END:STANDARD
END:VTIMEZONE
BEGIN:VEVENT
SUMMARY:[TESO] вет триал на выбор группы
DTSTAMP:20221016T162305Z
SEQUENCE:0
UID:10566-1-afb15bc42254ad5fb0481ce5e9c8144d@forum.bandits-clan.ru
ORGANIZER;CN="Semeckiy ":web@bandits-clan.ru
DESCRIPTION:\n	\n		\n			О событии\n		\n	\n\n	\n	
		\n			Приглаша
	ю всех жела
	ющих прой
	ти ветеранское и
	спытание. Ваши пожелания остав
	ляйте в комментариях.\n		\n	\n\n\n\n	\n
			\n			Необходимый состав:\n		\n\n		\n			\n				2 Т
	анка\n			\n			\n				2 Лекаря\n			\n			\n				8 Бойцов\n		
		\n		\n\n		\n			Обязательные аддоны:\n		\n
	\n		\n			\n				рейдовые аддоны\n			\n		\
	n\n		\n			Требования для участия:\n		\n\n	
		\n			\n				Звание Bandit/Бандит\n			\n			\n				
	Discord хотя бы только на приём\n			\n			\
	n				Табард гильдии Daggerfall Bandits / Bandits Clan\n			\n
			\n\n		\n			Для подт
	верждения участия необходим
	о отметиться в календаре:\n		\n\n		
	\n			\n				Нажать кнопку Пойду\n			\n
				\n				Указать свою роль\, 
	ID и желательный триал в ко
	мментариях\n			\n			\n				
	Если по каким
	-то причинам н
	е получится при
	йти\, отписаться в комментария
	х\, изменив свое сообщение\n			\n		\n	\n\n
DTSTART:20221019T170000Z
ATTENDEE;CN="Shinegid";CUTYPE=INDIVIDUAL;PARTSTAT=ACCEPTED:w
	eb@bandits-clan.ru
ATTENDEE;CN="Semeckiy ";CUTYPE=INDIVIDUAL;PARTSTAT=ACCEPTED:
	web@bandits-clan.ru
ATTENDEE;CN="ArktikA";CUTYPE=INDIVIDUAL;PARTSTAT=ACCEPTED:we
	b@bandits-clan.ru
ATTENDEE;CN="LawOfJulia";CUTYPE=INDIVIDUAL;PARTSTAT=ACCEPTED
	:web@bandits-clan.ru
ATTENDEE;CN="Francless";CUTYPE=INDIVIDUAL;PARTSTAT=ACCEPTED:
	web@bandits-clan.ru
ATTENDEE;CN="AlexIsBoow";CUTYPE=INDIVIDUAL;PARTSTAT=ACCEPTED
	:web@bandits-clan.ru
ATTENDEE;CN="Detactor";CUTYPE=INDIVIDUAL;PARTSTAT=ACCEPTED:w
	eb@bandits-clan.ru
ATTENDEE;CN="c@6aka";CUTYPE=INDIVIDUAL;PARTSTAT=ACCEPTED:web
	@bandits-clan.ru
ATTENDEE;CN="Be1Fgor";CUTYPE=INDIVIDUAL;PARTSTAT=ACCEPTED:we
	b@bandits-clan.ru
ATTENDEE;CN="Heymexa";CUTYPE=INDIVIDUAL;PARTSTAT=ACCEPTED:we
	b@bandits-clan.ru
END:VEVENT
END:VCALENDAR
