BEGIN:VCALENDAR
VERSION:2.0
PRODID:-//InvisionCommunity Events 4.7.14//EN
METHOD:PUBLISH
CALSCALE:GREGORIAN
REFRESH-INTERVAL:PT15M
X-PUBLISHED-TTL:PT15M
X-WR-CALNAME:The Elder Scrolls Online
NAME:The Elder Scrolls Online
BEGIN:VTIMEZONE
TZID:Europe/London
TZURL:http://tzurl.org/zoneinfo/Europe/London
X-LIC-LOCATION:Europe/London
BEGIN:DAYLIGHT
TZOFFSETFROM:+0000
TZOFFSETTO:+0100
TZNAME:BST
DTSTART:20220327T020000Z
RRULE:FREQ=YEARLY;BYMONTH=3;BYDAY=-1SU
END:DAYLIGHT
BEGIN:STANDARD
TZOFFSETFROM:+0100
TZOFFSETTO:+0000
TZNAME:GMT
DTSTART:20221030T020000Z
RRULE:FREQ=YEARLY;BYMONTH=10;BYDAY=-1SU
END:STANDARD
END:VTIMEZONE
BEGIN:VEVENT
SUMMARY:[TESO] обучающее испытание
	 вет. Солнечный шпиль (Sun Spire)
DTSTAMP:20221009T183957Z
SEQUENCE:0
UID:10563-1-afb15bc42254ad5fb0481ce5e9c8144d@forum.bandits-clan.ru
ORGANIZER;CN="Semeckiy ":web@bandits-clan.ru
DESCRIPTION:\n	\n		\n			О событии\n		\n	\n\n	\n	
		\n			Приглаш
	аю всех желающих про
	йти ветеранское испытание Сол
	нечный шпиль\n		\n	\n\n\n\n	\n		\n			Необходим
	ый состав:\n		\n\n		\n			\n				2 Танка\n			\n			\n				2
	 Лекаря\n			\n			\n				8 Бойцов\n			\n		\n\n
			\n			Обязательные аддоны:\n		\n\n		\n			
	\n				рейдовые аддоны\n			\n			\n				https://www.esoui.com/d
	ownloads/info2430-HowToSunspire.html\n			\n		\n\n		\n			Тр
	ебования для участия:\n		\n\n		\n			\n				Зв
	ание Bandit/Бандит\n			\n			\n				Discord и нал
	ичие микрофона\n			\n			\n				Табард гильдии Dag
	gerfall Bandits / Bandits Clan\n			\n		\n\n		\n			Дл
	я подтверждения участия
	 необходимо отметиться в ка
	лендаре:\n		\n\n		\n			\n				Нажать кноп
	ку Пойду\n			\n			\n				Указать свою 
	роль и ID в комментариях\n		
		\n			\n				Если по каки
	м-то причинам 
	не получится п
	рийти\, отписаться в комме
	нтариях\, изменив свое сообщение\n			\n		\n	\n\
	n
DTSTART:20221012T170000Z
ATTENDEE;CN="Semeckiy ";CUTYPE=INDIVIDUAL;PARTSTAT=ACCEPTED:
	web@bandits-clan.ru
ATTENDEE;CN="DrMisanthrope";CUTYPE=INDIVIDUAL;PARTSTAT=ACCEP
	TED:web@bandits-clan.ru
ATTENDEE;CN="Shinegid";CUTYPE=INDIVIDUAL;PARTSTAT=ACCEPTED:w
	eb@bandits-clan.ru
ATTENDEE;CN="ArktikA";CUTYPE=INDIVIDUAL;PARTSTAT=ACCEPTED:we
	b@bandits-clan.ru
ATTENDEE;CN="elqwero";CUTYPE=INDIVIDUAL;PARTSTAT=ACCEPTED:we
	b@bandits-clan.ru
ATTENDEE;CN="wraanger";CUTYPE=INDIVIDUAL;PARTSTAT=ACCEPTED:w
	eb@bandits-clan.ru
ATTENDEE;CN="Narevar";CUTYPE=INDIVIDUAL;PARTSTAT=ACCEPTED:we
	b@bandits-clan.ru
ATTENDEE;CN="bonart";CUTYPE=INDIVIDUAL;PARTSTAT=ACCEPTED:web
	@bandits-clan.ru
ATTENDEE;CN="IMoroz";CUTYPE=INDIVIDUAL;PARTSTAT=ACCEPTED:web
	@bandits-clan.ru
ATTENDEE;CN="c@6aka";CUTYPE=INDIVIDUAL;PARTSTAT=ACCEPTED:web
	@bandits-clan.ru
ATTENDEE;CN="DanyTwyt";CUTYPE=INDIVIDUAL;PARTSTAT=ACCEPTED:w
	eb@bandits-clan.ru
ATTENDEE;CN="Fedorrhad";CUTYPE=INDIVIDUAL;PARTSTAT=ACCEPTED:
	web@bandits-clan.ru
END:VEVENT
END:VCALENDAR
