BEGIN:VCALENDAR
VERSION:2.0
PRODID:-//InvisionCommunity Events 4.7.14//EN
METHOD:PUBLISH
CALSCALE:GREGORIAN
REFRESH-INTERVAL:PT15M
X-PUBLISHED-TTL:PT15M
X-WR-CALNAME:The Elder Scrolls Online
NAME:The Elder Scrolls Online
BEGIN:VTIMEZONE
TZID:Europe/London
TZURL:http://tzurl.org/zoneinfo/Europe/London
X-LIC-LOCATION:Europe/London
BEGIN:DAYLIGHT
TZOFFSETFROM:+0000
TZOFFSETTO:+0100
TZNAME:BST
DTSTART:20220327T020000Z
RRULE:FREQ=YEARLY;BYMONTH=3;BYDAY=-1SU
END:DAYLIGHT
BEGIN:STANDARD
TZOFFSETFROM:+0100
TZOFFSETTO:+0000
TZNAME:GMT
DTSTART:20221030T020000Z
RRULE:FREQ=YEARLY;BYMONTH=10;BYDAY=-1SU
END:STANDARD
END:VTIMEZONE
BEGIN:VEVENT
SUMMARY:[TESO] Ветеранское
	 испытание Риф Зловещих Парусов (vDSR О
	бучающий) v.3
DTSTAMP:20221005T200108Z
SEQUENCE:0
UID:10544-1-afb15bc42254ad5fb0481ce5e9c8144d@forum.bandits-clan.ru
ORGANIZER;CN="Orfice":web@bandits-clan.ru
DESCRIPTION:\n	Приглаш
	аю всех желающих 
	пройти испытание Риф Зло
	вещих Парусов.\n\n\n\n	Необходимый соста
	в:\n\n\n\n	\n		2 Танка\n	\n	\n		2 Хилера\n	\n	\n		8 
	ДД\n	\n\n\n\n	Обязательные аддоны:\n\n\n\n	\n		OdySupp
	ortIcons\n	\n	\n		Qcell's Dreadsail Reef Helper\n	\n\n\n\n	Тр
	ебования для участия:\n\n\n\n	\n		Звание Ba
	ndit/Бандит\n	\n	\n		Discord и наличие
	 микрофона\n	\n	\n		Табард гильдии Daggerfall Bandit
	s / Bandits Clan\n	\n\n\n\n	Для 
	подтверждения участ
	ия необходимо отметиться
	 в календаре:\n\n\n\n	\n		Нажа
	ть кнопку Пойду\n	\n	\n		Указ
	ать свою роль и ID в ком
	ментариях\n	\n	\n		Е
	сли по каким-т
	о причинам не 
	получится прийти
	\, отписаться в комментариях\, изменив 
	свое сообщение\n	\n\n
DTSTART:20221007T150000Z
DTEND:20221007T165900Z
ATTENDEE;CN="ДенисБогданов";CUTYPE=INDIVIDUAL;P
	ARTSTAT=ACCEPTED:web@bandits-clan.ru
ATTENDEE;CN="Orfice";CUTYPE=INDIVIDUAL;PARTSTAT=ACCEPTED:web
	@bandits-clan.ru
ATTENDEE;CN="BaraBascha";CUTYPE=INDIVIDUAL;PARTSTAT=ACCEPTED
	:web@bandits-clan.ru
ATTENDEE;CN="ArktikA";CUTYPE=INDIVIDUAL;PARTSTAT=ACCEPTED:we
	b@bandits-clan.ru
ATTENDEE;CN="IMoroz";CUTYPE=INDIVIDUAL;PARTSTAT=ACCEPTED:web
	@bandits-clan.ru
ATTENDEE;CN="elqwero";CUTYPE=INDIVIDUAL;PARTSTAT=ACCEPTED:we
	b@bandits-clan.ru
ATTENDEE;CN="c@6aka";CUTYPE=INDIVIDUAL;PARTSTAT=ACCEPTED:web
	@bandits-clan.ru
ATTENDEE;CN="Betonomesalka";CUTYPE=INDIVIDUAL;PARTSTAT=ACCEP
	TED:web@bandits-clan.ru
ATTENDEE;CN="Heymexa";CUTYPE=INDIVIDUAL;PARTSTAT=ACCEPTED:we
	b@bandits-clan.ru
END:VEVENT
END:VCALENDAR
