BEGIN:VCALENDAR
VERSION:2.0
PRODID:-//InvisionCommunity Events 4.7.14//EN
METHOD:PUBLISH
CALSCALE:GREGORIAN
REFRESH-INTERVAL:PT15M
X-PUBLISHED-TTL:PT15M
X-WR-CALNAME:Black Desert Online
NAME:Black Desert Online
BEGIN:VTIMEZONE
TZID:Europe/London
TZURL:http://tzurl.org/zoneinfo/Europe/London
X-LIC-LOCATION:Europe/London
BEGIN:DAYLIGHT
TZOFFSETFROM:+0000
TZOFFSETTO:+0100
TZNAME:BST
DTSTART:20220327T020000Z
RRULE:FREQ=YEARLY;BYMONTH=3;BYDAY=-1SU
END:DAYLIGHT
BEGIN:STANDARD
TZOFFSETFROM:+0100
TZOFFSETTO:+0000
TZNAME:GMT
DTSTART:20221030T020000Z
RRULE:FREQ=YEARLY;BYMONTH=10;BYDAY=-1SU
END:STANDARD
END:VTIMEZONE
BEGIN:VEVENT
SUMMARY:[BDO] Мировой босс Велл
DTSTAMP:20220924T192612Z
SEQUENCE:0
UID:10499-8-afb15bc42254ad5fb0481ce5e9c8144d@forum.bandits-clan.ru
ORGANIZER;CN="Pupezky":web@bandits-clan.ru
DESCRIPTION:\n	\n		\n			\n				\n					Поход на ми
	рового босса Велл.\n\n			
			Начало сбора группы в 15
	:30\, призыв участников в 15:3
	5 в Велию. Канал Кальф
	еон-1. \n\n					Отплытие состо
	ится от пристани в Велии\, в 
	15:40 по МСК. \n\n					После у
	бийства босса\, плывём обратно в Велию. \n
					\n			\n		\n	\n\n\n\n	\n		\n			Требования:\n		\n\n		\n			\n		
			Discord\n			\n			\n				Желатель
	но иметь хотя бы несколько Слё
	з Эллиан (в случае гибели).\n			\n		\n	\n\n
DTSTART:20221002T130000Z
ATTENDEE;CN="Pupezky";CUTYPE=INDIVIDUAL;PARTSTAT=ACCEPTED:we
	b@bandits-clan.ru
END:VEVENT
END:VCALENDAR
