BEGIN:VCALENDAR
VERSION:2.0
PRODID:-//InvisionCommunity Events 4.7.14//EN
METHOD:PUBLISH
CALSCALE:GREGORIAN
REFRESH-INTERVAL:PT15M
X-PUBLISHED-TTL:PT15M
X-WR-CALNAME:Black Desert Online
NAME:Black Desert Online
BEGIN:VTIMEZONE
TZID:Europe/London
TZURL:http://tzurl.org/zoneinfo/Europe/London
X-LIC-LOCATION:Europe/London
BEGIN:DAYLIGHT
TZOFFSETFROM:+0000
TZOFFSETTO:+0100
TZNAME:BST
DTSTART:20220327T020000Z
RRULE:FREQ=YEARLY;BYMONTH=3;BYDAY=-1SU
END:DAYLIGHT
BEGIN:STANDARD
TZOFFSETFROM:+0100
TZOFFSETTO:+0000
TZNAME:GMT
DTSTART:20221030T020000Z
RRULE:FREQ=YEARLY;BYMONTH=10;BYDAY=-1SU
END:STANDARD
END:VTIMEZONE
BEGIN:VEVENT
SUMMARY:[BDO] Мировой босс Велл
DTSTAMP:20220924T185152Z
SEQUENCE:0
UID:10497-8-afb15bc42254ad5fb0481ce5e9c8144d@forum.bandits-clan.ru
ORGANIZER;CN="Pupezky":web@bandits-clan.ru
DESCRIPTION:\n	\n		\n			 \n		\n	\n\n	\n		\n			\n				\n					П
	оход на мирового босса Велл
	.\n\n					Начало сбора группы в 2
	2:30\, призыв участников в Велию
	 в 22:35. Канал Кальфеон-1.
	 \n\n					Отплытие состоится от п
	ристани в Велии\, в 22:40 по 
	МСК. \n\n					После убийства бос
	са\, плывём обратно в Велию. \n				\n			\n	
		\n	\n\n\n\n	\n		\n			Требования:\n		\n\n		\n			\n				Discord\n	
			\n			\n				Желательно
	 иметь хотя бы несколько Слёз Элли
	ан (в случае гибели).\n			\n		\n	\n\n
DTSTART:20220928T200000Z
ATTENDEE;CN="Pupezky";CUTYPE=INDIVIDUAL;PARTSTAT=ACCEPTED:we
	b@bandits-clan.ru
END:VEVENT
END:VCALENDAR
