BEGIN:VCALENDAR
VERSION:2.0
PRODID:-//InvisionCommunity Events 4.7.14//EN
METHOD:PUBLISH
CALSCALE:GREGORIAN
REFRESH-INTERVAL:PT15M
X-PUBLISHED-TTL:PT15M
X-WR-CALNAME:The Elder Scrolls Online
NAME:The Elder Scrolls Online
BEGIN:VTIMEZONE
TZID:Europe/London
TZURL:http://tzurl.org/zoneinfo/Europe/London
X-LIC-LOCATION:Europe/London
BEGIN:DAYLIGHT
TZOFFSETFROM:+0000
TZOFFSETTO:+0100
TZNAME:BST
DTSTART:20220327T020000Z
RRULE:FREQ=YEARLY;BYMONTH=3;BYDAY=-1SU
END:DAYLIGHT
BEGIN:STANDARD
TZOFFSETFROM:+0100
TZOFFSETTO:+0000
TZNAME:GMT
DTSTART:20221030T020000Z
RRULE:FREQ=YEARLY;BYMONTH=10;BYDAY=-1SU
END:STANDARD
END:VTIMEZONE
BEGIN:VEVENT
SUMMARY:[TESO] Ветеранское испытание Эте
	рианский Архив (vAA)
DTSTAMP:20220912T060302Z
SEQUENCE:0
UID:10468-1-afb15bc42254ad5fb0481ce5e9c8144d@forum.bandits-clan.ru
ORGANIZER;CN="Kubik":web@bandits-clan.ru
DESCRIPTION:\n	Пригла
	шаю всех желающих
	 пройти испытание Этери
	анский Архив вет.\n\n\n\n	Необходимый с
	остав:\n\n\n\n	\n		1 Танк\n	\n	\n		2 Лекаря\n	\n	\n	
		9 Бойцов\n	\n\n\n\n	Обязательные аддоны:\n\n\n\n	
	\n		Bandits User Interface\n	\n\n\n\n	Требования для у
	частия:\n\n\n\n	\n		Звание Raider/Рейдер\n
		\n	\n		Discord и наличие микрофона\n	\n	\n	
		Табард гильдии Daggerfall Bandits / Bandits Clan / Bandits F
	orce\n	\n\n\n\n	Для по
	дтверждения участия 
	необходимо отметиться в ка
	лендаре:\n\n\n\n	\n		Нажать кноп
	ку Пойду\n	\n	\n		Указать свою
	 роль и ID в комментария
	х\n	\n	\n		Если по как
	им-то причинам
	 не получится 
	прийти\, отписаться в комментария
	х\, изменив свое сообщение\n	\n\n
DTSTART:20220915T140000Z
DTEND:20220915T140500Z
ATTENDEE;CN="Kubik";CUTYPE=INDIVIDUAL;PARTSTAT=ACCEPTED:web@
	bandits-clan.ru
ATTENDEE;CN="wraanger";CUTYPE=INDIVIDUAL;PARTSTAT=ACCEPTED:w
	eb@bandits-clan.ru
ATTENDEE;CN="Sspiritless";CUTYPE=INDIVIDUAL;PARTSTAT=ACCEPTE
	D:web@bandits-clan.ru
ATTENDEE;CN="Shinegid";CUTYPE=INDIVIDUAL;PARTSTAT=ACCEPTED:w
	eb@bandits-clan.ru
ATTENDEE;CN="NeOlya";CUTYPE=INDIVIDUAL;PARTSTAT=ACCEPTED:web
	@bandits-clan.ru
ATTENDEE;CN="VenumCat";CUTYPE=INDIVIDUAL;PARTSTAT=ACCEPTED:w
	eb@bandits-clan.ru
ATTENDEE;CN="Tanita";CUTYPE=INDIVIDUAL;PARTSTAT=ACCEPTED:web
	@bandits-clan.ru
ATTENDEE;CN="Kestrel";CUTYPE=INDIVIDUAL;PARTSTAT=ACCEPTED:we
	b@bandits-clan.ru
ATTENDEE;CN="BaraBascha";CUTYPE=INDIVIDUAL;PARTSTAT=ACCEPTED
	:web@bandits-clan.ru
ATTENDEE;CN="Adimus";CUTYPE=INDIVIDUAL;PARTSTAT=ACCEPTED:web
	@bandits-clan.ru
END:VEVENT
END:VCALENDAR
