BEGIN:VCALENDAR
VERSION:2.0
PRODID:-//InvisionCommunity Events 4.7.14//EN
METHOD:PUBLISH
CALSCALE:GREGORIAN
REFRESH-INTERVAL:PT15M
X-PUBLISHED-TTL:PT15M
X-WR-CALNAME:The Elder Scrolls Online
NAME:The Elder Scrolls Online
BEGIN:VTIMEZONE
TZID:Europe/London
TZURL:http://tzurl.org/zoneinfo/Europe/London
X-LIC-LOCATION:Europe/London
BEGIN:DAYLIGHT
TZOFFSETFROM:+0000
TZOFFSETTO:+0100
TZNAME:BST
DTSTART:20220327T020000Z
RRULE:FREQ=YEARLY;BYMONTH=3;BYDAY=-1SU
END:DAYLIGHT
BEGIN:STANDARD
TZOFFSETFROM:+0100
TZOFFSETTO:+0000
TZNAME:GMT
DTSTART:20221030T020000Z
RRULE:FREQ=YEARLY;BYMONTH=10;BYDAY=-1SU
END:STANDARD
END:VTIMEZONE
BEGIN:VEVENT
SUMMARY:[TESO] Ветеранское и
	спытание Санктум-Офидия +Хард Мод (vSO +HM)
DTSTAMP:20220822T061028Z
SEQUENCE:0
UID:10416-1-afb15bc42254ad5fb0481ce5e9c8144d@forum.bandits-clan.ru
ORGANIZER;CN="Satius":web@bandits-clan.ru
DESCRIPTION:\n	\n		Пригла
	шаю всех желающих пр
	ойти испытание Санктум-Офидия
	 вет. +Хард Мод.\n	\n\n\n\n	\n		\n			Необходим
	ый состав:\n		\n\n		\n			\n				2 Танка\n			\n			\n				2
	 Лекаря\n			\n			\n				8 Бойцов\n			\n		\n\n
			\n			Обязательные аддоны:\n		\n\n		\n			\n				Bandits 
	User Interface\n			\n		\n\n		\n			Требования для участ
	ия:\n		\n\n		\n			\n				Звание Bandit/Бандит\n			\n			\
	n				Discord и наличие микрофона\n			\n			\n
					Табард гильдии Daggerfall Bandits / Bandits Clan\n			\n
			\n\n		\n			Для подт
	верждения участия необходим
	о отметиться в календаре:\n		\n\n		
	\n			\n				Нажать кнопку Пойду\n			\
	n			\n				Указать свою роль и ID в к
	омментариях\n			\n			\n		
			Если по каки
	м-то причинам 
	не получится п
	рийти\, отписаться в комме
	нтариях\, изменив свое сообщен
	ие\n			\n		\n\n		\n			Описание испытания:\n		\n		\n\n		
	\n			 \n		\n	\n\n
DTSTART:20220824T160000Z
ATTENDEE;CN="Satius";CUTYPE=INDIVIDUAL;PARTSTAT=ACCEPTED:web
	@bandits-clan.ru
ATTENDEE;CN="Betonomesalka";CUTYPE=INDIVIDUAL;PARTSTAT=ACCEP
	TED:web@bandits-clan.ru
ATTENDEE;CN="AlexIsBoow";CUTYPE=INDIVIDUAL;PARTSTAT=ACCEPTED
	:web@bandits-clan.ru
ATTENDEE;CN="Серелус";CUTYPE=INDIVIDUAL;PARTSTAT=ACCE
	PTED:web@bandits-clan.ru
ATTENDEE;CN="ned880";CUTYPE=INDIVIDUAL;PARTSTAT=ACCEPTED:web
	@bandits-clan.ru
ATTENDEE;CN="SeraDer";CUTYPE=INDIVIDUAL;PARTSTAT=ACCEPTED:we
	b@bandits-clan.ru
ATTENDEE;CN="Zedd";CUTYPE=INDIVIDUAL;PARTSTAT=ACCEPTED:web@b
	andits-clan.ru
ATTENDEE;CN="Егор Юрьевич";CUTYPE=INDIVIDUAL;PART
	STAT=ACCEPTED:web@bandits-clan.ru
ATTENDEE;CN="c@6aka";CUTYPE=INDIVIDUAL;PARTSTAT=ACCEPTED:web
	@bandits-clan.ru
ATTENDEE;CN="Korragnazg";CUTYPE=INDIVIDUAL;PARTSTAT=ACCEPTED
	:web@bandits-clan.ru
END:VEVENT
END:VCALENDAR
