BEGIN:VCALENDAR
VERSION:2.0
PRODID:-//InvisionCommunity Events 4.7.14//EN
METHOD:PUBLISH
CALSCALE:GREGORIAN
REFRESH-INTERVAL:PT15M
X-PUBLISHED-TTL:PT15M
X-WR-CALNAME:The Elder Scrolls Online
NAME:The Elder Scrolls Online
BEGIN:VTIMEZONE
TZID:Europe/London
TZURL:http://tzurl.org/zoneinfo/Europe/London
X-LIC-LOCATION:Europe/London
BEGIN:DAYLIGHT
TZOFFSETFROM:+0000
TZOFFSETTO:+0100
TZNAME:BST
DTSTART:20220327T020000Z
RRULE:FREQ=YEARLY;BYMONTH=3;BYDAY=-1SU
END:DAYLIGHT
BEGIN:STANDARD
TZOFFSETFROM:+0100
TZOFFSETTO:+0000
TZNAME:GMT
DTSTART:20221030T020000Z
RRULE:FREQ=YEARLY;BYMONTH=10;BYDAY=-1SU
END:STANDARD
END:VTIMEZONE
BEGIN:VEVENT
SUMMARY:[TESO] Ролевые походы: Apostate's Krin
DTSTAMP:20220806T111010Z
SEQUENCE:0
UID:10368-1-afb15bc42254ad5fb0481ce5e9c8144d@forum.bandits-clan.ru
ORGANIZER;CN="Korragnazg":web@bandits-clan.ru
DESCRIPTION:\n	 Событие\
	, направленно
	е на закрытие
	 ежедневных за
	даний\, убийст
	ва мировых боссов\,
	 изучение зон и подземелий
	 Тамриэля в формате РП.\n
	\n\n\n	 \n\n\n\n	 Дар’
	ху привет
	ствует каж
	дого читаю
	щего это о
	бъявление.
	 Позвольте
	 каджиту об
	ъяснить чт
	о побудило
	 его обрат
	иться к с
	оратникам
	 за помощью
	.  В послед
	ние нескол
	ько месяцев
	 тучи сгущаю
	тся над Тамри
	елем. Воздух
	 тяжелеет от з
	апахов крови 
	и разложения. 
	Драконы сжига
	ют города\, да
	эдра вырезают 
	целые деревни\
	, мертвые ступ
	ают по земле ж
	ивых\, ведьмы
	 приносят жер
	твы для своих
	 ритуалов\, не
	упокоенные д
	уши предков сто
	нут в ночи. Дар’
	ху видел все эт
	о слишком част
	о\, борясь с эти
	м.  Сейчас кад
	житу как нико
	гда требуется 
	Ваша помощь. Н
	е важно какого 
	Вы происхожде
	ния\, в темниц
	е какого замк
	а коротали сро
	к\, скольких н
	евинных задел
	и клинком во вр
	емя борьбы с тем
	и кто был неправ 
	- Дар’ху знает 
	какого это. Все
	 что от Вас тр
	ебуется - эт
	о сообщить к
	аджиту о сво
	ем намерении
	 сделать Тамрие
	ль лучшим местом
	. Он будет ждат
	ь Вашего пись
	ма с именем\, родом занятий и 
	коротким описанием своих навыков.\n\n
DTSTART:20220809T183000Z
DTEND:20220809T183500Z
ATTENDEE;CN="Raydont";CUTYPE=INDIVIDUAL;PARTSTAT=ACCEPTED:we
	b@bandits-clan.ru
END:VEVENT
END:VCALENDAR
