BEGIN:VCALENDAR
VERSION:2.0
PRODID:-//InvisionCommunity Events 4.7.14//EN
METHOD:PUBLISH
CALSCALE:GREGORIAN
REFRESH-INTERVAL:PT15M
X-PUBLISHED-TTL:PT15M
X-WR-CALNAME:The Elder Scrolls Online
NAME:The Elder Scrolls Online
BEGIN:VTIMEZONE
TZID:Europe/London
TZURL:http://tzurl.org/zoneinfo/Europe/London
X-LIC-LOCATION:Europe/London
BEGIN:DAYLIGHT
TZOFFSETFROM:+0000
TZOFFSETTO:+0100
TZNAME:BST
DTSTART:20220327T020000Z
RRULE:FREQ=YEARLY;BYMONTH=3;BYDAY=-1SU
END:DAYLIGHT
BEGIN:STANDARD
TZOFFSETFROM:+0100
TZOFFSETTO:+0000
TZNAME:GMT
DTSTART:20221030T020000Z
RRULE:FREQ=YEARLY;BYMONTH=10;BYDAY=-1SU
END:STANDARD
END:VTIMEZONE
BEGIN:VEVENT
SUMMARY:[TESO] Ветеранское испытание Солн
	ечный Шпиль (vSS)
DTSTAMP:20220803T130716Z
SEQUENCE:0
UID:10348-1-afb15bc42254ad5fb0481ce5e9c8144d@forum.bandits-clan.ru
ORGANIZER;CN="Raydont":web@bandits-clan.ru
DESCRIPTION:\n	\n		О событии\n	\n\n\n\n	\n		 \n	\n\n\n\n	 \n\n
	\n\n	\n		\n			Если вы записа
	лись\, но не приш
	ли до начала соб
	ытия\, то ваше место может 
	занять любой желающий из чата.\n		\n\n	
		\n			Требования:\n		\n\n		\n			\n				160 Очков Героя
	\n			\n			\n				DLC Греймур или подписка ESO+\n			\n			\
	n				Discord\n			\n			\n				Аддон - Hodor Reflexes\, combat alerts\, 
	raid notifier\n			\n			\n				Актуальные сеты\n			\n		\
	n\n		\n			Состав:\n		\n\n		\n			\n				2 танк\n			\n			\n		
			2 лекаря\n			\n			\n				8 бойцов\n			\n		\n\n		\n			РТ
	 2 часа\n		\n\n		\n			При появл
	ении второй амальгамы - роспуск рейда\n		\n
		\n\n
DTSTART:20220805T160000Z
DTEND:20220805T180100Z
ATTENDEE;CN="Raydont";CUTYPE=INDIVIDUAL;PARTSTAT=ACCEPTED:we
	b@bandits-clan.ru
ATTENDEE;CN="Angry_Duck";CUTYPE=INDIVIDUAL;PARTSTAT=ACCEPTED
	:web@bandits-clan.ru
ATTENDEE;CN="ned880";CUTYPE=INDIVIDUAL;PARTSTAT=ACCEPTED:web
	@bandits-clan.ru
ATTENDEE;CN="Betonomesalka";CUTYPE=INDIVIDUAL;PARTSTAT=ACCEP
	TED:web@bandits-clan.ru
ATTENDEE;CN="BaraBascha";CUTYPE=INDIVIDUAL;PARTSTAT=ACCEPTED
	:web@bandits-clan.ru
ATTENDEE;CN="Aryusik";CUTYPE=INDIVIDUAL;PARTSTAT=ACCEPTED:we
	b@bandits-clan.ru
ATTENDEE;CN="AlexIsBoow";CUTYPE=INDIVIDUAL;PARTSTAT=ACCEPTED
	:web@bandits-clan.ru
ATTENDEE;CN="Серелус";CUTYPE=INDIVIDUAL;PARTSTAT=ACCE
	PTED:web@bandits-clan.ru
ATTENDEE;CN="Tanita";CUTYPE=INDIVIDUAL;PARTSTAT=ACCEPTED:web
	@bandits-clan.ru
ATTENDEE;CN="Semeckiy ";CUTYPE=INDIVIDUAL;PARTSTAT=ACCEPTED:
	web@bandits-clan.ru
ATTENDEE;CN="Satius";CUTYPE=INDIVIDUAL;PARTSTAT=ACCEPTED:web
	@bandits-clan.ru
ATTENDEE;CN="Stonechump";CUTYPE=INDIVIDUAL;PARTSTAT=ACCEPTED
	:web@bandits-clan.ru
END:VEVENT
END:VCALENDAR
