BEGIN:VCALENDAR
VERSION:2.0
PRODID:-//InvisionCommunity Events 4.7.14//EN
METHOD:PUBLISH
CALSCALE:GREGORIAN
REFRESH-INTERVAL:PT15M
X-PUBLISHED-TTL:PT15M
X-WR-CALNAME:The Elder Scrolls Online
NAME:The Elder Scrolls Online
BEGIN:VTIMEZONE
TZID:Europe/London
TZURL:http://tzurl.org/zoneinfo/Europe/London
X-LIC-LOCATION:Europe/London
BEGIN:DAYLIGHT
TZOFFSETFROM:+0000
TZOFFSETTO:+0100
TZNAME:BST
DTSTART:20220327T020000Z
RRULE:FREQ=YEARLY;BYMONTH=3;BYDAY=-1SU
END:DAYLIGHT
BEGIN:STANDARD
TZOFFSETFROM:+0100
TZOFFSETTO:+0000
TZNAME:GMT
DTSTART:20221030T020000Z
RRULE:FREQ=YEARLY;BYMONTH=10;BYDAY=-1SU
END:STANDARD
END:VTIMEZONE
BEGIN:VEVENT
SUMMARY:[TESO] Обучающее вете
	ранское испытание Каменная Роща (vRG)
DTSTAMP:20220724T204525Z
SEQUENCE:0
UID:10315-1-afb15bc42254ad5fb0481ce5e9c8144d@forum.bandits-clan.ru
ORGANIZER;CN="Satius":web@bandits-clan.ru
DESCRIPTION:\n	При сборе 
	приоритет у за
	писавшихся. Ес
	ли вы записались\, но не
	 пришли в дискорд до н
	ачала события (20:00)
	\, то ваше место может 
	занять любой желающий из
	 чата.\n\n\n\n	Если уже з
	аписано 12 игроко
	в\, или же места в
	ашей роли заняты
	\, всё равно запи
	сывайтесь\, так
	 как люди могут
	 не прийти и тогда м
	есто достанется вам
	 в порядке очереди.\n\
	n\n\n	Внимание! Собы
	тие не состоится\, есл
	и в записи будет меньш
	е 6 желающих.\n\n\n\n	По
	жалуйста\, если
	 вы записались\
	, в комментарии 
	к событию напи
	шите в какой роли 
	вы хотите пойти и
	 в какой можете (тан
	х/хил/дд) - но тольк
	о роли с аттестацией\, а
	 так же укажите свой ник
	 в игре.\n\n\n\n	Внимание! 
	Триал обучающий н
	а 2 часа. Это зна
	чит\, что он не на про
	хождение. Прочитайте вни
	мательно план ниже.\n\n\n\n	
	План следующий:\n\n\n\n	1) Убьё
	м скрытого боса обяза
	тельно.\n\n\n\n	2) На 
	убийство перв
	ого боса Оазилцо
	 выделяется час. Ес
	ли за час или мень
	ше мы его убиваем\
	, то рейд тайм 2 ча
	са проходим дальше сколь
	ко и до куда успеем и смо
	жем.\n\n\n\n	3) Если за 
	час Оазилцо 
	убить не по
	лучится\, то н
	а оставшийся час
	 идём проходить нормальную Ка
	менную Рощу.\n\n\n\n	Требования:\n\n\n\n
		\n		160 Очков Героя\n	\n	\
	n		Гильдейски
	й ранг Бандит 
	и выше (то есть сданн
	ая аттестация в соответствующей роли)
	\n	\n	\n		Аддон Qcell's Rockgrove Helper\n	\n	\n		Discord\n	\n	
	\n		Табард гильдии\n	\n	\n		Глава Черный 
	Лес\n	\n\n\n\n	Состав:\n\n\n\n	\n		2 танка\n	\n	\n		
	2 целителя\n	\n	\n		8 уронораздавателя\n	\n\n
DTSTART:20220728T170000Z
ATTENDEE;CN="Satius";CUTYPE=INDIVIDUAL;PARTSTAT=ACCEPTED:web
	@bandits-clan.ru
ATTENDEE;CN="Tanita";CUTYPE=INDIVIDUAL;PARTSTAT=ACCEPTED:web
	@bandits-clan.ru
ATTENDEE;CN="Aryusik";CUTYPE=INDIVIDUAL;PARTSTAT=ACCEPTED:we
	b@bandits-clan.ru
ATTENDEE;CN="AlexIsBoow";CUTYPE=INDIVIDUAL;PARTSTAT=ACCEPTED
	:web@bandits-clan.ru
ATTENDEE;CN="TorinDuboshit";CUTYPE=INDIVIDUAL;PARTSTAT=ACCEP
	TED:web@bandits-clan.ru
ATTENDEE;CN="dragot";CUTYPE=INDIVIDUAL;PARTSTAT=ACCEPTED:web
	@bandits-clan.ru
ATTENDEE;CN="glinomag";CUTYPE=INDIVIDUAL;PARTSTAT=ACCEPTED:w
	eb@bandits-clan.ru
ATTENDEE;CN="BaraBascha";CUTYPE=INDIVIDUAL;PARTSTAT=ACCEPTED
	:web@bandits-clan.ru
ATTENDEE;CN="Berrssi";CUTYPE=INDIVIDUAL;PARTSTAT=ACCEPTED:we
	b@bandits-clan.ru
ATTENDEE;CN="Stonechump";CUTYPE=INDIVIDUAL;PARTSTAT=ACCEPTED
	:web@bandits-clan.ru
ATTENDEE;CN="ned880";CUTYPE=INDIVIDUAL;PARTSTAT=ACCEPTED:web
	@bandits-clan.ru
END:VEVENT
END:VCALENDAR
