BEGIN:VCALENDAR
VERSION:2.0
PRODID:-//InvisionCommunity Events 4.7.14//EN
METHOD:PUBLISH
CALSCALE:GREGORIAN
REFRESH-INTERVAL:PT15M
X-PUBLISHED-TTL:PT15M
X-WR-CALNAME:The Elder Scrolls Online
NAME:The Elder Scrolls Online
BEGIN:VTIMEZONE
TZID:Europe/London
TZURL:http://tzurl.org/zoneinfo/Europe/London
X-LIC-LOCATION:Europe/London
BEGIN:DAYLIGHT
TZOFFSETFROM:+0000
TZOFFSETTO:+0100
TZNAME:BST
DTSTART:20220327T020000Z
RRULE:FREQ=YEARLY;BYMONTH=3;BYDAY=-1SU
END:DAYLIGHT
BEGIN:STANDARD
TZOFFSETFROM:+0100
TZOFFSETTO:+0000
TZNAME:GMT
DTSTART:20221030T020000Z
RRULE:FREQ=YEARLY;BYMONTH=10;BYDAY=-1SU
END:STANDARD
END:VTIMEZONE
BEGIN:VEVENT
SUMMARY:[TESO] Нормальное испытание Эгида
	 Кин (nKA)
DTSTAMP:20220710T204655Z
SEQUENCE:0
UID:10284-1-afb15bc42254ad5fb0481ce5e9c8144d@forum.bandits-clan.ru
ORGANIZER;CN="Satius":web@bandits-clan.ru
DESCRIPTION:\n	\n		\n			\n				 \n			\n		\n	\n\n\n\n	\n		\n			Иг
	роки\, записавш
	иеся на событие\
	, приглашаются в 
	рейд в приорите
	те. Если вы запис
	ались\, но не пр
	ишли к указанному в
	ремени\, ваше место может
	 занять любой желающий.\
	n		\n\n		\n			В комментари
	и к событию напишите вашу р
	оль в группе и ник в игре.\n		\n\n		\n			Треб
	ования:\n		\n\n		\n			\n				160 Очков Героя\n			\n			\n			
		Discord\n			\n			\n				Табард гильдии\n			
	\n			\n				Игровое дополнение Грей
	мур или подписка\n			\n		\n\n		\n			Состав:\n		\n
	\n		\n			\n				1 танк\n			\n			\n				2 лекаря\n			\n			\n	
				9 бойцов\n			\n		\n\n		\n			Описание:\n		\n		\n	\n\n
DTSTART:20220711T180000Z
ATTENDEE;CN="Satius";CUTYPE=INDIVIDUAL;PARTSTAT=ACCEPTED:web
	@bandits-clan.ru
ATTENDEE;CN="Серелус";CUTYPE=INDIVIDUAL;PARTSTAT=ACCE
	PTED:web@bandits-clan.ru
ATTENDEE;CN="glinomag";CUTYPE=INDIVIDUAL;PARTSTAT=ACCEPTED:w
	eb@bandits-clan.ru
ATTENDEE;CN="sda1964";CUTYPE=INDIVIDUAL;PARTSTAT=ACCEPTED:we
	b@bandits-clan.ru
ATTENDEE;CN="NuclearSun";CUTYPE=INDIVIDUAL;PARTSTAT=ACCEPTED
	:web@bandits-clan.ru
END:VEVENT
END:VCALENDAR
