BEGIN:VCALENDAR
VERSION:2.0
PRODID:-//InvisionCommunity Events 4.7.14//EN
METHOD:PUBLISH
CALSCALE:GREGORIAN
REFRESH-INTERVAL:PT15M
X-PUBLISHED-TTL:PT15M
X-WR-CALNAME:The Elder Scrolls Online
NAME:The Elder Scrolls Online
BEGIN:VTIMEZONE
TZID:Europe/London
TZURL:http://tzurl.org/zoneinfo/Europe/London
X-LIC-LOCATION:Europe/London
BEGIN:DAYLIGHT
TZOFFSETFROM:+0000
TZOFFSETTO:+0100
TZNAME:BST
DTSTART:20220327T020000Z
RRULE:FREQ=YEARLY;BYMONTH=3;BYDAY=-1SU
END:DAYLIGHT
BEGIN:STANDARD
TZOFFSETFROM:+0100
TZOFFSETTO:+0000
TZNAME:GMT
DTSTART:20221030T020000Z
RRULE:FREQ=YEARLY;BYMONTH=10;BYDAY=-1SU
END:STANDARD
END:VTIMEZONE
BEGIN:VEVENT
SUMMARY:[TESO] Аттестация целителей и танк
	ов
DTSTAMP:20220703T220804Z
SEQUENCE:0
UID:10273-1-afb15bc42254ad5fb0481ce5e9c8144d@forum.bandits-clan.ru
ORGANIZER;CN="Satius":web@bandits-clan.ru
DESCRIPTION:\n	Приглаша
	ем целителе
	й и танков 
	проверить
	 себя\, по
	пробовать сд
	ать аттестацию на
	 подтверждение сво
	его элитного скилла.
	  \n\n\n\n	Для танко
	в на каждого игрока 
	в зачёт идут только 
	первые 2 попытки.\n
	\n\n\n	Приоритет в
	 очереди на сдачу 
	аттестации у запи
	савшихся на событ
	ие.\n\n\n\n	Подробности об 
	аттестации можно 
	почитать здесь:\n\n
	\n\n\n	Помимо не
	посредстве
	нно аттестаци
	и \, любой игрок 
	может получить 
	советы по танкованию\,
	 исцелению и всём\, что
	 вокруг этого.\n\n\n\n	Помнит
	е\, глупых вопросов не 
	бывает. \n\n\n\n	Требо
	вание: Желание учиться\,
	 слушать\, понимать и подст
	раиваться.\n\n\n\n	 \n\n\n\n	Учитель п
	о танкованию Satius.\n\n\n\n	Магистр хилерс
	ких наук Magistr.\n\n
DTSTART:20220707T160000Z
ATTENDEE;CN="Satius";CUTYPE=INDIVIDUAL;PARTSTAT=ACCEPTED:web
	@bandits-clan.ru
ATTENDEE;CN="Magistr";CUTYPE=INDIVIDUAL;PARTSTAT=ACCEPTED:we
	b@bandits-clan.ru
ATTENDEE;CN="Серелус";CUTYPE=INDIVIDUAL;PARTSTAT=ACCE
	PTED:web@bandits-clan.ru
END:VEVENT
END:VCALENDAR
