BEGIN:VCALENDAR
VERSION:2.0
PRODID:-//InvisionCommunity Events 4.7.14//EN
METHOD:PUBLISH
CALSCALE:GREGORIAN
REFRESH-INTERVAL:PT15M
X-PUBLISHED-TTL:PT15M
X-WR-CALNAME:The Elder Scrolls Online
NAME:The Elder Scrolls Online
BEGIN:VTIMEZONE
TZID:Europe/London
TZURL:http://tzurl.org/zoneinfo/Europe/London
X-LIC-LOCATION:Europe/London
BEGIN:DAYLIGHT
TZOFFSETFROM:+0000
TZOFFSETTO:+0100
TZNAME:BST
DTSTART:20220327T020000Z
RRULE:FREQ=YEARLY;BYMONTH=3;BYDAY=-1SU
END:DAYLIGHT
BEGIN:STANDARD
TZOFFSETFROM:+0100
TZOFFSETTO:+0000
TZNAME:GMT
DTSTART:20221030T020000Z
RRULE:FREQ=YEARLY;BYMONTH=10;BYDAY=-1SU
END:STANDARD
END:VTIMEZONE
BEGIN:VEVENT
SUMMARY:[TESO] Нормальное испытание Клау
	дрест +1. (nCR +1)
DTSTAMP:20220612T225129Z
SEQUENCE:0
UID:10204-1-afb15bc42254ad5fb0481ce5e9c8144d@forum.bandits-clan.ru
ORGANIZER;CN="Satius":web@bandits-clan.ru
DESCRIPTION:\n	\n		\n			 \n		\n	\n\n\n\n	\n		\n			П
	риглашаю всех желаю
	щих пройти нормальное испытание 
	Клаудрест +1 (nCR +1).\n		\n\n		\
	n			При сборе прио
	ритет у записав
	шихся. Если вы з
	аписались\, но
	 не пришли к началу сб
	оров ваше место может з
	анять другой игрок.\n		\n\n		\n			Необход
	имый состав:\n		\n\n		\n			\n				2 Танка\n			\n			\n	
				2 Лекаря\n			\n			\n				8 Бойцов\n			\n	
		\n\n		\n			Рекомендуемые аддоны:\n		\n\n		\n			\n				
	Bandits User Interface\n			\n		\n\n		\n			Требования д
	ля участия:\n		\n\n		\n			\n				DLC Саммерсет
	 или подписка.\n			\n			\n				160 Очков Чемпиона\
	n			\n			\n				Discord и наличие микрофона\n
				\n			\n				Табард гильдии Daggerfall Bandits / Bandits Cla
	n / Bandits Force\n			\n		\n\n		\n			Для 
	подтверждения участия не
	обходимо отметиться в календ
	аре:\n		\n\n		\n			\n				Нажать кнопку По
	йду\n			\n			\n				Указать свою роль и I
	D в комментариях\n			\n			
	\n				Если по каки
	м-то причинам 
	не получится п
	рийти\, отписаться в комме
	нтариях\, изменив свое сообщение\n			\n		\n	\n\
	n
DTSTART:20220613T120000Z
ATTENDEE;CN="Satius";CUTYPE=INDIVIDUAL;PARTSTAT=ACCEPTED:web
	@bandits-clan.ru
ATTENDEE;CN="НОГАРУКА";CUTYPE=INDIVIDUAL;PARTSTAT=AC
	CEPTED:web@bandits-clan.ru
ATTENDEE;CN="Илья1";CUTYPE=INDIVIDUAL;PARTSTAT=ACCEPTED:
	web@bandits-clan.ru
ATTENDEE;CN="Govorishka";CUTYPE=INDIVIDUAL;PARTSTAT=ACCEPTED
	:web@bandits-clan.ru
ATTENDEE;CN="glinomag";CUTYPE=INDIVIDUAL;PARTSTAT=ACCEPTED:w
	eb@bandits-clan.ru
ATTENDEE;CN="FrezzGhost";CUTYPE=INDIVIDUAL;PARTSTAT=ACCEPTED
	:web@bandits-clan.ru
END:VEVENT
END:VCALENDAR
