BEGIN:VCALENDAR
VERSION:2.0
PRODID:-//InvisionCommunity Events 4.7.14//EN
METHOD:PUBLISH
CALSCALE:GREGORIAN
REFRESH-INTERVAL:PT15M
X-PUBLISHED-TTL:PT15M
X-WR-CALNAME:The Elder Scrolls Online
NAME:The Elder Scrolls Online
BEGIN:VTIMEZONE
TZID:Europe/London
TZURL:http://tzurl.org/zoneinfo/Europe/London
X-LIC-LOCATION:Europe/London
BEGIN:DAYLIGHT
TZOFFSETFROM:+0000
TZOFFSETTO:+0100
TZNAME:BST
DTSTART:20220327T020000Z
RRULE:FREQ=YEARLY;BYMONTH=3;BYDAY=-1SU
END:DAYLIGHT
BEGIN:STANDARD
TZOFFSETFROM:+0100
TZOFFSETTO:+0000
TZNAME:GMT
DTSTART:20221030T020000Z
RRULE:FREQ=YEARLY;BYMONTH=10;BYDAY=-1SU
END:STANDARD
END:VTIMEZONE
BEGIN:VEVENT
SUMMARY:[TESO]Скайшарды/Дольмены Сиродила
DTSTAMP:20220607T154520Z
SEQUENCE:0
UID:10191-1-afb15bc42254ad5fb0481ce5e9c8144d@forum.bandits-clan.ru
ORGANIZER;CN="strombers":web@bandits-clan.ru
DESCRIPTION:\n	Ознакомле
	ние с Сиродилом. Баз
	овые механики\, зн
	акомство с PVP\, навыки 
	и сражения. Можно по
	дключиться в процессе.\n
	\n\n\n	Альянс - Даггерфолл Ковенан
	т\n\n	10 уровень персонажа\n\n	Discord\n\n	Т
	абард гильдии\n\n
DTSTART:20220608T080000Z
DTEND:20220608T100000Z
END:VEVENT
END:VCALENDAR
