BEGIN:VCALENDAR
VERSION:2.0
PRODID:-//InvisionCommunity Events 4.7.14//EN
METHOD:PUBLISH
CALSCALE:GREGORIAN
REFRESH-INTERVAL:PT15M
X-PUBLISHED-TTL:PT15M
X-WR-CALNAME:The Elder Scrolls Online
NAME:The Elder Scrolls Online
BEGIN:VTIMEZONE
TZID:Europe/London
TZURL:http://tzurl.org/zoneinfo/Europe/London
X-LIC-LOCATION:Europe/London
BEGIN:DAYLIGHT
TZOFFSETFROM:+0000
TZOFFSETTO:+0100
TZNAME:BST
DTSTART:20220327T020000Z
RRULE:FREQ=YEARLY;BYMONTH=3;BYDAY=-1SU
END:DAYLIGHT
BEGIN:STANDARD
TZOFFSETFROM:+0100
TZOFFSETTO:+0000
TZNAME:GMT
DTSTART:20221030T020000Z
RRULE:FREQ=YEARLY;BYMONTH=10;BYDAY=-1SU
END:STANDARD
END:VTIMEZONE
BEGIN:VEVENT
SUMMARY:[TESO] Нормальное испытание Солн
	ечный Шпиль (nSS)
DTSTAMP:20220605T091409Z
SEQUENCE:0
UID:10185-1-afb15bc42254ad5fb0481ce5e9c8144d@forum.bandits-clan.ru
ORGANIZER;CN="Satius":web@bandits-clan.ru
DESCRIPTION:\n	При сборе 
	приоритет у з
	аписавшихся. Ес
	ли вы записались\
	, но не пришли д
	о начала события\, 
	то ваше место может зан
	ять любой желающий из чата.\n\n\n
	\n	Требования:\n\n\n\n	\n		160 Очков Героя\n	\n	\
	n		Discord\n	\n	\n		Табард гильдии\n	
	\n	\n		Глава Эльсвейр или подписка\n	\n\
	n\n\n	Состав:\n\n\n\n	\n		1 танк\n	\n	\n		2 лекаря\n
		\n	\n		9 бойцов\n	\n\n
DTSTART:20220608T180000Z
DTEND:20220608T180500Z
ATTENDEE;CN="Satius";CUTYPE=INDIVIDUAL;PARTSTAT=ACCEPTED:web
	@bandits-clan.ru
ATTENDEE;CN="Mnogoslouka";CUTYPE=INDIVIDUAL;PARTSTAT=ACCEPTE
	D:web@bandits-clan.ru
ATTENDEE;CN="НОГАРУКА";CUTYPE=INDIVIDUAL;PARTSTAT=AC
	CEPTED:web@bandits-clan.ru
ATTENDEE;CN="Govorishka";CUTYPE=INDIVIDUAL;PARTSTAT=ACCEPTED
	:web@bandits-clan.ru
ATTENDEE;CN="Zeregen";CUTYPE=INDIVIDUAL;PARTSTAT=ACCEPTED:we
	b@bandits-clan.ru
ATTENDEE;CN="DmitryMikh";CUTYPE=INDIVIDUAL;PARTSTAT=ACCEPTED
	:web@bandits-clan.ru
ATTENDEE;CN="BaraBascha";CUTYPE=INDIVIDUAL;PARTSTAT=ACCEPTED
	:web@bandits-clan.ru
END:VEVENT
END:VCALENDAR
