BEGIN:VCALENDAR
VERSION:2.0
PRODID:-//InvisionCommunity Events 4.7.14//EN
METHOD:PUBLISH
CALSCALE:GREGORIAN
REFRESH-INTERVAL:PT15M
X-PUBLISHED-TTL:PT15M
X-WR-CALNAME:The Elder Scrolls Online
NAME:The Elder Scrolls Online
BEGIN:VTIMEZONE
TZID:Europe/London
TZURL:http://tzurl.org/zoneinfo/Europe/London
X-LIC-LOCATION:Europe/London
BEGIN:DAYLIGHT
TZOFFSETFROM:+0000
TZOFFSETTO:+0100
TZNAME:BST
DTSTART:20220327T020000Z
RRULE:FREQ=YEARLY;BYMONTH=3;BYDAY=-1SU
END:DAYLIGHT
BEGIN:STANDARD
TZOFFSETFROM:+0100
TZOFFSETTO:+0000
TZNAME:GMT
DTSTART:20221030T020000Z
RRULE:FREQ=YEARLY;BYMONTH=10;BYDAY=-1SU
END:STANDARD
END:VTIMEZONE
BEGIN:VEVENT
SUMMARY:[TESO] Обучающее вете
	ранское испытание Каменная Роща (vRG)
DTSTAMP:20220602T204335Z
SEQUENCE:0
UID:10171-1-afb15bc42254ad5fb0481ce5e9c8144d@forum.bandits-clan.ru
ORGANIZER;CN="Satius":web@bandits-clan.ru
DESCRIPTION:\n	При сборе 
	приоритет у з
	аписавшихся. Ес
	ли вы записались\
	, но не пришли д
	о начала события\, 
	то ваше место может 
	занять любой желающий из
	 чата.\n\n\n\n	Если уже з
	аписано 12 игроко
	в\, или же места в
	ашей роли заняты
	\, всё равно запи
	сывайтесь\, так
	 как люди могут
	 не прийти и тогда м
	есто достанется вам
	 в порядке очереди.\n\n
	\n\n	Внимание! Триал о
	бучающий на 2 час
	а. Это значит\,
	 что он не на прохожд
	ение. Прочитайте внимательно
	 план ниже.\n\n\n\n	План след
	ующий:\n\n\n\n	1) Убьём скрытог
	о боса обязательно.\
	n\n\n\n	2) На убийство
	 первого боса 
	Оазилцо выделяет
	ся час. Если за час
	 или меньше мы ег
	о убиваем\, то ре
	йд тайм 2 часа проходим
	 дальше сколько и до куда
	 успеем и сможем.\n\n\n\n	
	3) Если за час О
	азилцо убит
	ь не получит
	ся\, то на оставший
	ся час идём проходить но
	рмальную Каменную Рощу.\n\n\n\n	Тр
	ебования:\n\n\n\n	\n		160 Очков Г
	ероя\n	\n	\n		Гильде
	йский ранг Р
	ейдер и выше (то есть
	 сданная аттестация в соответств
	ующей роли)\n	\n	\n		Аддон Qcell's Rockgrove Helper\n	\n	\n	
		Discord\n	\n	\n		Табард гильдии\n	\n	\n		Г
	лава Черный Лес\n	\n\n\n\n	Состав:\n\n\n\n
		\n		2 танка\n	\n	\n		2 целителя\n	\n	\n		8 уронораз
	давателя\n	\n\n
DTSTART:20220603T180000Z
DTEND:20220603T180500Z
ATTENDEE;CN="Satius";CUTYPE=INDIVIDUAL;PARTSTAT=ACCEPTED:web
	@bandits-clan.ru
ATTENDEE;CN="MontyBearOne";CUTYPE=INDIVIDUAL;PARTSTAT=ACCEPT
	ED:web@bandits-clan.ru
ATTENDEE;CN="Artwoin";CUTYPE=INDIVIDUAL;PARTSTAT=ACCEPTED:we
	b@bandits-clan.ru
ATTENDEE;CN="Mnogoslouka";CUTYPE=INDIVIDUAL;PARTSTAT=ACCEPTE
	D:web@bandits-clan.ru
ATTENDEE;CN="dragot";CUTYPE=INDIVIDUAL;PARTSTAT=ACCEPTED:web
	@bandits-clan.ru
ATTENDEE;CN="AlexIsBoow";CUTYPE=INDIVIDUAL;PARTSTAT=ACCEPTED
	:web@bandits-clan.ru
ATTENDEE;CN="DetFix";CUTYPE=INDIVIDUAL;PARTSTAT=ACCEPTED:web
	@bandits-clan.ru
ATTENDEE;CN="BaraBascha";CUTYPE=INDIVIDUAL;PARTSTAT=ACCEPTED
	:web@bandits-clan.ru
ATTENDEE;CN="Angry_Duck";CUTYPE=INDIVIDUAL;PARTSTAT=ACCEPTED
	:web@bandits-clan.ru
ATTENDEE;CN="zodiac";CUTYPE=INDIVIDUAL;PARTSTAT=ACCEPTED:web
	@bandits-clan.ru
ATTENDEE;CN="redxles";CUTYPE=INDIVIDUAL;PARTSTAT=ACCEPTED:we
	b@bandits-clan.ru
ATTENDEE;CN="Dezmonteri";CUTYPE=INDIVIDUAL;PARTSTAT=ACCEPTED
	:web@bandits-clan.ru
END:VEVENT
END:VCALENDAR
