BEGIN:VCALENDAR
VERSION:2.0
PRODID:-//InvisionCommunity Events 4.7.14//EN
METHOD:PUBLISH
CALSCALE:GREGORIAN
REFRESH-INTERVAL:PT15M
X-PUBLISHED-TTL:PT15M
X-WR-CALNAME:The Elder Scrolls Online
NAME:The Elder Scrolls Online
BEGIN:VTIMEZONE
TZID:Europe/London
TZURL:http://tzurl.org/zoneinfo/Europe/London
X-LIC-LOCATION:Europe/London
BEGIN:DAYLIGHT
TZOFFSETFROM:+0000
TZOFFSETTO:+0100
TZNAME:BST
DTSTART:20220327T020000Z
RRULE:FREQ=YEARLY;BYMONTH=3;BYDAY=-1SU
END:DAYLIGHT
BEGIN:STANDARD
TZOFFSETFROM:+0100
TZOFFSETTO:+0000
TZNAME:GMT
DTSTART:20221030T020000Z
RRULE:FREQ=YEARLY;BYMONTH=10;BYDAY=-1SU
END:STANDARD
END:VTIMEZONE
BEGIN:VEVENT
SUMMARY:[TESO] Нормальное испытание Клау
	дрест +0 (nCR +0)
DTSTAMP:20220417T221346Z
SEQUENCE:0
UID:10024-1-afb15bc42254ad5fb0481ce5e9c8144d@forum.bandits-clan.ru
ORGANIZER;CN="IIersona":web@bandits-clan.ru
DESCRIPTION:\n	\n		\n			\n				\n					Приг
	лашаю всех желающих про
	йти нормальное испытание Клаудрест +0
	 (nCR +0).\n				\n\n				\n					Необходимый состав:\n				\
	n\n				\n					\n						1 Танк\n					\n					\n						2 Лекаря\n				
		\n					\n						9 Бойцов\n					\n				\n\n				\n			
			Обязательные аддоны:\n				\n\n				\n					\n						Bandi
	ts User Interface\n					\n				\n\n				\n					Требовани
	я для участия:\n				\n\n				\n					\n						
	DLC Саммерсет или подписка.\n					\n					
	\n						160 Очков Чемпиона\n					\n					\n			
				Discord и наличие микрофона\n					\n					
	\n						Табард гильдии Daggerfall Bandits / Bandits Clan\n			
			\n				\n\n				\n					Для по
	дтверждения участия необхо
	димо отметиться в календаре:\n				
	\n\n				\n					\n						Нажать кнопку Пойду\n			
			\n					\n						Указать свою роль и ID в ком
	ментариях\n					\n					\n				
			Если по каки
	м-то причинам 
	не получится п
	рийти\, отписаться в комме
	нтариях\, изменив свое сообщение\n					\n				\n
				\n\n			\n				\n					\n						 \n					\n				\n			\n		\n	\n\n
DTSTART:20220418T100000Z
ATTENDEE;CN="IIersona";CUTYPE=INDIVIDUAL;PARTSTAT=ACCEPTED:w
	eb@bandits-clan.ru
ATTENDEE;CN="Giraff";CUTYPE=INDIVIDUAL;PARTSTAT=ACCEPTED:web
	@bandits-clan.ru
END:VEVENT
END:VCALENDAR
