BEGIN:VCALENDAR
VERSION:2.0
PRODID:-//InvisionCommunity Events 4.7.14//EN
METHOD:PUBLISH
CALSCALE:GREGORIAN
REFRESH-INTERVAL:PT15M
X-PUBLISHED-TTL:PT15M
X-WR-CALNAME:TEST
NAME:TEST
BEGIN:VTIMEZONE
TZID:Europe/London
TZURL:http://tzurl.org/zoneinfo/Europe/London
X-LIC-LOCATION:Europe/London
BEGIN:DAYLIGHT
TZOFFSETFROM:+0000
TZOFFSETTO:+0100
TZNAME:BST
DTSTART:20250330T020000Z
RRULE:FREQ=YEARLY;BYMONTH=3;BYDAY=-1SU
END:DAYLIGHT
BEGIN:STANDARD
TZOFFSETFROM:+0100
TZOFFSETTO:+0000
TZNAME:GMT
DTSTART:20251026T020000Z
RRULE:FREQ=YEARLY;BYMONTH=10;BYDAY=-1SU
END:STANDARD
END:VTIMEZONE
BEGIN:VTIMEZONE
TZID:Europe/London
TZURL:http://tzurl.org/zoneinfo/Europe/London
X-LIC-LOCATION:Europe/London
BEGIN:DAYLIGHT
TZOFFSETFROM:+0000
TZOFFSETTO:+0100
TZNAME:BST
DTSTART:20240331T020000Z
RRULE:FREQ=YEARLY;BYMONTH=3;BYDAY=-1SU
END:DAYLIGHT
BEGIN:STANDARD
TZOFFSETFROM:+0100
TZOFFSETTO:+0000
TZNAME:GMT
DTSTART:20241027T020000Z
RRULE:FREQ=YEARLY;BYMONTH=10;BYDAY=-1SU
END:STANDARD
END:VTIMEZONE
BEGIN:VTIMEZONE
TZID:Europe/London
TZURL:http://tzurl.org/zoneinfo/Europe/London
X-LIC-LOCATION:Europe/London
BEGIN:DAYLIGHT
TZOFFSETFROM:+0000
TZOFFSETTO:+0100
TZNAME:BST
DTSTART:20230326T020000Z
RRULE:FREQ=YEARLY;BYMONTH=3;BYDAY=-1SU
END:DAYLIGHT
BEGIN:STANDARD
TZOFFSETFROM:+0100
TZOFFSETTO:+0000
TZNAME:GMT
DTSTART:20231029T020000Z
RRULE:FREQ=YEARLY;BYMONTH=10;BYDAY=-1SU
END:STANDARD
END:VTIMEZONE
BEGIN:VEVENT
SUMMARY:Имперский город кампания без О
	чков Героя
DTSTAMP:20250817T122641Z
SEQUENCE:0
UID:14578-9-afb15bc42254ad5fb0481ce5e9c8144d@forum.bandits-clan.ru
ORGANIZER;CN="Bandit":web@bandits-clan.ru
DESCRIPTION:Требования:- Ал
	ьянс - Даггерфолл Ко
	венанта\n- Персонаж
	 от 10 уровня\n- Эки
	пировка\, которая ра
	ботает в компании\n-
	 Накидка гильдии Bandits Записаться 
	на событие и принять участие
DTSTART:20250825T090000Z
DTEND:20250825T090500Z
END:VEVENT
BEGIN:VEVENT
SUMMARY:Нормальное испытание Пасть Лорх
	аджа (nMOL)
DTSTAMP:20250817T122551Z
SEQUENCE:0
UID:14577-9-afb15bc42254ad5fb0481ce5e9c8144d@forum.bandits-clan.ru
ORGANIZER;CN="Bandit":web@bandits-clan.ru
DESCRIPTION:Обучающий рейд. С
	бор за 10 минут до начала рейд
	а. \n**Требования:**\n- 16
	0 Очков Героя\n- Д
	ополнение Гильдия 
	Воров или подписка\
	n \nПлановое время 
	рейда: 1 час 5 минут Записаться на событи
	е и принять участие
DTSTART:20250825T090000Z
DTEND:20250825T090500Z
END:VEVENT
BEGIN:VEVENT
SUMMARY:Нормальное испытание Костяная 
	Клетка (nOC)
DTSTAMP:20250607T071801Z
SEQUENCE:0
UID:14417-9-afb15bc42254ad5fb0481ce5e9c8144d@forum.bandits-clan.ru
ORGANIZER;CN="Bandit":web@bandits-clan.ru
DESCRIPTION:Обучающий рейд. С
	бор за 10 минут до начала рейд
	а. \n**Требования:**\n- 160 О
	чков Героя\n- Глава С
	олстис\n \nПлановое
	 время рейда: 1 час 5 минут З
	аписаться на событие и принять участие
DTSTART:20250608T090000Z
DTEND:20250608T090500Z
END:VEVENT
BEGIN:VEVENT
SUMMARY:Нормальное испытание Этер
	ианский Архив (nAA)
DTSTAMP:20240424T075318Z
SEQUENCE:0
UID:13187-9-afb15bc42254ad5fb0481ce5e9c8144d@forum.bandits-clan.ru
ORGANIZER;CN="Bandit":web@bandits-clan.ru
DESCRIPTION:Обучающий рейд. С
	бор за 10 минут до начала рейда
	. \n**Требования:**\n- 160 Очков
	 Героя\n \nПлановое вре
	мя рейда: 1 час 5 мину
	тОбучающий рейд. Сбор за 1
	0 минут до начала рейда.\n \n*
	*Требования:**\n- 160 Очков
	 Героя\n \nПлановое вре
	мя рейда: 1 час 5 мину
	тОбучающий рейд. Сбор за 1
	0 минут до начала рейда.\n \n*
	*Требования:**\n- 160 Очков
	 Героя\n \nПлановое вре
	мя рейда: 1 час 5 мину
	тОбучающий рейд. Сбор за 1
	0 минут до начала рейда.\n \n*
	*Требования:**\n- 160 Очков
	 Героя\n \nПлановое вре
	мя рейда: 1 час 5 мину
	тОбучающий рейд. Сбор за 1
	0 минут до начала рейда.\n \n*
	*Требования:**\n- 160 Очков
	 Героя\n \nПлановое вре
	мя рейда: 1 час 5 мину
	тОбучающий рейд. Сбор за 1
	0 минут до начала рейда.\n \n*
	*Требования:**\n- 160 Очков
	 Героя\n \nПлановое вре
	мя рейда: 1 час 5 мину
	тОбучающий рейд. Сбор за 1
	0 минут до начала рейда.\n \n*
	*Требования:**\n- 160 Очков
	 Героя\n \nПлановое вре
	мя рейда: 1 час 5 мину
	тОбучающий рейд. Сбор за 1
	0 минут до начала рейда.\n \n*
	*Требования:**\n- 160 Очков
	 Героя\n \nПлановое
	 время рейда: 1 
	час 5 минутОбучающий рей Запис
	аться на событие и принять участие
DTSTART:20240425T070000Z
DTEND:20240425T070500Z
END:VEVENT
BEGIN:VEVENT
SUMMARY:Нормальное испытание Цита
	дель Люцентов (nLC)
DTSTAMP:20240424T065840Z
SEQUENCE:0
UID:13183-9-afb15bc42254ad5fb0481ce5e9c8144d@forum.bandits-clan.ru
ORGANIZER;CN="Bandit":web@bandits-clan.ru
DESCRIPTION:Обучающий рейд. С
	бор за 10 минут до начала рейд
	а. \n**Требования:**\n- 160 О
	чков Героя\n- Глава З
	олотая дорога\n \n
	Плановое время 
	рейда: 1 час 5 минут Записаться на событи
	е и принять участие
DTSTART:20240425T070000Z
DTEND:20240425T070500Z
END:VEVENT
BEGIN:VEVENT
SUMMARY:Имперский город кампания без О
	чков Героя
DTSTAMP:20240224T105036Z
SEQUENCE:0
UID:12926-9-afb15bc42254ad5fb0481ce5e9c8144d@forum.bandits-clan.ru
ORGANIZER;CN="Bandit":web@bandits-clan.ru
DESCRIPTION:Требования:- Ал
	ьянс - Даггерфолл Ко
	венанта\n- Персонаж
	 от 10 уровня\n- Эки
	пировка\, которая ра
	ботает в компании\n-
	 Накидка гильдии Bandits Записаться 
	на событие и принять участие
DTSTART:20240229T070000Z
DTEND:20240229T070500Z
END:VEVENT
BEGIN:VEVENT
SUMMARY:Нормальное испытание Этер
	ианский Архив (nAA)
DTSTAMP:20240224T103813Z
SEQUENCE:0
UID:12925-9-afb15bc42254ad5fb0481ce5e9c8144d@forum.bandits-clan.ru
ORGANIZER;CN="Bandit":web@bandits-clan.ru
DESCRIPTION:**Требования:**- 160 О
	чков Героя\n \nПл
	ановое время рейда: 1 час Запи
	саться на событие и принять участие
DTSTART:20240229T170000Z
DTEND:20240229T170500Z
END:VEVENT
BEGIN:VEVENT
SUMMARY:Нормальное испытание Этер
	ианский Архив (nAA)
DTSTAMP:20240204T092142Z
SEQUENCE:0
UID:12817-9-afb15bc42254ad5fb0481ce5e9c8144d@forum.bandits-clan.ru
ORGANIZER;CN="Bandit":web@bandits-clan.ru
DESCRIPTION:**Требования:**- 160 О
	чков Героя\n \nПл
	ановое время рейда: 1 час Запи
	саться на событие и принять участие
DTSTART:20240205T070000Z
DTEND:20240205T070500Z
END:VEVENT
BEGIN:VEVENT
SUMMARY:Ветеранское испытание Залы
	 Фабрикации (vHOF)
DTSTAMP:20240103T204922Z
SEQUENCE:0
UID:12672-9-afb15bc42254ad5fb0481ce5e9c8144d@forum.bandits-clan.ru
ORGANIZER;CN="Bandit":web@bandits-clan.ru
DESCRIPTION:Требования
	:\nЛюдей с ХА б
	илдами или 
	других одно
	панельщиков 
	кикаю без раз
	говоров!\nЛюдей
	 в нетрезвом с
	остоянии кика
	ю так же без ра
	зговоров!\nЕсли 
	вы пришли пообщ
	аться или рассказа
	ть как у вас дела\
	, то нам это не ин
	тересно\, мы пр
	ишли учиться и з
	акрывать конте
	нт\, всё осталь
	ное до и посл
	е рейда!\nВсе
	 требовани
	я описанные
	 ниже касают
	ся всех приш
	едших и любо
	й не установ
	ленный аддон
	 говорит о ваше
	й не подготовле
	нности - не допу
	скаетесь к рейду!
	\nПри ощутимом н
	едоборе в рейд о
	н будет отменён\, 
	у меня нет желани
	я тратить своё и 
	ваше время!\nЭт
	о не обучающий 
	рейд\, приходить
	 с опытом и понима
	нием происходяще
	го\, но если вам что-
	то не понятно\, т
	о я готов рассказа
	ть и объяснить!\n\n
	Примерный состав р
	ейда\, если у вас ч
	его-то из этого
	 нет\, то вы может
	е оставить заявку 
	на рассмотрение и н
	аписать мне в ЛС!\n\nх1 
	спк+пп+эльнофей+симфо
	ния (кайт)\nх2 йо+ро+пле
	чо (групп)\nмт1 назаре
	й+тт+сакс\nмт2 наз
	арей+тт+сакс\nот пер
	л+па+деверик\nдд (
	желательно арканис
	т) п1 право\nдд (жела
	тельно арканист) п
	1 лево\nдд (желатель
	но арканист) п2 пр
	аво\nдд (желатель
	но арканист) п2 ле
	во\nдд арканист сфе
	рщик/круг зенаса\n
	дд сап/парс\nдд с
	ап/парс\n\nВСЕ
	М парсовым 
	дд иметь да
	льний билд 
	или дальнюю
	 спам способ
	ность во избе
	жании лишних 
	перемещений! 
	Так же желающим в
	стать на сап дд роль 
	сообщать об этом заранее!\n\n
	Звание (Любое)\nДПС от 100 тыс.\nАддон HowToC
	loudrest\nАддон Lock Weapon Swap\nАддон OdySupportIcons - Group 
	Role Icons & More\nАддон CrutchAlerts\nАддон Improved Deat
	h Recap (по желанию)\n
	Дополнение Сам
	мерсет или подпи
	ска\n\nПлановое 
	время рейда: 2 часа Записаться на событие
	 и принять участие
DTSTART:20240110T070000Z
DTEND:20240110T070500Z
END:VEVENT
BEGIN:VEVENT
SUMMARY:Нормальное испытание Залы Фа
	брикации (nHOF)
DTSTAMP:20240103T204730Z
SEQUENCE:0
UID:12671-9-afb15bc42254ad5fb0481ce5e9c8144d@forum.bandits-clan.ru
ORGANIZER;CN="Bandit":web@bandits-clan.ru
DESCRIPTION:**Требования:**- 160 О
	чков Героя\n \nПла
	новое время рей
	да: 1 час\nсостав рейда Записаться 
	на событие и принять участие
DTSTART:20241210T070000Z
DTEND:20241210T070500Z
END:VEVENT
BEGIN:VEVENT
SUMMARY:Сиродиил кампания до 50 уровня
DTSTAMP:20231225T141357Z
SEQUENCE:0
UID:12634-9-afb15bc42254ad5fb0481ce5e9c8144d@forum.bandits-clan.ru
ORGANIZER;CN="Bandit":web@bandits-clan.ru
DESCRIPTION:Требования:- Ал
	ьянс - Даггерфолл Ковен
	анта\n- Персонаж от 10 и до 
	50 уровня\n- Накидка г
	ильдии Bandits Записаться на событ
	ие и принять участие
DTSTART:20231226T070000Z
DTEND:20231226T070500Z
END:VEVENT
BEGIN:VEVENT
SUMMARY:Сиродиил кампания до 50 уровня
DTSTAMP:20231225T121942Z
SEQUENCE:0
UID:12633-9-afb15bc42254ad5fb0481ce5e9c8144d@forum.bandits-clan.ru
ORGANIZER;CN="Bandit":web@bandits-clan.ru
DESCRIPTION:Требования:- Ал
	ьянс - Даггерфолл Ковен
	анта\n- Персонаж от 10 и до 
	50 уровня\n- Накидка г
	ильдии Bandits Записаться на событ
	ие и принять участие
DTSTART:20231226T070000Z
DTEND:20231226T070500Z
END:VEVENT
BEGIN:VEVENT
SUMMARY:Имперский город кампания без О
	чков Героя
DTSTAMP:20231225T120130Z
SEQUENCE:0
UID:12632-9-afb15bc42254ad5fb0481ce5e9c8144d@forum.bandits-clan.ru
ORGANIZER;CN="Bandit":web@bandits-clan.ru
DESCRIPTION:Требования:- Ал
	ьянс - Даггерфолл Ко
	венанта\n- Персонаж
	 от 10 уровня\n- Эки
	пировка\, которая ра
	ботает в компании\n-
	 Накидка гильдии Bandits Записаться 
	на событие и принять участие
DTSTART:20231226T070000Z
DTEND:20231226T070500Z
END:VEVENT
BEGIN:VEVENT
SUMMARY:Ветеранское
	 испытание Пасть Лорхаджа Усложненный Р
	ежим (vMOL HM)
DTSTAMP:20231225T120045Z
SEQUENCE:0
UID:12631-9-afb15bc42254ad5fb0481ce5e9c8144d@forum.bandits-clan.ru
ORGANIZER;CN="Bandit":web@bandits-clan.ru
DESCRIPTION:**Требования:**- Звание Master Band
	it\n- ДПС от 90 тыс.\n- Допо
	лнение Гильдия Воров или подписка\n
	- Аддон RaidNotifier Updated\n- Аддон OdySupportIcons - Group Ro
	le Icons & More\n- Аддон CrutchAlerts\n \nПлано
	вое время рейда: 2 часа\n \n 
	Записаться на событие и принять участие
DTSTART:20231226T070000Z
DTEND:20231226T070500Z
END:VEVENT
BEGIN:VEVENT
SUMMARY:Сиродиил кампания без Очков Гер
	оя (siro non-og)
DTSTAMP:20231225T113933Z
SEQUENCE:0
UID:12629-9-afb15bc42254ad5fb0481ce5e9c8144d@forum.bandits-clan.ru
ORGANIZER;CN="Bandit":web@bandits-clan.ru
DESCRIPTION:Требования:- Ал
	ьянс - Даггерфолл Ко
	венанта\n- Персонаж
	 от 10 уровня\n- Эки
	пировка\, которая ра
	ботает в компании\n-
	 Накидка гильдии Bandits Записаться 
	на событие и принять участие
DTSTART:20231226T070000Z
DTEND:20231226T070500Z
END:VEVENT
BEGIN:VEVENT
SUMMARY:Имперский город кампания с
	 Очками Героя (ic og)
DTSTAMP:20231225T112741Z
SEQUENCE:0
UID:12628-9-afb15bc42254ad5fb0481ce5e9c8144d@forum.bandits-clan.ru
ORGANIZER;CN="Bandit":web@bandits-clan.ru
DESCRIPTION:Требования:- Ал
	ьянс - Даггерфолл Ко
	венанта\n- Персонаж
	 от 10 уровня\n- Эки
	пировка\, которая ра
	ботает в компании\n-
	 Накидка гильдии Bandits Записаться 
	на событие и принять участие
DTSTART:20231226T070000Z
DTEND:20231226T070500Z
END:VEVENT
BEGIN:VEVENT
SUMMARY:Имперский город кампания с
	 Очками Героя (ic og)
DTSTAMP:20231225T090919Z
SEQUENCE:0
UID:12626-9-afb15bc42254ad5fb0481ce5e9c8144d@forum.bandits-clan.ru
ORGANIZER;CN="Bandit":web@bandits-clan.ru
DESCRIPTION:Требования:- Ал
	ьянс - Даггерфолл Ко
	венанта\n- Персонаж
	 от 10 уровня\n- Эки
	пировка\, которая ра
	ботает в компании\n-
	 Накидка гильдии Bandits Записаться 
	на событие и принять участие
DTSTART:20231226T070000Z
DTEND:20231226T070500Z
END:VEVENT
BEGIN:VEVENT
SUMMARY:Нормальное испытание Залы Фа
	брикации (nHOF)
DTSTAMP:20231225T090536Z
SEQUENCE:0
UID:12625-9-afb15bc42254ad5fb0481ce5e9c8144d@forum.bandits-clan.ru
ORGANIZER;CN="Bandit":web@bandits-clan.ru
DESCRIPTION:**Требования:**- 160 О
	чков Героя\n \nПланово
	е время рейда: 1 час\n123 Записатьс
	я на событие и принять участие
DTSTART:20231226T070000Z
DTEND:20231226T070500Z
END:VEVENT
BEGIN:VEVENT
SUMMARY:Ветеранское испытание Грань Б
	езумия (vSE)
DTSTAMP:20231223T124830Z
SEQUENCE:0
UID:12614-9-afb15bc42254ad5fb0481ce5e9c8144d@forum.bandits-clan.ru
ORGANIZER;CN="Bandit":web@bandits-clan.ru
DESCRIPTION:**Требования:**- Звание Veteran Band
	it\n- ДПС от 70 тыс.\n- Аддон Sanity's Edge Hel
	per\n- Глава Некром\n \nПла
	новое время рейда: 2 часа
	\n \n Записаться на событие и принять уча
	стие
DTSTART:20231225T070000Z
DTEND:20231225T070500Z
END:VEVENT
BEGIN:VEVENT
SUMMARY:Ветеранское испытание Цитад
	ель Хел Ра  (vHRC )
DTSTAMP:20231223T122457Z
SEQUENCE:0
UID:12613-9-afb15bc42254ad5fb0481ce5e9c8144d@forum.bandits-clan.ru
ORGANIZER;CN="Bandit":web@bandits-clan.ru
DESCRIPTION:Добавьте ваш
	е описание 123 Записаться на событ
	ие и принять участие
DTSTART:20231225T170000Z
DTEND:20231225T170500Z
END:VEVENT
BEGIN:VEVENT
SUMMARY:Нормальное испытание Этер
	ианский Архив (nAA)
DTSTAMP:20231223T102309Z
SEQUENCE:0
UID:12611-9-afb15bc42254ad5fb0481ce5e9c8144d@forum.bandits-clan.ru
ORGANIZER;CN="Bandit":web@bandits-clan.ru
DESCRIPTION:**Требования:**- 160 О
	чков Героя\n \nПл
	ановое время рейда: 1 час Запи
	саться на событие и принять участие
DTSTART:20231225T070000Z
DTEND:20231225T070500Z
END:VEVENT
BEGIN:VEVENT
SUMMARY:Нормальное испытание Цитадель 
	Хел Ра (nHRC)
DTSTAMP:20231223T093355Z
SEQUENCE:0
UID:12605-9-afb15bc42254ad5fb0481ce5e9c8144d@forum.bandits-clan.ru
ORGANIZER;CN="Bandit":web@bandits-clan.ru
DESCRIPTION:**Требования:**- 160 О
	чков Героя\n \nПл
	ановое время рейда: 1 час Запи
	саться на событие и принять участие
DTSTART:20231225T170000Z
DTEND:20231225T170500Z
END:VEVENT
BEGIN:VEVENT
SUMMARY:Нормальное испытание Цитадель 
	Хел Ра (nHRC)
DTSTAMP:20231223T082952Z
SEQUENCE:0
UID:12602-9-afb15bc42254ad5fb0481ce5e9c8144d@forum.bandits-clan.ru
ORGANIZER;CN="Bandit":web@bandits-clan.ru
DESCRIPTION:**Требования:**- 160 О
	чков Героя\n \nПл
	ановое время рейда: 1 час Запи
	саться на событие и принять участие
DTSTART:20231225T070000Z
DTEND:20231225T070500Z
END:VEVENT
BEGIN:VEVENT
SUMMARY:Нормальное испытание Этер
	ианский Архив (nAA)
DTSTAMP:20231214T192516Z
SEQUENCE:0
UID:12550-9-afb15bc42254ad5fb0481ce5e9c8144d@forum.bandits-clan.ru
ORGANIZER;CN="Bandit":web@bandits-clan.ru
DESCRIPTION:**Требования:**- 160 О
	чков Героя\n \nПл
	ановое время рейда: 1 час Запи
	саться на событие и принять участие
DTSTART:20231215T070000Z
DTEND:20231215T070500Z
END:VEVENT
BEGIN:VEVENT
SUMMARY:Нормальное испытание Этер
	ианский Архив (nAA)
DTSTAMP:20231209T090456Z
SEQUENCE:0
UID:12520-9-afb15bc42254ad5fb0481ce5e9c8144d@forum.bandits-clan.ru
ORGANIZER;CN="Bandit":web@bandits-clan.ru
DESCRIPTION:**Требования:**- 160 О
	чков Героя\n \nПл
	ановое время рейда: 1 час Запи
	саться на событие и принять участие
DTSTART:20231215T070000Z
DTEND:20231215T070500Z
END:VEVENT
BEGIN:VEVENT
SUMMARY:Ветеран
	ское испытание Солнечный шпиль Ус
	ложнение на двух боссах (vSSHM+2)
DTSTAMP:20231209T090239Z
SEQUENCE:0
UID:12519-9-afb15bc42254ad5fb0481ce5e9c8144d@forum.bandits-clan.ru
ORGANIZER;CN="Bandit":web@bandits-clan.ru
DESCRIPTION:**Требования:**- Звание Vet
	eran Bandit\n- Дополнение Э
	льсвейр или подписка\
	n \nПлановое время ре
	йда: 2 часа\n \n Записаться на событие
	 и принять участие
DTSTART:20231215T070000Z
DTEND:20231215T070500Z
END:VEVENT
BEGIN:VEVENT
SUMMARY:Ветеран
	ское испытание Грань Безумия Усложнен
	ие на двух боссах (vSEHM+2)
DTSTAMP:20231208T153248Z
SEQUENCE:0
UID:12513-9-afb15bc42254ad5fb0481ce5e9c8144d@forum.bandits-clan.ru
ORGANIZER;CN="Bandit":web@bandits-clan.ru
DESCRIPTION:**Требования:**- Звание Veteran 
	Bandit\n- Глава Некром\n \nПл
	ановое время рейда: 2 ч
	аса\n \n Записаться на событие и принять 
	участие
DTSTART:20231215T070000Z
DTEND:20231215T070500Z
END:VEVENT
END:VCALENDAR
